PDS_VERSION_ID = PDS3
/* FILE DATA ELEMENTS */
RECORD_TYPE = STREAM
/* POINTERS TO DATA OBJECTS */
^COMPRESSED_FILE = "H5279_0001_GR3.JP2"
/* IDENTIFICATION DATA ELEMENTS */
DATA_SET_ID = "MEX-M-HRSC-5-REFDR-MAPPROJECTED-V3.0"
DATA_SET_NAME = "MARS EXPRESS HRSC MAP PROJECTED REFDR V3.0"
DETECTOR_ID = MEX_HRSC_GREEN
EVENT_TYPE = "MARS-REGIONAL-MAPPING-Vo-Te"
INSTRUMENT_HOST_ID = MEX
INSTRUMENT_HOST_NAME = "MARS EXPRESS"
INSTRUMENT_ID = HRSC
INSTRUMENT_NAME = "HIGH RESOLUTION STEREO CAMERA"
MISSION_NAME = "MARS EXPRESS"
MISSION_PHASE_NAME = ME_Phase_11
PROCESSING_LEVEL_ID = 3
PRODUCT_CREATION_TIME = 2016-05-13T12:18:58.000Z
PRODUCT_ID = "H5279_0001_GR3.JP2"
RELEASE_ID = 0060
REVISION_ID = 0000
/* QUALITY DATA ELEMENTS */
DATA_QUALITY_ID = 1
DATA_QUALITY_DESC = "Data calculated based on original SPICE kernels"
/* TIME DATA ELEMENTS */
SPACECRAFT_CLOCK_START_COUNT = "1/0150774588.08243"
SPACECRAFT_CLOCK_STOP_COUNT = "1/0150774795.52784"
START_TIME = 2008-02-11T01:50:27.586Z
STOP_TIME = 2008-02-11T01:52:05.012Z
/* ORBITAL DATA ELEMENTS */
ASCENDING_NODE_LONGITUDE = 118.34
MAXIMUM_RESOLUTION = 150.9
FOOTPRINT_POINT_LATITUDE = (3.28718,3.289,3.29081,3.29388,3.2958, 3.29749,3.29913,3.30075,3.30233,3.3039, 3.30614,3.15362,2.93901,2.72411,2.50947 ,2.29509,2.13105,1.91238,1.69401, 1.47591,1.36468,1.25343,1.03118, 0.809201,0.641718,0.528602,0.415566, 0.302614,0.189737,0.07693,-0.0357985, -0.208027,-0.322904,-0.437691,-0.552394 ,-0.667021,-0.781558,-0.898266,-1.07328 ,-1.18983,-1.30632,-1.42272,-1.54032, -1.65887,-1.77729,-1.89557,-2.01382, -2.13198,-2.31164,-2.52641,-2.52941, -2.53116,-2.53392,-2.53576,-2.5382, -2.54067,-2.54433,-2.54647,-2.54898, -2.55177,-2.55372,-2.43225,-2.31167, -2.19136,-2.07309,-1.95474,-1.83639, -1.7179,-1.5992,-1.48087,-1.306, -1.18943,-1.01434,-0.897529,-0.781224, -0.666542,-0.551766,-0.436896,-0.321953 ,-0.206925,-0.0350219,0.0778518, 0.190809,0.303825,0.416923,0.530112, 0.699525,0.921657,1.14408,1.2554, 1.47762,1.69599,1.91463,2.13354,2.29724 ,2.51187,2.72677,2.94191,3.26158, 3.28718)
FOOTPRINT_POINT_LONGITUDE = (257.823,257.698,257.573,257.355, 257.214,257.09,256.966,256.842,256.719, 256.595,256.41,256.313,256.306,256.3, 256.294,256.287,256.282,256.275,256.269 ,256.262,256.258,256.255,256.248,256.24 ,256.235,256.231,256.228,256.224,256.22 ,256.216,256.212,256.207,256.203, 256.199,256.195,256.191,256.187,256.183 ,256.177,256.173,256.169,256.164,256.16 ,256.156,256.152,256.147,256.143, 256.139,256.132,256.157,256.35,256.473, 256.649,256.772,256.931,257.09,257.32, 257.461,257.621,257.799,257.924,258.006 ,258.004,258.003,258.001,258.0,257.999, 257.997,257.996,257.995,257.992,257.991 ,257.989,257.988,257.987,257.986, 257.985,257.983,257.982,257.981,257.979 ,257.978,257.977,257.976,257.974, 257.973,257.971,257.969,257.967,257.966 ,257.964,257.962,257.96,257.958,257.956 ,257.954,257.953,257.951,257.948, 257.823)
ORBIT_NUMBER = 5279
ORBITAL_ECCENTRICITY = 0.573
ORBITAL_INCLINATION = 86.73
ORBITAL_SEMIMAJOR_AXIS = 8715.41
PERIAPSIS_ALTITUDE = 333.12
PERIAPSIS_ARGUMENT_ANGLE = 149.6
PERIAPSIS_TIME = 2008-02-11T01:43:29.000Z
SPACECRAFT_ORIENTATION = (0.0,-1.0,0.0)
^MEX_ORIENTATION_DESC = "MEX_ORIENTATION_DESC.TXT"
SPACECRAFT_POINTING_MODE = ACROSSTRACK
^MEX_POINTING_DESC = "MEX_POINTING_DESC.TXT"
RIGHT_ASCENSION = -1e+32
DECLINATION = -1e+32
OFFSET_ANGLE = 0.3
SPACECRAFT_SOLAR_DISTANCE = 2.43129e+08
TARGET_NAME = MARS
/* CAMERA DATA ELEMENTS */
DETECTOR_TEMPERATURE = 20.4095
FOCAL_PLANE_TEMPERATURE = 8.3794
INST_CMPRS_NAME = "DISCRETE COSINE TRANSFORMATION (DCT)"
INST_CMPRS_RATIO = 18.2782
INST_CMPRS_QUALITY = 0
INST_CMPRS_QUANTZ_TBL_ID = 0
INSTRUMENT_TEMPERATURE = 12.6613
LENS_TEMPERATURE = 8.7872
MACROPIXEL_SIZE = 8
MISSING_FRAMES = 0
PIXEL_SUBSAMPLING_FLAG = N
SIGNAL_CHAIN_ID = 2
/* RADIOMETRIC DATA ELEMENTS */
BANDWIDTH = 88.0
CENTER_FILTER_WAVELENGTH = 538.0
RADIANCE_OFFSET = 1.33954
RADIANCE_SCALING_FACTOR = 0.00597271
REFLECTANCE_SCALING_FACTOR = 0.000303974
MEX:REFLECTANCE_OFFSET = 0.0681744
/* IMAGE OBJECT DEFINITIONS */
OBJECT = IMAGE
  INTERCHANGE_FORMAT = BINARY
  LINES = 1739
  LINE_SAMPLES = 607
  SAMPLE_TYPE = UNSIGNED_INTEGER
  SAMPLE_BITS = 8
  BANDS = 1
  BAND_STORAGE_TYPE = BAND_SEQUENTIAL
  MAXIMUM = 253
  MEAN = 150.068
  MINIMUM = 2
  STANDARD_DEVIATION = 19.7446
END_OBJECT = IMAGE
/* MAP OBJECT DEFINITIONS */
OBJECT = IMAGE_MAP_PROJECTION
  ^DATA_SET_MAP_PROJECTION_CATALOG= "DSMAP.CAT"
  A_AXIS_RADIUS = 3396.0
  B_AXIS_RADIUS = 3396.0
  C_AXIS_RADIUS = 3396.0
  CENTER_LATITUDE = 0.0
  CENTER_LONGITUDE = 257.0
  COORDINATE_SYSTEM_NAME = PLANETOGRAPHIC
  COORDINATE_SYSTEM_TYPE = "BODY-FIXED ROTATING"
  EASTERNMOST_LONGITUDE = 258.006
  FIRST_STANDARD_PARALLEL = "N/A"
  LINE_FIRST_PIXEL = 1
  LINE_LAST_PIXEL = 1739
  LINE_PROJECTION_OFFSET = 979.0625
  MAP_PROJECTION_ROTATION = 0.0
  MAP_PROJECTION_TYPE = SINUSOIDAL
  MAP_RESOLUTION = 296.356901933333
  MAP_SCALE = 0.2
  MAXIMUM_LATITUDE = 3.30614
  MINIMUM_LATITUDE = -2.55372
  POSITIVE_LONGITUDE_DIRECTION = EAST
  REFERENCE_LATITUDE = "N/A"
  REFERENCE_LONGITUDE = "N/A"
  SAMPLE_FIRST_PIXEL = 1
  SAMPLE_LAST_PIXEL = 607
  SAMPLE_PROJECTION_OFFSET = 280.6875
  SECOND_STANDARD_PARALLEL = "N/A"
  WESTERNMOST_LONGITUDE = 256.132
END_OBJECT = IMAGE_MAP_PROJECTION
/* The JPEG2000 image data file associated with this label. */
OBJECT = COMPRESSED_FILE
  FILE_NAME = "H5279_0001_GR3.JP2"
  RECORD_TYPE = UNDEFINED
  FILE_RECORDS = UNK
  ENCODING_TYPE = "JP2"
  INTERCHANGE_FORMAT = BINARY
  UNCOMPRESSED_FILE_NAME = "H5279_0001_GR3.IMG"
  REQUIRED_STORAGE_BYTES = "1073176"
  ^DESCRIPTION = "JP2INFO.TXT"
END_OBJECT = COMPRESSED_FILE
END
