PDS_VERSION_ID = PDS3
/* FILE DATA ELEMENTS */
RECORD_TYPE = STREAM
/* POINTERS TO DATA OBJECTS */
^COMPRESSED_FILE = "H5281_0000_ND3.JP2"
/* IDENTIFICATION DATA ELEMENTS */
DATA_SET_ID = "MEX-M-HRSC-5-REFDR-MAPPROJECTED-V3.0"
DATA_SET_NAME = "MARS EXPRESS HRSC MAP PROJECTED REFDR V3.0"
DETECTOR_ID = MEX_HRSC_NADIR
EVENT_TYPE = "MARS-REGIONAL-MAPPING-Te-Gl-Mw"
INSTRUMENT_HOST_ID = MEX
INSTRUMENT_HOST_NAME = "MARS EXPRESS"
INSTRUMENT_ID = HRSC
INSTRUMENT_NAME = "HIGH RESOLUTION STEREO CAMERA"
MISSION_NAME = "MARS EXPRESS"
MISSION_PHASE_NAME = ME_Phase_11
PROCESSING_LEVEL_ID = 3
PRODUCT_CREATION_TIME = 2016-05-13T12:18:58.000Z
PRODUCT_ID = "H5281_0000_ND3.JP2"
RELEASE_ID = 0060
REVISION_ID = 0000
/* QUALITY DATA ELEMENTS */
DATA_QUALITY_ID = 2
DATA_QUALITY_DESC = "Data calculated based on photogrammetrically improved orbit and attitude data"
/* TIME DATA ELEMENTS */
SPACECRAFT_CLOCK_START_COUNT = "1/0150823137.07294"
SPACECRAFT_CLOCK_STOP_COUNT = "1/0150823473.48009"
START_TIME = 2008-02-11T15:19:41.652Z
STOP_TIME = 2008-02-11T15:24:05.649Z
/* ORBITAL DATA ELEMENTS */
ASCENDING_NODE_LONGITUDE = 118.3
MAXIMUM_RESOLUTION = 13.4
FOOTPRINT_POINT_LATITUDE = (49.4187,49.3975,49.1795,48.8013, 48.4287,48.0556,47.6819,47.3075,46.9327 ,46.5572,46.1813,45.8048,45.4278, 45.0503,44.6723,44.2938,43.9148,43.5354 ,42.9767,42.658,42.3389,42.0196,41.5401 ,41.0599,40.7396,40.419,40.0981,39.6163 ,39.295,38.9733,38.6513,38.3293,38.007, 37.6846,37.362,36.8779,36.5549,36.2318, 35.9084,35.5849,35.2614,34.942,34.6287, 34.3153,34.0018,33.5314,33.2177,32.747, 32.4331,32.4211,32.4267,32.9003,33.2146 ,33.5287,33.8429,34.3139,34.6279, 34.9417,35.261,35.5851,35.9093,36.2332, 36.557,36.8806,37.204,37.5274,37.8506, 38.1735,38.4964,38.8191,39.1416,39.4638 ,39.7859,40.1078,40.4294,40.7508,41.072 ,41.393,41.7137,42.0342,42.3544,42.6743 ,42.994,43.5505,43.9311,44.3113,44.691, 45.0702,45.449,45.8274,46.2052,46.5826, 46.9595,47.3359,47.7117,48.087,48.4618, 48.836,49.2152,49.4187)
FOOTPRINT_POINT_LONGITUDE = (56.888,56.058,55.2139,55.254,55.2922, 55.3294,55.3656,55.4013,55.4356,55.469, 55.5009,55.5331,55.5636,55.5937,55.6224 ,55.6509,55.6786,55.7053,55.743,55.7642 ,55.7852,55.8043,55.8348,55.863,55.8785 ,55.8968,55.9129,55.9403,55.9534, 55.9693,55.9872,56.0004,56.0163,56.0294 ,56.0438,56.0596,56.0719,56.0843, 56.0986,56.1102,56.1206,56.1323,56.1424 ,56.1519,56.1612,56.1747,56.1818,56.196 ,56.2039,56.7345,57.2956,57.5893, 57.5875,57.5858,57.5842,57.5814,57.5796 ,57.5781,57.5756,57.5738,57.5771, 57.5767,57.5745,57.5717,57.568,57.5671, 57.5646,57.5617,57.561,57.5586,57.5564, 57.5537,57.5512,57.5483,57.5448,57.5427 ,57.5398,57.5368,57.5332,57.5306,57.527 ,57.5225,57.52,57.5146,57.5101,57.5057, 57.501,57.4958,57.4918,57.4869,57.4817, 57.4767,57.4713,57.4657,57.4602,57.4546 ,57.4486,57.4421,57.4354,56.888)
ORBIT_NUMBER = 5281
ORBITAL_ECCENTRICITY = 0.572
ORBITAL_INCLINATION = 86.74
ORBITAL_SEMIMAJOR_AXIS = 8709.14
PERIAPSIS_ALTITUDE = 333.45
PERIAPSIS_ARGUMENT_ANGLE = 149.28
PERIAPSIS_TIME = 2008-02-11T15:24:32.000Z
SPACECRAFT_ORIENTATION = (0.0,-1.0,0.0)
^MEX_ORIENTATION_DESC = "MEX_ORIENTATION_DESC.TXT"
SPACECRAFT_POINTING_MODE = ACROSSTRACK
^MEX_POINTING_DESC = "MEX_POINTING_DESC.TXT"
RIGHT_ASCENSION = -1e+32
DECLINATION = -1e+32
OFFSET_ANGLE = 0.188
SPACECRAFT_SOLAR_DISTANCE = 2.43202e+08
TARGET_NAME = MARS
/* CAMERA DATA ELEMENTS */
DETECTOR_TEMPERATURE = 17.9627
FOCAL_PLANE_TEMPERATURE = 7.3599
INST_CMPRS_NAME = "DISCRETE COSINE TRANSFORMATION (DCT)"
INST_CMPRS_RATIO = 5.82668
INST_CMPRS_QUALITY = 0
INST_CMPRS_QUANTZ_TBL_ID = 0
INSTRUMENT_TEMPERATURE = 11.0301
LENS_TEMPERATURE = 8.1755
MACROPIXEL_SIZE = 1
MISSING_FRAMES = 0
PIXEL_SUBSAMPLING_FLAG = N
SIGNAL_CHAIN_ID = 0
/* RADIOMETRIC DATA ELEMENTS */
BANDWIDTH = 177.0
CENTER_FILTER_WAVELENGTH = 677.5
RADIANCE_OFFSET = 2.55222
RADIANCE_SCALING_FACTOR = 0.0251012
REFLECTANCE_SCALING_FACTOR = 0.000788699
MEX:REFLECTANCE_OFFSET = 0.0801927
/* IMAGE OBJECT DEFINITIONS */
OBJECT = IMAGE
  INTERCHANGE_FORMAT = BINARY
  LINES = 80686
  LINE_SAMPLES = 8101
  SAMPLE_TYPE = UNSIGNED_INTEGER
  SAMPLE_BITS = 8
  BANDS = 1
  BAND_STORAGE_TYPE = BAND_SEQUENTIAL
  MAXIMUM = 255
  MEAN = 134.844
  MINIMUM = 1
  STANDARD_DEVIATION = 32.7246
END_OBJECT = IMAGE
/* MAP OBJECT DEFINITIONS */
OBJECT = IMAGE_MAP_PROJECTION
  ^DATA_SET_MAP_PROJECTION_CATALOG= "DSMAP.CAT"
  A_AXIS_RADIUS = 3396.0
  B_AXIS_RADIUS = 3396.0
  C_AXIS_RADIUS = 3396.0
  CENTER_LATITUDE = 0.0
  CENTER_LONGITUDE = 57.0
  COORDINATE_SYSTEM_NAME = PLANETOGRAPHIC
  COORDINATE_SYSTEM_TYPE = "BODY-FIXED ROTATING"
  EASTERNMOST_LONGITUDE = 57.5893
  FIRST_STANDARD_PARALLEL = "N/A"
  LINE_FIRST_PIXEL = 1
  LINE_LAST_PIXEL = 80686
  LINE_PROJECTION_OFFSET = 234391.0
  MAP_PROJECTION_ROTATION = 0.0
  MAP_PROJECTION_TYPE = SINUSOIDAL
  MAP_RESOLUTION = 4741.71043093333
  MAP_SCALE = 0.0125
  MAXIMUM_LATITUDE = 49.4187
  MINIMUM_LATITUDE = 32.4211
  POSITIVE_LONGITUDE_DIRECTION = EAST
  REFERENCE_LATITUDE = "N/A"
  REFERENCE_LONGITUDE = "N/A"
  SAMPLE_FIRST_PIXEL = 1
  SAMPLE_LAST_PIXEL = 8101
  SAMPLE_PROJECTION_OFFSET = 5539.0
  SECOND_STANDARD_PARALLEL = "N/A"
  WESTERNMOST_LONGITUDE = 55.2139
END_OBJECT = IMAGE_MAP_PROJECTION
/* The JPEG2000 image data file associated with this label. */
OBJECT = COMPRESSED_FILE
  FILE_NAME = "H5281_0000_ND3.JP2"
  RECORD_TYPE = UNDEFINED
  FILE_RECORDS = UNK
  ENCODING_TYPE = "JP2"
  INTERCHANGE_FORMAT = BINARY
  UNCOMPRESSED_FILE_NAME = "H5281_0000_ND3.IMG"
  REQUIRED_STORAGE_BYTES = "653669690"
  ^DESCRIPTION = "JP2INFO.TXT"
END_OBJECT = COMPRESSED_FILE
END
