PDS_VERSION_ID = PDS3
/* FILE DATA ELEMENTS */
RECORD_TYPE = STREAM
/* POINTERS TO DATA OBJECTS */
^COMPRESSED_FILE = "H5283_0000_P13.JP2"
/* IDENTIFICATION DATA ELEMENTS */
DATA_SET_ID = "MEX-M-HRSC-5-REFDR-MAPPROJECTED-V3.0"
DATA_SET_NAME = "MARS EXPRESS HRSC MAP PROJECTED REFDR V3.0"
DETECTOR_ID = MEX_HRSC_P1
EVENT_TYPE = "MARS-REGIONAL-MAPPING-Vo-Te-Mw"
INSTRUMENT_HOST_ID = MEX
INSTRUMENT_HOST_NAME = "MARS EXPRESS"
INSTRUMENT_ID = HRSC
INSTRUMENT_NAME = "HIGH RESOLUTION STEREO CAMERA"
MISSION_NAME = "MARS EXPRESS"
MISSION_PHASE_NAME = ME_Phase_11
PROCESSING_LEVEL_ID = 3
PRODUCT_CREATION_TIME = 2016-05-13T12:18:58.000Z
PRODUCT_ID = "H5283_0000_P13.JP2"
RELEASE_ID = 0060
REVISION_ID = 0000
/* QUALITY DATA ELEMENTS */
DATA_QUALITY_ID = 1
DATA_QUALITY_DESC = "Data calculated based on original SPICE kernels"
/* TIME DATA ELEMENTS */
SPACECRAFT_CLOCK_START_COUNT = "1/0150872745.07296"
SPACECRAFT_CLOCK_STOP_COUNT = "1/0150873083.55955"
START_TIME = 2008-02-12T05:05:59.069Z
STOP_TIME = 2008-02-12T05:10:20.051Z
/* ORBITAL DATA ELEMENTS */
ASCENDING_NODE_LONGITUDE = 118.26
MAXIMUM_RESOLUTION = 55.1
FOOTPRINT_POINT_LATITUDE = (27.9293,27.9315,27.9323,27.5757, 27.2451,26.9122,26.5806,26.0841,25.7513 ,25.2537,24.9221,24.5901,24.2579, 23.9221,23.5793,23.2345,22.8921,22.5487 ,22.0342,21.5179,21.1774,20.8348, 20.4898,20.1479,19.8045,19.2902,19.117, 18.774,18.4295,18.0834,17.7412,17.2283, 16.886,16.5443,16.2032,15.8593,15.5163, 15.0051,14.664,14.1531,13.8124,13.3013, 12.9603,12.4494,11.9395,11.4304,11.0904 ,10.8531,10.8504,10.8457,10.8422, 10.8373,10.8336,11.3428,11.6826,12.0223 ,12.3629,12.7035,13.2148,13.727,14.2382 ,14.5798,14.9195,15.2633,15.604,15.9471 ,16.2882,16.6307,16.9724,17.3147, 17.6563,17.8295,18.0026,18.1771,18.5176 ,18.8613,19.2048,19.551,19.8933,20.4087 ,20.7525,21.0947,21.4396,21.7828,22.124 ,22.4677,22.8122,23.1561,23.5007, 24.0168,24.5164,24.8483,25.3463,25.678, 26.177,26.5092,27.0076,27.341,27.672, 27.9293)
FOOTPRINT_POINT_LONGITUDE = (217.242,216.853,216.466,216.317, 216.321,216.324,216.327,216.332,216.334 ,216.337,216.34,216.341,216.343,216.344 ,216.345,216.346,216.347,216.347, 216.348,216.347,216.347,216.347,216.346 ,216.345,216.343,216.341,216.34,216.338 ,216.335,216.332,216.33,216.326,216.323 ,216.32,216.317,216.313,216.309,216.303 ,216.299,216.293,216.288,216.281, 216.276,216.268,216.259,216.251,216.244 ,216.346,216.626,216.948,217.15,217.433 ,217.681,217.679,217.677,217.676, 217.674,217.673,217.671,217.669,217.668 ,217.667,217.667,217.665,217.665, 217.663,217.663,217.662,217.662,217.662 ,217.662,217.66,217.659,217.656,217.657 ,217.656,217.655,217.653,217.653, 217.652,217.651,217.652,217.65,217.65, 217.651,217.651,217.65,217.649,217.648, 217.647,217.646,217.646,217.645,217.645 ,217.644,217.644,217.643,217.641, 217.641,217.242)
ORBIT_NUMBER = 5283
ORBITAL_ECCENTRICITY = 0.572
ORBITAL_INCLINATION = 86.74
ORBITAL_SEMIMAJOR_AXIS = 8705.56
PERIAPSIS_ALTITUDE = 333.69
PERIAPSIS_ARGUMENT_ANGLE = 148.9
PERIAPSIS_TIME = 2008-02-12T05:05:30.000Z
SPACECRAFT_ORIENTATION = (0.0,-1.0,0.0)
^MEX_ORIENTATION_DESC = "MEX_ORIENTATION_DESC.TXT"
SPACECRAFT_POINTING_MODE = ACROSSTRACK
^MEX_POINTING_DESC = "MEX_POINTING_DESC.TXT"
RIGHT_ASCENSION = -1e+32
DECLINATION = -1e+32
OFFSET_ANGLE = 0.3
SPACECRAFT_SOLAR_DISTANCE = 2.43274e+08
TARGET_NAME = MARS
/* CAMERA DATA ELEMENTS */
DETECTOR_TEMPERATURE = 15.7198
FOCAL_PLANE_TEMPERATURE = 7.7677
INST_CMPRS_NAME = "DISCRETE COSINE TRANSFORMATION (DCT)"
INST_CMPRS_RATIO = 7.98168
INST_CMPRS_QUALITY = 0
INST_CMPRS_QUANTZ_TBL_ID = 0
INSTRUMENT_TEMPERATURE = 11.234
LENS_TEMPERATURE = 8.3794
MACROPIXEL_SIZE = 4
MISSING_FRAMES = 0
PIXEL_SUBSAMPLING_FLAG = N
SIGNAL_CHAIN_ID = 3
/* RADIOMETRIC DATA ELEMENTS */
BANDWIDTH = 174.0
CENTER_FILTER_WAVELENGTH = 675.0
RADIANCE_OFFSET = 3.85136
RADIANCE_SCALING_FACTOR = 0.0244858
REFLECTANCE_SCALING_FACTOR = 0.000779455
MEX:REFLECTANCE_OFFSET = 0.1226
/* IMAGE OBJECT DEFINITIONS */
OBJECT = IMAGE
  INTERCHANGE_FORMAT = BINARY
  LINES = 20232
  LINE_SAMPLES = 1818
  SAMPLE_TYPE = UNSIGNED_INTEGER
  SAMPLE_BITS = 8
  BANDS = 1
  BAND_STORAGE_TYPE = BAND_SEQUENTIAL
  MAXIMUM = 255
  MEAN = 164.578
  MINIMUM = 1
  STANDARD_DEVIATION = 21.2093
END_OBJECT = IMAGE
/* MAP OBJECT DEFINITIONS */
OBJECT = IMAGE_MAP_PROJECTION
  ^DATA_SET_MAP_PROJECTION_CATALOG= "DSMAP.CAT"
  A_AXIS_RADIUS = 3396.0
  B_AXIS_RADIUS = 3396.0
  C_AXIS_RADIUS = 3396.0
  CENTER_LATITUDE = 0.0
  CENTER_LONGITUDE = 217.0
  COORDINATE_SYSTEM_NAME = PLANETOGRAPHIC
  COORDINATE_SYSTEM_TYPE = "BODY-FIXED ROTATING"
  EASTERNMOST_LONGITUDE = 217.681
  FIRST_STANDARD_PARALLEL = "N/A"
  LINE_FIRST_PIXEL = 1
  LINE_LAST_PIXEL = 20232
  LINE_PROJECTION_OFFSET = 33102.375
  MAP_PROJECTION_ROTATION = 0.0
  MAP_PROJECTION_TYPE = SINUSOIDAL
  MAP_RESOLUTION = 1185.42760773333
  MAP_SCALE = 0.05
  MAXIMUM_LATITUDE = 27.9323
  MINIMUM_LATITUDE = 10.8336
  POSITIVE_LONGITUDE_DIRECTION = EAST
  REFERENCE_LATITUDE = "N/A"
  REFERENCE_LONGITUDE = "N/A"
  SAMPLE_FIRST_PIXEL = 1
  SAMPLE_LAST_PIXEL = 1818
  SAMPLE_PROJECTION_OFFSET = 940.875
  SECOND_STANDARD_PARALLEL = "N/A"
  WESTERNMOST_LONGITUDE = 216.244
END_OBJECT = IMAGE_MAP_PROJECTION
/* The JPEG2000 image data file associated with this label. */
OBJECT = COMPRESSED_FILE
  FILE_NAME = "H5283_0000_P13.JP2"
  RECORD_TYPE = UNDEFINED
  FILE_RECORDS = UNK
  ENCODING_TYPE = "JP2"
  INTERCHANGE_FORMAT = BINARY
  UNCOMPRESSED_FILE_NAME = "H5283_0000_P13.IMG"
  REQUIRED_STORAGE_BYTES = "36801774"
  ^DESCRIPTION = "JP2INFO.TXT"
END_OBJECT = COMPRESSED_FILE
END
