PDS_VERSION_ID = PDS3
/* FILE DATA ELEMENTS */
RECORD_TYPE = STREAM
/* POINTERS TO DATA OBJECTS */
^COMPRESSED_FILE = "H5285_0000_P23.JP2"
/* IDENTIFICATION DATA ELEMENTS */
DATA_SET_ID = "MEX-M-HRSC-5-REFDR-MAPPROJECTED-V3.0"
DATA_SET_NAME = "MARS EXPRESS HRSC MAP PROJECTED REFDR V3.0"
DETECTOR_ID = MEX_HRSC_P2
EVENT_TYPE = "MARS-REGIONAL-MAPPING-Te-Gl-Pf"
INSTRUMENT_HOST_ID = MEX
INSTRUMENT_HOST_NAME = "MARS EXPRESS"
INSTRUMENT_ID = HRSC
INSTRUMENT_NAME = "HIGH RESOLUTION STEREO CAMERA"
MISSION_NAME = "MARS EXPRESS"
MISSION_PHASE_NAME = ME_Phase_11
PROCESSING_LEVEL_ID = 3
PRODUCT_CREATION_TIME = 2016-05-13T12:18:58.000Z
PRODUCT_ID = "H5285_0000_P23.JP2"
RELEASE_ID = 0060
REVISION_ID = 0000
/* QUALITY DATA ELEMENTS */
DATA_QUALITY_ID = 2
DATA_QUALITY_DESC = "Data calculated based on photogrammetrically improved orbit and attitude data"
/* TIME DATA ELEMENTS */
SPACECRAFT_CLOCK_START_COUNT = "1/0150921714.09073"
SPACECRAFT_CLOCK_STOP_COUNT = "1/0150922103.48552"
START_TIME = 2008-02-12T18:42:58.847Z
STOP_TIME = 2008-02-12T18:48:14.814Z
/* ORBITAL DATA ELEMENTS */
ASCENDING_NODE_LONGITUDE = 118.22
MAXIMUM_RESOLUTION = 27.7
FOOTPRINT_POINT_LATITUDE = (47.1432,47.131,47.1166,46.9188,46.4297 ,45.9395,45.6933,45.4479,44.9593, 44.5481,44.1352,43.7233,43.3124,42.899, 42.486,42.076,41.6623,41.0451,40.4233, 40.0079,39.3886,38.9756,38.5629,38.1498 ,37.737,37.3247,36.7095,36.1024,35.7035 ,35.3041,34.7079,34.3076,33.7116, 33.3113,32.9124,32.5151,32.1211,31.5248 ,31.1259,30.5328,30.1372,29.7421, 29.3472,28.7556,28.1648,27.5728,26.9771 ,26.5723,26.5387,26.5353,26.9419, 27.3429,27.7366,28.1307,28.525,28.9202, 29.3153,29.7108,30.1072,30.7011,31.0975 ,31.6948,32.0932,32.6889,33.0873, 33.4919,33.8907,34.2838,34.8853,35.2857 ,35.6826,36.0833,36.4843,36.8923,37.306 ,37.724,38.1328,38.7556,39.1717,39.583, 39.9967,40.6171,41.2404,41.6566,42.2764 ,42.6918,43.1046,43.5187,44.1381, 44.5519,44.9642,45.4463,45.6926,45.939, 46.186,46.4317,46.6775,46.923,47.1687, 47.1432)
FOOTPRINT_POINT_LONGITUDE = (16.0987,15.5063,14.9108,14.4957, 14.5436,14.5906,14.6144,14.6368,14.6811 ,14.7161,14.7517,14.785,14.8161,14.8486 ,14.8796,14.9067,14.9362,14.9757, 15.0172,15.0445,15.0805,15.1037,15.1258 ,15.1475,15.1683,15.1881,15.2136, 15.2436,15.2603,15.2769,15.2986,15.3148 ,15.3348,15.35,15.3637,15.3758,15.3849, 15.4023,15.4146,15.4285,15.4376,15.4462 ,15.4543,15.4658,15.4763,15.4874, 15.4962,15.5014,16.1967,16.8501,16.846, 16.8417,16.8374,16.833,16.8285,16.8241, 16.8194,16.8147,16.81,16.8024,16.7973, 16.79,16.785,16.7765,16.771,16.7671, 16.7614,16.7538,16.7455,16.7396,16.7324 ,16.7262,16.7199,16.7124,16.7053, 16.6992,16.6903,16.6793,16.672,16.663, 16.6546,16.6415,16.6289,16.6204,16.6058 ,16.5966,16.5863,16.5761,16.5599, 16.5491,16.5376,16.5236,16.5165,16.5094 ,16.5024,16.4948,16.4872,16.4794, 16.4716,16.0987)
ORBIT_NUMBER = 5285
ORBITAL_ECCENTRICITY = 0.572
ORBITAL_INCLINATION = 86.72
ORBITAL_SEMIMAJOR_AXIS = 8704.76
PERIAPSIS_ALTITUDE = 334.26
PERIAPSIS_ARGUMENT_ANGLE = 148.56
PERIAPSIS_TIME = 2008-02-12T18:46:40.000Z
SPACECRAFT_ORIENTATION = (0.0,-1.0,0.0)
^MEX_ORIENTATION_DESC = "MEX_ORIENTATION_DESC.TXT"
SPACECRAFT_POINTING_MODE = ACROSSTRACK
^MEX_POINTING_DESC = "MEX_POINTING_DESC.TXT"
RIGHT_ASCENSION = -1e+32
DECLINATION = -1e+32
OFFSET_ANGLE = -0.25
SPACECRAFT_SOLAR_DISTANCE = 2.43346e+08
TARGET_NAME = MARS
/* CAMERA DATA ELEMENTS */
DETECTOR_TEMPERATURE = 18.5744
FOCAL_PLANE_TEMPERATURE = 8.3794
INST_CMPRS_NAME = "DISCRETE COSINE TRANSFORMATION (DCT)"
INST_CMPRS_RATIO = 6.89613
INST_CMPRS_QUALITY = 0
INST_CMPRS_QUANTZ_TBL_ID = 0
INSTRUMENT_TEMPERATURE = 11.0301
LENS_TEMPERATURE = 8.7872
MACROPIXEL_SIZE = 2
MISSING_FRAMES = 0
PIXEL_SUBSAMPLING_FLAG = N
SIGNAL_CHAIN_ID = 3
/* RADIOMETRIC DATA ELEMENTS */
BANDWIDTH = 177.0
CENTER_FILTER_WAVELENGTH = 676.5
RADIANCE_OFFSET = 3.56868
RADIANCE_SCALING_FACTOR = 0.0231381
REFLECTANCE_SCALING_FACTOR = 0.000726494
MEX:REFLECTANCE_OFFSET = 0.11205
/* IMAGE OBJECT DEFINITIONS */
OBJECT = IMAGE
  INTERCHANGE_FORMAT = BINARY
  LINES = 49032
  LINE_SAMPLES = 4348
  SAMPLE_TYPE = UNSIGNED_INTEGER
  SAMPLE_BITS = 8
  BANDS = 1
  BAND_STORAGE_TYPE = BAND_SEQUENTIAL
  MAXIMUM = 255
  MEAN = 136.301
  MINIMUM = 1
  STANDARD_DEVIATION = 32.5955
END_OBJECT = IMAGE
/* MAP OBJECT DEFINITIONS */
OBJECT = IMAGE_MAP_PROJECTION
  ^DATA_SET_MAP_PROJECTION_CATALOG= "DSMAP.CAT"
  A_AXIS_RADIUS = 3396.0
  B_AXIS_RADIUS = 3396.0
  C_AXIS_RADIUS = 3396.0
  CENTER_LATITUDE = 0.0
  CENTER_LONGITUDE = 16.0
  COORDINATE_SYSTEM_NAME = PLANETOGRAPHIC
  COORDINATE_SYSTEM_TYPE = "BODY-FIXED ROTATING"
  EASTERNMOST_LONGITUDE = 16.8501
  FIRST_STANDARD_PARALLEL = "N/A"
  LINE_FIRST_PIXEL = 1
  LINE_LAST_PIXEL = 49032
  LINE_PROJECTION_OFFSET = 111903.25
  MAP_PROJECTION_ROTATION = 0.0
  MAP_PROJECTION_TYPE = SINUSOIDAL
  MAP_RESOLUTION = 2370.85521546667
  MAP_SCALE = 0.025
  MAXIMUM_LATITUDE = 47.1687
  MINIMUM_LATITUDE = 26.5353
  POSITIVE_LONGITUDE_DIRECTION = EAST
  REFERENCE_LATITUDE = "N/A"
  REFERENCE_LONGITUDE = "N/A"
  SAMPLE_FIRST_PIXEL = 1
  SAMPLE_LAST_PIXEL = 4348
  SAMPLE_PROJECTION_OFFSET = 2517.75
  SECOND_STANDARD_PARALLEL = "N/A"
  WESTERNMOST_LONGITUDE = 14.4957
END_OBJECT = IMAGE_MAP_PROJECTION
/* The JPEG2000 image data file associated with this label. */
OBJECT = COMPRESSED_FILE
  FILE_NAME = "H5285_0000_P23.JP2"
  RECORD_TYPE = UNDEFINED
  FILE_RECORDS = UNK
  ENCODING_TYPE = "JP2"
  INTERCHANGE_FORMAT = BINARY
  UNCOMPRESSED_FILE_NAME = "H5285_0000_P23.IMG"
  REQUIRED_STORAGE_BYTES = "213217224"
  ^DESCRIPTION = "JP2INFO.TXT"
END_OBJECT = COMPRESSED_FILE
END
