PDS_VERSION_ID = PDS3
/* FILE DATA ELEMENTS */
RECORD_TYPE = STREAM
/* POINTERS TO DATA OBJECTS */
^COMPRESSED_FILE = "H5285_0001_BL3.JP2"
/* IDENTIFICATION DATA ELEMENTS */
DATA_SET_ID = "MEX-M-HRSC-5-REFDR-MAPPROJECTED-V3.0"
DATA_SET_NAME = "MARS EXPRESS HRSC MAP PROJECTED REFDR V3.0"
DETECTOR_ID = MEX_HRSC_BLUE
EVENT_TYPE = "MARS-REGIONAL-MAPPING-Im-Fl"
INSTRUMENT_HOST_ID = MEX
INSTRUMENT_HOST_NAME = "MARS EXPRESS"
INSTRUMENT_ID = HRSC
INSTRUMENT_NAME = "HIGH RESOLUTION STEREO CAMERA"
MISSION_NAME = "MARS EXPRESS"
MISSION_PHASE_NAME = ME_Phase_11
PROCESSING_LEVEL_ID = 3
PRODUCT_CREATION_TIME = 2016-05-13T12:18:58.000Z
PRODUCT_ID = "H5285_0001_BL3.JP2"
RELEASE_ID = 0060
REVISION_ID = 0000
/* QUALITY DATA ELEMENTS */
DATA_QUALITY_ID = 1
DATA_QUALITY_DESC = "Data calculated based on original SPICE kernels"
/* TIME DATA ELEMENTS */
SPACECRAFT_CLOCK_START_COUNT = "1/0150922254.09055"
SPACECRAFT_CLOCK_STOP_COUNT = "1/0150922455.00500"
START_TIME = 2008-02-12T18:51:40.132Z
STOP_TIME = 2008-02-12T18:53:35.657Z
/* ORBITAL DATA ELEMENTS */
ASCENDING_NODE_LONGITUDE = 118.22
MAXIMUM_RESOLUTION = 131.1
FOOTPRINT_POINT_LATITUDE = (12.4849,12.4863,12.488,12.4895,12.4909 ,12.4921,12.4928,12.4941,12.1709, 11.9726,11.7078,11.4442,11.114,10.9148, 10.7798,10.6439,10.5082,10.3734,10.2392 ,10.0383,9.90382,9.69743,9.55973,9.422, 9.28378,9.14531,9.00805,8.87089,8.73091 ,8.59055,8.45021,8.31005,8.16998, 8.03005,7.89022,7.67623,7.53333,7.39046 ,7.24778,7.1052,6.96272,6.74501,6.59955 ,6.45418,6.30897,6.16393,6.01854,5.8704 ,5.72235,5.57443,5.46145,5.45986, 5.45746,5.45516,5.45204,5.45064,5.44898 ,5.44641,5.44477,5.51906,5.66712, 5.81541,6.03755,6.25541,6.4007,6.54637, 6.69206,6.83784,7.05364,7.26788,7.41081 ,7.55379,7.69688,7.91039,8.05049, 8.19066,8.331,8.54153,8.68208,8.89236, 9.02943,9.23577,9.37347,9.51122,9.6492, 9.78715,9.92381,10.0586,10.261,10.396, 10.5311,10.6663,10.8015,11.0038,11.268, 11.5325,11.7975,12.0627,12.3235, 12.4849)
FOOTPRINT_POINT_LONGITUDE = (16.8498,16.6751,16.4595,16.2433, 16.0268,15.8096,15.6732,15.5108,15.5063 ,15.5034,15.4991,15.493,15.4879,15.4839 ,15.4812,15.4805,15.4796,15.4769, 15.4732,15.467,15.4642,15.4603,15.4575, 15.4549,15.4536,15.453,15.45,15.447, 15.4439,15.4408,15.4378,15.4347,15.4316 ,15.4284,15.4252,15.4201,15.4166, 15.4133,15.4099,15.4065,15.4031,15.3975 ,15.3938,15.3901,15.3863,15.3824, 15.3788,15.3747,15.3707,15.3667,15.4552 ,15.5965,15.8001,16.0027,16.2518, 16.3917,16.5313,16.7172,16.8563,17.0205 ,17.019,17.0175,17.0154,17.0133,17.0117 ,17.0105,17.0091,17.0077,17.0058, 17.0039,17.0026,17.0012,16.9998,16.9978 ,16.9966,16.9953,16.9941,16.9921, 16.9909,16.9897,16.9881,16.9863,16.9851 ,16.9839,16.9828,16.9816,16.9803, 16.9792,16.9776,16.9765,16.9753,16.9742 ,16.9731,16.9714,16.9693,16.9672, 16.9651,16.963,16.961,16.8498)
ORBIT_NUMBER = 5285
ORBITAL_ECCENTRICITY = 0.572
ORBITAL_INCLINATION = 86.72
ORBITAL_SEMIMAJOR_AXIS = 8704.76
PERIAPSIS_ALTITUDE = 334.26
PERIAPSIS_ARGUMENT_ANGLE = 148.56
PERIAPSIS_TIME = 2008-02-12T18:46:40.000Z
SPACECRAFT_ORIENTATION = (0.0,-1.0,0.0)
^MEX_ORIENTATION_DESC = "MEX_ORIENTATION_DESC.TXT"
SPACECRAFT_POINTING_MODE = ACROSSTRACK
^MEX_POINTING_DESC = "MEX_POINTING_DESC.TXT"
RIGHT_ASCENSION = -1e+32
DECLINATION = -1e+32
OFFSET_ANGLE = -0.25
SPACECRAFT_SOLAR_DISTANCE = 2.43346e+08
TARGET_NAME = MARS
/* CAMERA DATA ELEMENTS */
DETECTOR_TEMPERATURE = 19.7978
FOCAL_PLANE_TEMPERATURE = 8.5833
INST_CMPRS_NAME = "DISCRETE COSINE TRANSFORMATION (DCT)"
INST_CMPRS_RATIO = 26.9828
INST_CMPRS_QUALITY = 0
INST_CMPRS_QUANTZ_TBL_ID = 0
INSTRUMENT_TEMPERATURE = 13.273
LENS_TEMPERATURE = 8.9911
MACROPIXEL_SIZE = 8
MISSING_FRAMES = 0
PIXEL_SUBSAMPLING_FLAG = N
SIGNAL_CHAIN_ID = 2
/* RADIOMETRIC DATA ELEMENTS */
BANDWIDTH = 76.0
CENTER_FILTER_WAVELENGTH = 444.0
RADIANCE_OFFSET = 0.593036
RADIANCE_SCALING_FACTOR = 0.00168796
REFLECTANCE_SCALING_FACTOR = 0.000102699
MEX:REFLECTANCE_OFFSET = 0.0360816
/* IMAGE OBJECT DEFINITIONS */
OBJECT = IMAGE
  INTERCHANGE_FORMAT = BINARY
  LINES = 4174
  LINE_SAMPLES = 1026
  SAMPLE_TYPE = UNSIGNED_INTEGER
  SAMPLE_BITS = 8
  BANDS = 1
  BAND_STORAGE_TYPE = BAND_SEQUENTIAL
  MAXIMUM = 255
  MEAN = 144.263
  MINIMUM = 1
  STANDARD_DEVIATION = 12.9475
END_OBJECT = IMAGE
/* MAP OBJECT DEFINITIONS */
OBJECT = IMAGE_MAP_PROJECTION
  ^DATA_SET_MAP_PROJECTION_CATALOG= "DSMAP.CAT"
  A_AXIS_RADIUS = 3396.0
  B_AXIS_RADIUS = 3396.0
  C_AXIS_RADIUS = 3396.0
  CENTER_LATITUDE = 0.0
  CENTER_LONGITUDE = 16.0
  COORDINATE_SYSTEM_NAME = PLANETOGRAPHIC
  COORDINATE_SYSTEM_TYPE = "BODY-FIXED ROTATING"
  EASTERNMOST_LONGITUDE = 17.0205
  FIRST_STANDARD_PARALLEL = "N/A"
  LINE_FIRST_PIXEL = 1
  LINE_LAST_PIXEL = 4174
  LINE_PROJECTION_OFFSET = 7410.9375
  MAP_PROJECTION_ROTATION = 0.0
  MAP_PROJECTION_TYPE = SINUSOIDAL
  MAP_RESOLUTION = 592.713803866667
  MAP_SCALE = 0.1
  MAXIMUM_LATITUDE = 12.4941
  MINIMUM_LATITUDE = 5.44477
  POSITIVE_LONGITUDE_DIRECTION = EAST
  REFERENCE_LATITUDE = "N/A"
  REFERENCE_LONGITUDE = "N/A"
  SAMPLE_FIRST_PIXEL = 1
  SAMPLE_LAST_PIXEL = 1026
  SAMPLE_PROJECTION_OFFSET = 411.6875
  SECOND_STANDARD_PARALLEL = "N/A"
  WESTERNMOST_LONGITUDE = 15.3667
END_OBJECT = IMAGE_MAP_PROJECTION
/* The JPEG2000 image data file associated with this label. */
OBJECT = COMPRESSED_FILE
  FILE_NAME = "H5285_0001_BL3.JP2"
  RECORD_TYPE = UNDEFINED
  FILE_RECORDS = UNK
  ENCODING_TYPE = "JP2"
  INTERCHANGE_FORMAT = BINARY
  UNCOMPRESSED_FILE_NAME = "H5285_0001_BL3.IMG"
  REQUIRED_STORAGE_BYTES = "4300992"
  ^DESCRIPTION = "JP2INFO.TXT"
END_OBJECT = COMPRESSED_FILE
END
