PDS_VERSION_ID = PDS3
/* FILE DATA ELEMENTS */
RECORD_TYPE = STREAM
/* POINTERS TO DATA OBJECTS */
^COMPRESSED_FILE = "H5289_0000_P13.JP2"
/* IDENTIFICATION DATA ELEMENTS */
DATA_SET_ID = "MEX-M-HRSC-5-REFDR-MAPPROJECTED-V3.0"
DATA_SET_NAME = "MARS EXPRESS HRSC MAP PROJECTED REFDR V3.0"
DETECTOR_ID = MEX_HRSC_P1
EVENT_TYPE = "MARS-REGIONAL-MAPPING-Eb-La-Tc"
INSTRUMENT_HOST_ID = MEX
INSTRUMENT_HOST_NAME = "MARS EXPRESS"
INSTRUMENT_ID = HRSC
INSTRUMENT_NAME = "HIGH RESOLUTION STEREO CAMERA"
MISSION_NAME = "MARS EXPRESS"
MISSION_PHASE_NAME = ME_Phase_11
PROCESSING_LEVEL_ID = 3
PRODUCT_CREATION_TIME = 2016-05-13T12:18:58.000Z
PRODUCT_ID = "H5289_0000_P13.JP2"
RELEASE_ID = 0060
REVISION_ID = 0000
/* QUALITY DATA ELEMENTS */
DATA_QUALITY_ID = 2
DATA_QUALITY_DESC = "Data calculated based on photogrammetrically improved orbit and attitude data"
/* TIME DATA ELEMENTS */
SPACECRAFT_CLOCK_START_COUNT = "1/0151020561.07287"
SPACECRAFT_CLOCK_STOP_COUNT = "1/0151020737.48234"
START_TIME = 2008-02-13T22:09:35.016Z
STOP_TIME = 2008-02-13T22:11:24.669Z
/* ORBITAL DATA ELEMENTS */
ASCENDING_NODE_LONGITUDE = 118.14
MAXIMUM_RESOLUTION = 27.9
FOOTPRINT_POINT_LATITUDE = (27.7708,27.7741,27.7756,27.7767, 27.7774,27.7775,27.5335,27.3936,27.2538 ,27.1139,26.9739,26.8341,26.5546, 26.4133,26.1343,25.9943,25.8542,25.7142 ,25.5001,25.3553,25.2106,25.0658, 24.9211,24.7763,24.6316,24.4146,24.2698 ,24.0528,23.908,23.7633,23.6194,23.4749 ,23.3298,23.1849,22.968,22.7504,22.5335 ,22.3165,22.1718,22.0275,21.8824, 21.7376,21.5932,21.3765,21.2321,21.0882 ,20.9438,20.7252,20.5588,20.5618, 20.5589,20.5567,20.5529,20.5507,20.6958 ,20.9136,21.0583,21.2003,21.3401, 21.4826,21.6273,21.7719,21.9167,22.0619 ,22.209,22.4325,22.6494,22.794,22.9377, 23.0819,23.2267,23.3719,23.5896,23.7342 ,23.8793,24.024,24.1696,24.386,24.5318, 24.6753,24.8202,24.9651,25.1825,25.3274 ,25.4723,25.6171,25.7573,25.9668, 26.1076,26.2478,26.388,26.5276,26.6681, 26.8082,26.9483,27.0884,27.2984,27.4386 ,27.5787,27.7708)
FOOTPRINT_POINT_LONGITUDE = (337.196,336.862,336.658,336.455, 336.252,335.937,335.877,335.878,335.88, 335.881,335.882,335.884,335.886,335.887 ,335.889,335.89,335.891,335.892,335.893 ,335.894,335.895,335.896,335.896, 335.897,335.898,335.898,335.899,335.9, 335.9,335.9,335.901,335.901,335.901, 335.902,335.902,335.902,335.902,335.902 ,335.902,335.902,335.902,335.901, 335.901,335.901,335.9,335.9,335.9, 335.899,336.013,336.348,336.542,336.749 ,337.036,337.236,337.236,337.235, 337.234,337.236,337.24,337.241,337.241, 337.241,337.241,337.24,337.238,337.233, 337.233,337.233,337.233,337.234,337.233 ,337.233,337.232,337.232,337.232, 337.232,337.231,337.231,337.23,337.231, 337.23,337.23,337.23,337.229,337.229, 337.229,337.228,337.228,337.228,337.227 ,337.227,337.227,337.226,337.226, 337.226,337.225,337.225,337.224,337.224 ,337.196)
ORBIT_NUMBER = 5289
ORBITAL_ECCENTRICITY = 0.572
ORBITAL_INCLINATION = 86.74
ORBITAL_SEMIMAJOR_AXIS = 8698.46
PERIAPSIS_ALTITUDE = 334.58
PERIAPSIS_ARGUMENT_ANGLE = 147.84
PERIAPSIS_TIME = 2008-02-13T22:08:48.000Z
SPACECRAFT_ORIENTATION = (0.0,-1.0,0.0)
^MEX_ORIENTATION_DESC = "MEX_ORIENTATION_DESC.TXT"
SPACECRAFT_POINTING_MODE = ACROSSTRACK
^MEX_POINTING_DESC = "MEX_POINTING_DESC.TXT"
RIGHT_ASCENSION = -1e+32
DECLINATION = -1e+32
OFFSET_ANGLE = 0.3
SPACECRAFT_SOLAR_DISTANCE = 2.43489e+08
TARGET_NAME = MARS
/* CAMERA DATA ELEMENTS */
DETECTOR_TEMPERATURE = 17.7588
FOCAL_PLANE_TEMPERATURE = 8.7872
INST_CMPRS_NAME = "DISCRETE COSINE TRANSFORMATION (DCT)"
INST_CMPRS_RATIO = 8.58479
INST_CMPRS_QUALITY = 0
INST_CMPRS_QUANTZ_TBL_ID = 0
INSTRUMENT_TEMPERATURE = 11.6418
LENS_TEMPERATURE = 9.195
MACROPIXEL_SIZE = 2
MISSING_FRAMES = 0
PIXEL_SUBSAMPLING_FLAG = N
SIGNAL_CHAIN_ID = 3
/* RADIOMETRIC DATA ELEMENTS */
BANDWIDTH = 174.0
CENTER_FILTER_WAVELENGTH = 675.0
RADIANCE_OFFSET = 3.12592
RADIANCE_SCALING_FACTOR = 0.0161177
REFLECTANCE_SCALING_FACTOR = 0.000513979
MEX:REFLECTANCE_OFFSET = 0.0996829
/* IMAGE OBJECT DEFINITIONS */
OBJECT = IMAGE
  INTERCHANGE_FORMAT = BINARY
  LINES = 17055
  LINE_SAMPLES = 3149
  SAMPLE_TYPE = UNSIGNED_INTEGER
  SAMPLE_BITS = 8
  BANDS = 1
  BAND_STORAGE_TYPE = BAND_SEQUENTIAL
  MAXIMUM = 255
  MEAN = 100.133
  MINIMUM = 1
  STANDARD_DEVIATION = 25.1532
END_OBJECT = IMAGE
/* MAP OBJECT DEFINITIONS */
OBJECT = IMAGE_MAP_PROJECTION
  ^DATA_SET_MAP_PROJECTION_CATALOG= "DSMAP.CAT"
  A_AXIS_RADIUS = 3396.0
  B_AXIS_RADIUS = 3396.0
  C_AXIS_RADIUS = 3396.0
  CENTER_LATITUDE = 0.0
  CENTER_LONGITUDE = 337.0
  COORDINATE_SYSTEM_NAME = PLANETOGRAPHIC
  COORDINATE_SYSTEM_TYPE = "BODY-FIXED ROTATING"
  EASTERNMOST_LONGITUDE = 337.241
  FIRST_STANDARD_PARALLEL = "N/A"
  LINE_FIRST_PIXEL = 1
  LINE_LAST_PIXEL = 17055
  LINE_PROJECTION_OFFSET = 65831.25
  MAP_PROJECTION_ROTATION = 0.0
  MAP_PROJECTION_TYPE = SINUSOIDAL
  MAP_RESOLUTION = 2370.85521546667
  MAP_SCALE = 0.025
  MAXIMUM_LATITUDE = 27.7775
  MINIMUM_LATITUDE = 20.5507
  POSITIVE_LONGITUDE_DIRECTION = EAST
  REFERENCE_LATITUDE = "N/A"
  REFERENCE_LONGITUDE = "N/A"
  SAMPLE_FIRST_PIXEL = 1
  SAMPLE_LAST_PIXEL = 3149
  SAMPLE_PROJECTION_OFFSET = 2505.75
  SECOND_STANDARD_PARALLEL = "N/A"
  WESTERNMOST_LONGITUDE = 335.877
END_OBJECT = IMAGE_MAP_PROJECTION
/* The JPEG2000 image data file associated with this label. */
OBJECT = COMPRESSED_FILE
  FILE_NAME = "H5289_0000_P13.JP2"
  RECORD_TYPE = UNDEFINED
  FILE_RECORDS = UNK
  ENCODING_TYPE = "JP2"
  INTERCHANGE_FORMAT = BINARY
  UNCOMPRESSED_FILE_NAME = "H5289_0000_P13.IMG"
  REQUIRED_STORAGE_BYTES = "53728238"
  ^DESCRIPTION = "JP2INFO.TXT"
END_OBJECT = COMPRESSED_FILE
END
