PDS_VERSION_ID = PDS3
/* FILE DATA ELEMENTS */
RECORD_TYPE = STREAM
/* POINTERS TO DATA OBJECTS */
^COMPRESSED_FILE = "H5293_0000_P23.JP2"
/* IDENTIFICATION DATA ELEMENTS */
DATA_SET_ID = "MEX-M-HRSC-5-REFDR-MAPPROJECTED-V3.0"
DATA_SET_NAME = "MARS EXPRESS HRSC MAP PROJECTED REFDR V3.0"
DETECTOR_ID = MEX_HRSC_P2
EVENT_TYPE = "MARS-REGIONAL-MAPPING-Vo-Te-Fl"
INSTRUMENT_HOST_ID = MEX
INSTRUMENT_HOST_NAME = "MARS EXPRESS"
INSTRUMENT_ID = HRSC
INSTRUMENT_NAME = "HIGH RESOLUTION STEREO CAMERA"
MISSION_NAME = "MARS EXPRESS"
MISSION_PHASE_NAME = ME_Phase_11
PROCESSING_LEVEL_ID = 3
PRODUCT_CREATION_TIME = 2016-05-13T12:18:58.000Z
PRODUCT_ID = "H5293_0000_P23.JP2"
RELEASE_ID = 0060
REVISION_ID = 0000
/* QUALITY DATA ELEMENTS */
DATA_QUALITY_ID = 2
DATA_QUALITY_DESC = "Data calculated based on photogrammetrically improved orbit and attitude data"
/* TIME DATA ELEMENTS */
SPACECRAFT_CLOCK_START_COUNT = "1/0151118672.08255"
SPACECRAFT_CLOCK_STOP_COUNT = "1/0151118899.14361"
START_TIME = 2008-02-15T01:25:47.549Z
STOP_TIME = 2008-02-15T01:28:09.814Z
/* ORBITAL DATA ELEMENTS */
ASCENDING_NODE_LONGITUDE = 118.05
MAXIMUM_RESOLUTION = 30.1
FOOTPRINT_POINT_LATITUDE = (54.6509,54.6384,54.6249,54.6105, 54.5951,54.4482,54.1576,53.8669,53.6731 ,53.4811,53.2878,53.0977,52.9112, 52.7209,52.4341,52.2495,52.0634,51.8785 ,51.6038,51.4195,51.234,50.9557,50.77, 50.5846,50.3063,50.1206,49.936,49.7501, 49.5639,49.3774,49.1911,48.912,48.726, 48.447,48.2603,47.9804,47.7934,47.6076, 47.4233,47.2374,47.0549,46.8672,46.6757 ,46.3883,46.2086,46.0522,45.8179, 45.6606,45.5039,45.3956,45.4056,45.4241 ,45.4365,45.4485,45.6839,45.8411, 45.9983,46.1554,46.3144,46.5018,46.782, 46.9699,47.1574,47.3442,47.5335,47.8154 ,48.005,48.1972,48.3844,48.571,48.7561, 48.9375,49.1232,49.3111,49.4975,49.7778 ,49.9651,50.1521,50.3382,50.5252, 50.7115,50.898,51.084,51.27,51.4572, 51.6451,51.9207,52.1995,52.3853,52.5719 ,52.8582,53.0491,53.2434,53.531,53.7212 ,53.9145,54.1094,54.3041,54.5962, 54.6509)
FOOTPRINT_POINT_LONGITUDE = (296.041,295.649,295.258,294.87,294.482 ,293.957,294.0,294.041,294.069,294.097, 294.125,294.151,294.174,294.199,294.237 ,294.26,294.284,294.306,294.338,294.36, 294.381,294.413,294.434,294.455,294.485 ,294.505,294.524,294.543,294.562, 294.581,294.6,294.627,294.645,294.671, 294.688,294.713,294.73,294.746,294.761, 294.777,294.791,294.807,294.824,294.849 ,294.863,294.875,294.893,294.905, 294.917,295.082,295.364,295.894,296.305 ,296.76,296.756,296.754,296.751,296.749 ,296.746,296.743,296.738,296.735, 296.732,296.728,296.726,296.722,296.721 ,296.722,296.719,296.715,296.709,296.7, 296.695,296.693,296.688,296.683,296.679 ,296.675,296.671,296.667,296.663, 296.659,296.654,296.65,296.646,296.643, 296.633,296.626,296.621,296.616,296.608 ,296.604,296.602,296.596,296.59,296.585 ,296.579,296.572,296.563,296.041)
ORBIT_NUMBER = 5293
ORBITAL_ECCENTRICITY = 0.572
ORBITAL_INCLINATION = 86.73
ORBITAL_SEMIMAJOR_AXIS = 8702.23
PERIAPSIS_ALTITUDE = 334.76
PERIAPSIS_ARGUMENT_ANGLE = 147.16
PERIAPSIS_TIME = 2008-02-15T01:31:02.000Z
SPACECRAFT_ORIENTATION = (0.0,-1.0,0.0)
^MEX_ORIENTATION_DESC = "MEX_ORIENTATION_DESC.TXT"
SPACECRAFT_POINTING_MODE = ACROSSTRACK
^MEX_POINTING_DESC = "MEX_POINTING_DESC.TXT"
RIGHT_ASCENSION = -1e+32
DECLINATION = -1e+32
OFFSET_ANGLE = 0.3
SPACECRAFT_SOLAR_DISTANCE = 2.4363e+08
TARGET_NAME = MARS
/* CAMERA DATA ELEMENTS */
DETECTOR_TEMPERATURE = 18.9822
FOCAL_PLANE_TEMPERATURE = 8.3794
INST_CMPRS_NAME = "DISCRETE COSINE TRANSFORMATION (DCT)"
INST_CMPRS_RATIO = 9.27784
INST_CMPRS_QUALITY = 0
INST_CMPRS_QUANTZ_TBL_ID = 0
INSTRUMENT_TEMPERATURE = 11.4379
LENS_TEMPERATURE = 8.9911
MACROPIXEL_SIZE = 2
MISSING_FRAMES = 0
PIXEL_SUBSAMPLING_FLAG = N
SIGNAL_CHAIN_ID = 3
/* RADIOMETRIC DATA ELEMENTS */
BANDWIDTH = 177.0
CENTER_FILTER_WAVELENGTH = 676.5
RADIANCE_OFFSET = 2.9977
RADIANCE_SCALING_FACTOR = 0.0201526
REFLECTANCE_SCALING_FACTOR = 0.000634227
MEX:REFLECTANCE_OFFSET = 0.0943412
/* IMAGE OBJECT DEFINITIONS */
OBJECT = IMAGE
  INTERCHANGE_FORMAT = BINARY
  LINES = 22100
  LINE_SAMPLES = 4247
  SAMPLE_TYPE = UNSIGNED_INTEGER
  SAMPLE_BITS = 8
  BANDS = 1
  BAND_STORAGE_TYPE = BAND_SEQUENTIAL
  MAXIMUM = 255
  MEAN = 135.123
  MINIMUM = 1
  STANDARD_DEVIATION = 31.6122
END_OBJECT = IMAGE
/* MAP OBJECT DEFINITIONS */
OBJECT = IMAGE_MAP_PROJECTION
  ^DATA_SET_MAP_PROJECTION_CATALOG= "DSMAP.CAT"
  A_AXIS_RADIUS = 3396.0
  B_AXIS_RADIUS = 3396.0
  C_AXIS_RADIUS = 3396.0
  CENTER_LATITUDE = 0.0
  CENTER_LONGITUDE = 296.0
  COORDINATE_SYSTEM_NAME = PLANETOGRAPHIC
  COORDINATE_SYSTEM_TYPE = "BODY-FIXED ROTATING"
  EASTERNMOST_LONGITUDE = 296.76
  FIRST_STANDARD_PARALLEL = "N/A"
  LINE_FIRST_PIXEL = 1
  LINE_LAST_PIXEL = 22100
  LINE_PROJECTION_OFFSET = 129732.75
  MAP_PROJECTION_ROTATION = 0.0
  MAP_PROJECTION_TYPE = SINUSOIDAL
  MAP_RESOLUTION = 2370.85521546667
  MAP_SCALE = 0.025
  MAXIMUM_LATITUDE = 54.6509
  MINIMUM_LATITUDE = 45.3956
  POSITIVE_LONGITUDE_DIRECTION = EAST
  REFERENCE_LATITUDE = "N/A"
  REFERENCE_LONGITUDE = "N/A"
  SAMPLE_FIRST_PIXEL = 1
  SAMPLE_LAST_PIXEL = 4247
  SAMPLE_PROJECTION_OFFSET = 2894.25
  SECOND_STANDARD_PARALLEL = "N/A"
  WESTERNMOST_LONGITUDE = 293.957
END_OBJECT = IMAGE_MAP_PROJECTION
/* The JPEG2000 image data file associated with this label. */
OBJECT = COMPRESSED_FILE
  FILE_NAME = "H5293_0000_P23.JP2"
  RECORD_TYPE = UNDEFINED
  FILE_RECORDS = UNK
  ENCODING_TYPE = "JP2"
  INTERCHANGE_FORMAT = BINARY
  UNCOMPRESSED_FILE_NAME = "H5293_0000_P23.IMG"
  REQUIRED_STORAGE_BYTES = "93884182"
  ^DESCRIPTION = "JP2INFO.TXT"
END_OBJECT = COMPRESSED_FILE
END
