PDS_VERSION_ID = PDS3
/* FILE DATA ELEMENTS */
RECORD_TYPE = STREAM
/* POINTERS TO DATA OBJECTS */
^COMPRESSED_FILE = "H5293_0001_P13.JP2"
/* IDENTIFICATION DATA ELEMENTS */
DATA_SET_ID = "MEX-M-HRSC-5-REFDR-MAPPROJECTED-V3.0"
DATA_SET_NAME = "MARS EXPRESS HRSC MAP PROJECTED REFDR V3.0"
DETECTOR_ID = MEX_HRSC_P1
EVENT_TYPE = "MARS-REGIONAL-MAPPING-Fl-Gl-Eo"
INSTRUMENT_HOST_ID = MEX
INSTRUMENT_HOST_NAME = "MARS EXPRESS"
INSTRUMENT_ID = HRSC
INSTRUMENT_NAME = "HIGH RESOLUTION STEREO CAMERA"
MISSION_NAME = "MARS EXPRESS"
MISSION_PHASE_NAME = ME_Phase_11
PROCESSING_LEVEL_ID = 3
PRODUCT_CREATION_TIME = 2016-05-13T12:18:58.000Z
PRODUCT_ID = "H5293_0001_P13.JP2"
RELEASE_ID = 0060
REVISION_ID = 0000
/* QUALITY DATA ELEMENTS */
DATA_QUALITY_ID = 2
DATA_QUALITY_DESC = "Data calculated based on photogrammetrically improved orbit and attitude data"
/* TIME DATA ELEMENTS */
SPACECRAFT_CLOCK_START_COUNT = "1/0151119027.08379"
SPACECRAFT_CLOCK_STOP_COUNT = "1/0151119296.57660"
START_TIME = 2008-02-15T01:30:41.305Z
STOP_TIME = 2008-02-15T01:34:02.544Z
/* ORBITAL DATA ELEMENTS */
ASCENDING_NODE_LONGITUDE = 118.05
MAXIMUM_RESOLUTION = 55
FOOTPRINT_POINT_LATITUDE = (32.9194,32.9206,32.92,32.8908,32.6343, 32.2497,31.9939,31.7379,31.4816,31.2253 ,30.963,30.7046,30.3211,30.0625,29.6762 ,29.2899,29.0323,28.7744,28.5166, 28.2593,28.0012,27.6145,27.3558,26.9688 ,26.7099,26.4499,26.1823,25.9245, 25.6567,25.3855,25.1237,24.8579,24.5909 ,24.1905,23.9232,23.6463,23.3781, 23.1127,22.8452,22.5794,22.3174,22.0511 ,21.6525,21.3872,21.1206,20.8537, 20.5871,20.1872,19.9205,19.7325,19.7309 ,19.727,19.7232,19.7179,19.9847,20.2517 ,20.5187,20.7858,21.32,21.7205,21.9876, 22.2547,22.5159,22.782,23.0464,23.3172, 23.7249,23.982,24.2532,24.6577,25.0553, 25.3213,25.5889,25.9869,26.2539,26.5195 ,26.7794,27.0382,27.2964,27.5553, 27.8137,28.0718,28.4588,28.717,28.9751, 29.2334,29.4911,29.7491,30.0069,30.2645 ,30.5219,30.782,31.1707,31.428,31.685, 31.9412,32.1989,32.5838,32.8402, 32.9194)
FOOTPRINT_POINT_LONGITUDE = (296.671,296.259,295.851,295.486, 295.492,295.501,295.506,295.512,295.517 ,295.522,295.526,295.53,295.538,295.542 ,295.548,295.553,295.557,295.56,295.563 ,295.567,295.569,295.574,295.576,295.58 ,295.582,295.583,295.585,295.589,295.59 ,295.591,295.593,295.595,295.596, 295.597,295.598,295.596,295.596,295.596 ,295.596,295.597,295.598,295.597, 295.597,295.597,295.596,295.595,295.594 ,295.592,295.591,295.687,295.886, 296.271,296.534,296.929,296.928,296.927 ,296.926,296.925,296.923,296.922, 296.922,296.921,296.925,296.925,296.926 ,296.923,296.917,296.924,296.92,296.916 ,296.917,296.918,296.917,296.918, 296.917,296.915,296.913,296.912,296.911 ,296.91,296.909,296.909,296.908,296.907 ,296.906,296.905,296.904,296.903, 296.902,296.901,296.901,296.898,296.894 ,296.893,296.892,296.892,296.89,296.889 ,296.888,296.671)
ORBIT_NUMBER = 5293
ORBITAL_ECCENTRICITY = 0.572
ORBITAL_INCLINATION = 86.73
ORBITAL_SEMIMAJOR_AXIS = 8702.23
PERIAPSIS_ALTITUDE = 334.76
PERIAPSIS_ARGUMENT_ANGLE = 147.16
PERIAPSIS_TIME = 2008-02-15T01:31:02.000Z
SPACECRAFT_ORIENTATION = (0.0,-1.0,0.0)
^MEX_ORIENTATION_DESC = "MEX_ORIENTATION_DESC.TXT"
SPACECRAFT_POINTING_MODE = ACROSSTRACK
^MEX_POINTING_DESC = "MEX_POINTING_DESC.TXT"
RIGHT_ASCENSION = -1e+32
DECLINATION = -1e+32
OFFSET_ANGLE = 0.3
SPACECRAFT_SOLAR_DISTANCE = 2.4363e+08
TARGET_NAME = MARS
/* CAMERA DATA ELEMENTS */
DETECTOR_TEMPERATURE = 18.7783
FOCAL_PLANE_TEMPERATURE = 7.9716
INST_CMPRS_NAME = "DISCRETE COSINE TRANSFORMATION (DCT)"
INST_CMPRS_RATIO = 10.9768
INST_CMPRS_QUALITY = 0
INST_CMPRS_QUANTZ_TBL_ID = 0
INSTRUMENT_TEMPERATURE = 12.6613
LENS_TEMPERATURE = 7.5638
MACROPIXEL_SIZE = 4
MISSING_FRAMES = 0
PIXEL_SUBSAMPLING_FLAG = N
SIGNAL_CHAIN_ID = 3
/* RADIOMETRIC DATA ELEMENTS */
BANDWIDTH = 174.0
CENTER_FILTER_WAVELENGTH = 675.0
RADIANCE_OFFSET = 2.68427
RADIANCE_SCALING_FACTOR = 0.0274606
REFLECTANCE_SCALING_FACTOR = 0.000876711
MEX:REFLECTANCE_OFFSET = 0.0856985
/* IMAGE OBJECT DEFINITIONS */
OBJECT = IMAGE
  INTERCHANGE_FORMAT = BINARY
  LINES = 15615
  LINE_SAMPLES = 1638
  SAMPLE_TYPE = UNSIGNED_INTEGER
  SAMPLE_BITS = 8
  BANDS = 1
  BAND_STORAGE_TYPE = BAND_SEQUENTIAL
  MAXIMUM = 255
  MEAN = 101.019
  MINIMUM = 1
  STANDARD_DEVIATION = 45.1738
END_OBJECT = IMAGE
/* MAP OBJECT DEFINITIONS */
OBJECT = IMAGE_MAP_PROJECTION
  ^DATA_SET_MAP_PROJECTION_CATALOG= "DSMAP.CAT"
  A_AXIS_RADIUS = 3396.0
  B_AXIS_RADIUS = 3396.0
  C_AXIS_RADIUS = 3396.0
  CENTER_LATITUDE = 0.0
  CENTER_LONGITUDE = 296.0
  COORDINATE_SYSTEM_NAME = PLANETOGRAPHIC
  COORDINATE_SYSTEM_TYPE = "BODY-FIXED ROTATING"
  EASTERNMOST_LONGITUDE = 296.929
  FIRST_STANDARD_PARALLEL = "N/A"
  LINE_FIRST_PIXEL = 1
  LINE_LAST_PIXEL = 15615
  LINE_PROJECTION_OFFSET = 39011.125
  MAP_PROJECTION_ROTATION = 0.0
  MAP_PROJECTION_TYPE = SINUSOIDAL
  MAP_RESOLUTION = 1185.42760773333
  MAP_SCALE = 0.05
  MAXIMUM_LATITUDE = 32.9206
  MINIMUM_LATITUDE = 19.7179
  POSITIVE_LONGITUDE_DIRECTION = EAST
  REFERENCE_LATITUDE = "N/A"
  REFERENCE_LONGITUDE = "N/A"
  SAMPLE_FIRST_PIXEL = 1
  SAMPLE_LAST_PIXEL = 1638
  SAMPLE_PROJECTION_OFFSET = 526.875
  SECOND_STANDARD_PARALLEL = "N/A"
  WESTERNMOST_LONGITUDE = 295.486
END_OBJECT = IMAGE_MAP_PROJECTION
/* The JPEG2000 image data file associated with this label. */
OBJECT = COMPRESSED_FILE
  FILE_NAME = "H5293_0001_P13.JP2"
  RECORD_TYPE = UNDEFINED
  FILE_RECORDS = UNK
  ENCODING_TYPE = "JP2"
  INTERCHANGE_FORMAT = BINARY
  UNCOMPRESSED_FILE_NAME = "H5293_0001_P13.IMG"
  REQUIRED_STORAGE_BYTES = "25597026"
  ^DESCRIPTION = "JP2INFO.TXT"
END_OBJECT = COMPRESSED_FILE
END
