PDS_VERSION_ID = PDS3
/* FILE DATA ELEMENTS */
RECORD_TYPE = STREAM
/* POINTERS TO DATA OBJECTS */
^COMPRESSED_FILE = "H5294_0000_S23.JP2"
/* IDENTIFICATION DATA ELEMENTS */
DATA_SET_ID = "MEX-M-HRSC-5-REFDR-MAPPROJECTED-V3.0"
DATA_SET_NAME = "MARS EXPRESS HRSC MAP PROJECTED REFDR V3.0"
DETECTOR_ID = MEX_HRSC_S2
EVENT_TYPE = "MARS-REGIONAL-MAPPING-Vo-Im-Eo"
INSTRUMENT_HOST_ID = MEX
INSTRUMENT_HOST_NAME = "MARS EXPRESS"
INSTRUMENT_ID = HRSC
INSTRUMENT_NAME = "HIGH RESOLUTION STEREO CAMERA"
MISSION_NAME = "MARS EXPRESS"
MISSION_PHASE_NAME = ME_Phase_11
PROCESSING_LEVEL_ID = 3
PRODUCT_CREATION_TIME = 2016-05-13T12:18:58.000Z
PRODUCT_ID = "H5294_0000_S23.JP2"
RELEASE_ID = 0060
REVISION_ID = 0000
/* QUALITY DATA ELEMENTS */
DATA_QUALITY_ID = 1
DATA_QUALITY_DESC = "Data calculated based on original SPICE kernels"
/* TIME DATA ELEMENTS */
SPACECRAFT_CLOCK_START_COUNT = "1/0151143414.09035"
SPACECRAFT_CLOCK_STOP_COUNT = "1/0151143679.41489"
START_TIME = 2008-02-15T08:18:09.949Z
STOP_TIME = 2008-02-15T08:21:21.443Z
/* ORBITAL DATA ELEMENTS */
ASCENDING_NODE_LONGITUDE = 118.03
MAXIMUM_RESOLUTION = 29
FOOTPRINT_POINT_LATITUDE = (48.1453,48.1359,48.1287,48.115,48.1066 ,48.0952,47.9364,47.6836,47.3043, 47.0517,46.7989,46.5461,46.2931,46.0403 ,45.661,45.4081,45.0287,44.7758,44.5228 ,44.27,44.0168,43.7641,43.5112,43.2584, 42.8793,42.6266,42.2479,41.8687,41.6162 ,41.2376,40.9851,40.733,40.4807,40.2285 ,39.976,39.7241,39.4712,39.2201,38.9685 ,38.7166,38.3392,38.0877,37.8363,37.585 ,37.3338,37.0827,36.8318,36.5809, 36.3302,36.0795,35.8291,35.5787,35.5741 ,35.5796,35.5827,35.5864,35.5914, 35.8421,36.093,36.3441,36.5953,36.8466, 37.0981,37.3497,37.6014,37.9791,38.3572 ,38.6091,38.8614,39.24,39.4925,39.8713, 40.1239,40.3766,40.6294,40.8823,41.1351 ,41.3882,41.6412,42.0209,42.4001, 42.7807,43.0344,43.4144,43.6679,44.0484 ,44.4288,44.6824,45.0629,45.3166, 45.5704,45.9507,46.3315,46.712,46.966, 47.2197,47.4733,47.727,47.9807,48.1453)
FOOTPRINT_POINT_LONGITUDE = (196.153,195.725,195.428,194.908, 194.611,194.239,194.207,194.232,194.267 ,194.29,194.313,194.335,194.357,194.378 ,194.41,194.43,194.46,194.479,194.498, 194.517,194.535,194.553,194.571,194.588 ,194.613,194.63,194.653,194.677,194.692 ,194.714,194.728,194.742,194.756, 194.769,194.782,194.795,194.808,194.82, 194.832,194.843,194.861,194.872,194.882 ,194.893,194.903,194.913,194.923, 194.933,194.942,194.951,194.96,194.969, 195.154,195.525,195.754,196.039,196.444 ,196.441,196.437,196.434,196.43,196.427 ,196.423,196.42,196.416,196.41,196.405, 196.401,196.397,196.391,196.386,196.38, 196.376,196.371,196.367,196.362,196.358 ,196.353,196.348,196.341,196.333, 196.326,196.321,196.312,196.307,196.299 ,196.29,196.284,196.276,196.27,196.263, 196.254,196.244,196.234,196.228,196.221 ,196.214,196.207,196.199,196.153)
ORBIT_NUMBER = 5294
ORBITAL_ECCENTRICITY = 0.572
ORBITAL_INCLINATION = 86.74
ORBITAL_SEMIMAJOR_AXIS = 8696.81
PERIAPSIS_ALTITUDE = 334.92
PERIAPSIS_ARGUMENT_ANGLE = 146.96
PERIAPSIS_TIME = 2008-02-15T08:21:30.000Z
SPACECRAFT_ORIENTATION = (0.0,-1.0,0.0)
^MEX_ORIENTATION_DESC = "MEX_ORIENTATION_DESC.TXT"
SPACECRAFT_POINTING_MODE = NADIR
^MEX_POINTING_DESC = "MEX_POINTING_DESC.TXT"
RIGHT_ASCENSION = -1e+32
DECLINATION = -1e+32
OFFSET_ANGLE = -1e+32
SPACECRAFT_SOLAR_DISTANCE = 2.43665e+08
TARGET_NAME = MARS
/* CAMERA DATA ELEMENTS */
DETECTOR_TEMPERATURE = 17.7588
FOCAL_PLANE_TEMPERATURE = 8.3794
INST_CMPRS_NAME = "DISCRETE COSINE TRANSFORMATION (DCT)"
INST_CMPRS_RATIO = 12.5741
INST_CMPRS_QUALITY = 0
INST_CMPRS_QUANTZ_TBL_ID = 0
INSTRUMENT_TEMPERATURE = 9.8067
LENS_TEMPERATURE = 8.7872
MACROPIXEL_SIZE = 2
MISSING_FRAMES = 0
PIXEL_SUBSAMPLING_FLAG = N
SIGNAL_CHAIN_ID = 1
/* RADIOMETRIC DATA ELEMENTS */
BANDWIDTH = 178.0
CENTER_FILTER_WAVELENGTH = 679.0
RADIANCE_OFFSET = 4.82991
RADIANCE_SCALING_FACTOR = 0.0175481
REFLECTANCE_SCALING_FACTOR = 0.000551752
MEX:REFLECTANCE_OFFSET = 0.151863
/* IMAGE OBJECT DEFINITIONS */
OBJECT = IMAGE
  INTERCHANGE_FORMAT = BINARY
  LINES = 30071
  LINE_SAMPLES = 3816
  SAMPLE_TYPE = UNSIGNED_INTEGER
  SAMPLE_BITS = 8
  BANDS = 1
  BAND_STORAGE_TYPE = BAND_SEQUENTIAL
  MAXIMUM = 255
  MEAN = 125.311
  MINIMUM = 1
  STANDARD_DEVIATION = 20.8404
END_OBJECT = IMAGE
/* MAP OBJECT DEFINITIONS */
OBJECT = IMAGE_MAP_PROJECTION
  ^DATA_SET_MAP_PROJECTION_CATALOG= "DSMAP.CAT"
  A_AXIS_RADIUS = 3396.0
  B_AXIS_RADIUS = 3396.0
  C_AXIS_RADIUS = 3396.0
  CENTER_LATITUDE = 0.0
  CENTER_LONGITUDE = 196.0
  COORDINATE_SYSTEM_NAME = PLANETOGRAPHIC
  COORDINATE_SYSTEM_TYPE = "BODY-FIXED ROTATING"
  EASTERNMOST_LONGITUDE = 196.444
  FIRST_STANDARD_PARALLEL = "N/A"
  LINE_FIRST_PIXEL = 1
  LINE_LAST_PIXEL = 30071
  LINE_PROJECTION_OFFSET = 114341.75
  MAP_PROJECTION_ROTATION = 0.0
  MAP_PROJECTION_TYPE = SINUSOIDAL
  MAP_RESOLUTION = 2370.85521546667
  MAP_SCALE = 0.025
  MAXIMUM_LATITUDE = 48.1453
  MINIMUM_LATITUDE = 35.5741
  POSITIVE_LONGITUDE_DIRECTION = EAST
  REFERENCE_LATITUDE = "N/A"
  REFERENCE_LONGITUDE = "N/A"
  SAMPLE_FIRST_PIXEL = 1
  SAMPLE_LAST_PIXEL = 3816
  SAMPLE_PROJECTION_OFFSET = 2930.25
  SECOND_STANDARD_PARALLEL = "N/A"
  WESTERNMOST_LONGITUDE = 194.207
END_OBJECT = IMAGE_MAP_PROJECTION
/* The JPEG2000 image data file associated with this label. */
OBJECT = COMPRESSED_FILE
  FILE_NAME = "H5294_0000_S23.JP2"
  RECORD_TYPE = UNDEFINED
  FILE_RECORDS = UNK
  ENCODING_TYPE = "JP2"
  INTERCHANGE_FORMAT = BINARY
  UNCOMPRESSED_FILE_NAME = "H5294_0000_S23.IMG"
  REQUIRED_STORAGE_BYTES = "114773832"
  ^DESCRIPTION = "JP2INFO.TXT"
END_OBJECT = COMPRESSED_FILE
END
