PDS_VERSION_ID = PDS3
/* FILE DATA ELEMENTS */
RECORD_TYPE = STREAM
/* POINTERS TO DATA OBJECTS */
^COMPRESSED_FILE = "H5294_0001_IR3.JP2"
/* IDENTIFICATION DATA ELEMENTS */
DATA_SET_ID = "MEX-M-HRSC-5-REFDR-MAPPROJECTED-V3.0"
DATA_SET_NAME = "MARS EXPRESS HRSC MAP PROJECTED REFDR V3.0"
DETECTOR_ID = MEX_HRSC_IR
EVENT_TYPE = "MARS-REGIONAL-MAPPING-Vo-Im"
INSTRUMENT_HOST_ID = MEX
INSTRUMENT_HOST_NAME = "MARS EXPRESS"
INSTRUMENT_ID = HRSC
INSTRUMENT_NAME = "HIGH RESOLUTION STEREO CAMERA"
MISSION_NAME = "MARS EXPRESS"
MISSION_PHASE_NAME = ME_Phase_11
PROCESSING_LEVEL_ID = 3
PRODUCT_CREATION_TIME = 2016-05-13T12:18:58.000Z
PRODUCT_ID = "H5294_0001_IR3.JP2"
RELEASE_ID = 0060
REVISION_ID = 0000
/* QUALITY DATA ELEMENTS */
DATA_QUALITY_ID = 1
DATA_QUALITY_DESC = "Data calculated based on original SPICE kernels"
/* TIME DATA ELEMENTS */
SPACECRAFT_CLOCK_START_COUNT = "1/0151143959.08397"
SPACECRAFT_CLOCK_STOP_COUNT = "1/0151144225.06704"
START_TIME = 2008-02-15T08:26:09.042Z
STOP_TIME = 2008-02-15T08:28:49.385Z
/* ORBITAL DATA ELEMENTS */
ASCENDING_NODE_LONGITUDE = 118.03
MAXIMUM_RESOLUTION = 67.2
FOOTPRINT_POINT_LATITUDE = (13.1281,13.1302,13.1314,13.1318, 13.1318,13.009,12.631,12.2526,11.9692, 11.5915,11.3064,11.113,10.9193,10.6293, 10.3393,10.1457,9.94761,9.74918,9.55105 ,9.25439,9.05663,8.85547,8.65295, 8.45049,8.24857,8.0459,7.73813,7.5311, 7.32419,7.11737,6.91076,6.59461,6.38321 ,6.17199,5.96089,5.63919,5.42345, 5.20813,4.99252,4.77436,4.55446,4.33451 ,4.11468,3.89278,3.66824,3.44397, 3.22001,2.99325,2.79212,2.79007,2.7889, 2.78444,2.7813,2.77831,2.77572,3.00408, 3.34292,3.67954,4.01595,4.23601,4.56627 ,4.89682,5.22045,5.43626,5.65207, 5.86862,6.08042,6.291,6.50262,6.71443, 6.92461,7.23471,7.44161,7.64882,7.85622 ,8.05967,8.26204,8.46455,8.66724, 8.87005,9.07095,9.26914,9.46703,9.66549 ,9.86349,10.1609,10.4511,10.6447, 10.8384,11.0322,11.2261,11.6081,11.8917 ,12.0808,12.2699,12.4592,12.6486, 12.8379,13.0274,13.1281)
FOOTPRINT_POINT_LONGITUDE = (196.378,196.06,195.781,195.569,195.304 ,195.143,195.137,195.131,195.126,195.12 ,195.115,195.111,195.108,195.102, 195.097,195.093,195.089,195.085,195.081 ,195.075,195.071,195.066,195.062, 195.058,195.053,195.048,195.041,195.036 ,195.031,195.026,195.021,195.013, 195.008,195.003,194.997,194.989,194.983 ,194.977,194.971,194.965,194.959, 194.953,194.946,194.94,194.933,194.926, 194.92,194.913,194.907,195.263,195.507, 195.864,196.092,196.4,196.649,196.648, 196.645,196.643,196.641,196.639,196.637 ,196.634,196.632,196.631,196.629, 196.628,196.626,196.625,196.624,196.623 ,196.621,196.619,196.618,196.617, 196.616,196.615,196.613,196.612,196.611 ,196.61,196.609,196.608,196.607,196.605 ,196.604,196.603,196.601,196.6,196.599, 196.598,196.597,196.595,196.594,196.593 ,196.592,196.591,196.59,196.589,196.588 ,196.378)
ORBIT_NUMBER = 5294
ORBITAL_ECCENTRICITY = 0.572
ORBITAL_INCLINATION = 86.74
ORBITAL_SEMIMAJOR_AXIS = 8696.81
PERIAPSIS_ALTITUDE = 334.92
PERIAPSIS_ARGUMENT_ANGLE = 146.96
PERIAPSIS_TIME = 2008-02-15T08:21:30.000Z
SPACECRAFT_ORIENTATION = (0.0,-1.0,0.0)
^MEX_ORIENTATION_DESC = "MEX_ORIENTATION_DESC.TXT"
SPACECRAFT_POINTING_MODE = NADIR
^MEX_POINTING_DESC = "MEX_POINTING_DESC.TXT"
RIGHT_ASCENSION = -1e+32
DECLINATION = -1e+32
OFFSET_ANGLE = -1e+32
SPACECRAFT_SOLAR_DISTANCE = 2.43665e+08
TARGET_NAME = MARS
/* CAMERA DATA ELEMENTS */
DETECTOR_TEMPERATURE = 19.1861
FOCAL_PLANE_TEMPERATURE = 8.5833
INST_CMPRS_NAME = "DISCRETE COSINE TRANSFORMATION (DCT)"
INST_CMPRS_RATIO = 15.5451
INST_CMPRS_QUALITY = 0
INST_CMPRS_QUANTZ_TBL_ID = 0
INSTRUMENT_TEMPERATURE = 13.4769
LENS_TEMPERATURE = 8.7872
MACROPIXEL_SIZE = 4
MISSING_FRAMES = 0
PIXEL_SUBSAMPLING_FLAG = N
SIGNAL_CHAIN_ID = 2
/* RADIOMETRIC DATA ELEMENTS */
BANDWIDTH = 81.0
CENTER_FILTER_WAVELENGTH = 955.5
RADIANCE_OFFSET = 1.54782
RADIANCE_SCALING_FACTOR = 0.0046745
REFLECTANCE_SCALING_FACTOR = 0.000598757
MEX:REFLECTANCE_OFFSET = 0.19826
/* IMAGE OBJECT DEFINITIONS */
OBJECT = IMAGE
  INTERCHANGE_FORMAT = BINARY
  LINES = 12261
  LINE_SAMPLES = 2261
  SAMPLE_TYPE = UNSIGNED_INTEGER
  SAMPLE_BITS = 8
  BANDS = 1
  BAND_STORAGE_TYPE = BAND_SEQUENTIAL
  MAXIMUM = 255
  MEAN = 136.602
  MINIMUM = 1
  STANDARD_DEVIATION = 12.6834
END_OBJECT = IMAGE
/* MAP OBJECT DEFINITIONS */
OBJECT = IMAGE_MAP_PROJECTION
  ^DATA_SET_MAP_PROJECTION_CATALOG= "DSMAP.CAT"
  A_AXIS_RADIUS = 3396.0
  B_AXIS_RADIUS = 3396.0
  C_AXIS_RADIUS = 3396.0
  CENTER_LATITUDE = 0.0
  CENTER_LONGITUDE = 196.0
  COORDINATE_SYSTEM_NAME = PLANETOGRAPHIC
  COORDINATE_SYSTEM_TYPE = "BODY-FIXED ROTATING"
  EASTERNMOST_LONGITUDE = 196.649
  FIRST_STANDARD_PARALLEL = "N/A"
  LINE_FIRST_PIXEL = 1
  LINE_LAST_PIXEL = 12261
  LINE_PROJECTION_OFFSET = 15572.375
  MAP_PROJECTION_ROTATION = 0.0
  MAP_PROJECTION_TYPE = SINUSOIDAL
  MAP_RESOLUTION = 1185.42760773333
  MAP_SCALE = 0.05
  MAXIMUM_LATITUDE = 13.1318
  MINIMUM_LATITUDE = 2.77572
  POSITIVE_LONGITUDE_DIRECTION = EAST
  REFERENCE_LATITUDE = "N/A"
  REFERENCE_LONGITUDE = "N/A"
  SAMPLE_FIRST_PIXEL = 1
  SAMPLE_LAST_PIXEL = 2261
  SAMPLE_PROJECTION_OFFSET = 1396.875
  SECOND_STANDARD_PARALLEL = "N/A"
  WESTERNMOST_LONGITUDE = 194.907
END_OBJECT = IMAGE_MAP_PROJECTION
/* The JPEG2000 image data file associated with this label. */
OBJECT = COMPRESSED_FILE
  FILE_NAME = "H5294_0001_IR3.JP2"
  RECORD_TYPE = UNDEFINED
  FILE_RECORDS = UNK
  ENCODING_TYPE = "JP2"
  INTERCHANGE_FORMAT = BINARY
  UNCOMPRESSED_FILE_NAME = "H5294_0001_IR3.IMG"
  REQUIRED_STORAGE_BYTES = "27744731"
  ^DESCRIPTION = "JP2INFO.TXT"
END_OBJECT = COMPRESSED_FILE
END
