PDS_VERSION_ID = PDS3
/* FILE DATA ELEMENTS */
RECORD_TYPE = STREAM
/* POINTERS TO DATA OBJECTS */
^COMPRESSED_FILE = "H5295_0001_S23.JP2"
/* IDENTIFICATION DATA ELEMENTS */
DATA_SET_ID = "MEX-M-HRSC-5-REFDR-MAPPROJECTED-V3.0"
DATA_SET_NAME = "MARS EXPRESS HRSC MAP PROJECTED REFDR V3.0"
DETECTOR_ID = MEX_HRSC_S2
EVENT_TYPE = "MARS-REGIONAL-MAPPING-Im-Fl"
INSTRUMENT_HOST_ID = MEX
INSTRUMENT_HOST_NAME = "MARS EXPRESS"
INSTRUMENT_ID = HRSC
INSTRUMENT_NAME = "HIGH RESOLUTION STEREO CAMERA"
MISSION_NAME = "MARS EXPRESS"
MISSION_PHASE_NAME = ME_Phase_11
PROCESSING_LEVEL_ID = 3
PRODUCT_CREATION_TIME = 2016-05-13T12:18:58.000Z
PRODUCT_ID = "H5295_0001_S23.JP2"
RELEASE_ID = 0060
REVISION_ID = 0000
/* QUALITY DATA ELEMENTS */
DATA_QUALITY_ID = 2
DATA_QUALITY_DESC = "Data calculated based on photogrammetrically improved orbit and attitude data"
/* TIME DATA ELEMENTS */
SPACECRAFT_CLOCK_START_COUNT = "1/0151168646.09057"
SPACECRAFT_CLOCK_STOP_COUNT = "1/0151169119.31444"
START_TIME = 2008-02-15T15:18:55.105Z
STOP_TIME = 2008-02-15T15:25:21.341Z
/* ORBITAL DATA ELEMENTS */
ASCENDING_NODE_LONGITUDE = 118.01
MAXIMUM_RESOLUTION = 40.8
FOOTPRINT_POINT_LATITUDE = (9.80112,9.79924,9.79765,9.79641, 9.79548,9.82112,9.48817,8.9827,8.64466, 8.13066,7.61287,7.26415,6.914,6.56093, 6.19402,5.83891,5.47629,5.11559,4.5582, 4.18749,3.62838,3.25263,2.86921,2.29491 ,1.8989,1.31719,0.723316,0.322294, -0.0823022,-0.49011,-1.09753,-1.50679, -1.94165,-2.36243,-3.00306,-3.4317, -3.85917,-4.49427,-5.12329,-5.73967, -6.15201,-6.55934,-6.9623,-7.56946, -7.96876,-8.3651,-8.75968,-9.15134, -9.53861,-9.57148,-9.57856,-9.58777, -9.58886,-9.58997,-9.589,-9.1993, -8.80992,-8.21576,-7.61736,-7.00885, -6.60744,-6.19913,-5.78601,-5.37132, -4.9512,-4.53447,-4.11494,-3.47384, -3.04388,-2.61726,-2.18897,-1.76806, -1.34957,-0.936735,-0.526109,0.0855276, 0.490837,1.09063,1.68269,2.0731,2.45647 ,3.02959,3.59858,3.98269,4.35427, 4.72309,5.08944,5.4522,5.99147,6.35116, 6.70447,7.0624,7.4154,7.76466,8.28366, 8.62662,8.96482,9.30469,9.63804, 9.80112)
FOOTPRINT_POINT_LONGITUDE = (96.6812,96.4168,96.1533,95.8908,95.629 ,95.2267,95.2174,95.2031,95.1932, 95.1777,95.1617,95.1508,95.1393,95.1276 ,95.1178,95.105,95.0927,95.0796,95.0608 ,95.047,95.0254,95.0107,94.996,94.9723, 94.9578,94.9317,94.9056,94.8878,94.8696 ,94.851,94.8195,94.798,94.7803,94.7585, 94.725,94.7023,94.6796,94.6448,94.6095, 94.5721,94.5479,94.5229,94.4973,94.46, 94.4344,94.4084,94.3824,94.3561,94.3292 ,94.8466,95.2228,95.7435,96.1498,96.615 ,97.1981,97.3118,97.2977,97.2789, 97.2599,97.243,97.2292,97.2171,97.2061, 97.1949,97.185,97.173,97.1612,97.1465, 97.1367,97.1258,97.1172,97.1076,97.0987 ,97.0892,97.0808,97.0696,97.063,97.0529 ,97.0432,97.0367,97.0293,97.0197, 97.0114,97.0093,97.0035,96.9983,96.9926 ,96.9877,96.9799,96.9756,96.9711, 96.9682,96.9658,96.9617,96.957,96.9531, 96.9492,96.9456,96.9421,96.6812)
ORBIT_NUMBER = 5295
ORBITAL_ECCENTRICITY = 0.572
ORBITAL_INCLINATION = 86.73
ORBITAL_SEMIMAJOR_AXIS = 8706.46
PERIAPSIS_ALTITUDE = 334.28
PERIAPSIS_ARGUMENT_ANGLE = 146.78
PERIAPSIS_TIME = 2008-02-15T15:12:04.000Z
SPACECRAFT_ORIENTATION = (0.0,-1.0,0.0)
^MEX_ORIENTATION_DESC = "MEX_ORIENTATION_DESC.TXT"
SPACECRAFT_POINTING_MODE = ACROSSTRACK
^MEX_POINTING_DESC = "MEX_POINTING_DESC.TXT"
RIGHT_ASCENSION = -1e+32
DECLINATION = -1e+32
OFFSET_ANGLE = 0.3
SPACECRAFT_SOLAR_DISTANCE = 2.437e+08
TARGET_NAME = MARS
/* CAMERA DATA ELEMENTS */
DETECTOR_TEMPERATURE = 21.0212
FOCAL_PLANE_TEMPERATURE = 8.7872
INST_CMPRS_NAME = "DISCRETE COSINE TRANSFORMATION (DCT)"
INST_CMPRS_RATIO = 9.93339
INST_CMPRS_QUALITY = 0
INST_CMPRS_QUANTZ_TBL_ID = 0
INSTRUMENT_TEMPERATURE = 13.6808
LENS_TEMPERATURE = 9.3989
MACROPIXEL_SIZE = 2
MISSING_FRAMES = 0
PIXEL_SUBSAMPLING_FLAG = N
SIGNAL_CHAIN_ID = 1
/* RADIOMETRIC DATA ELEMENTS */
BANDWIDTH = 178.0
CENTER_FILTER_WAVELENGTH = 679.0
RADIANCE_OFFSET = 2.57
RADIANCE_SCALING_FACTOR = 0.0262039
REFLECTANCE_SCALING_FACTOR = 0.000824149
MEX:REFLECTANCE_OFFSET = 0.08083
/* IMAGE OBJECT DEFINITIONS */
OBJECT = IMAGE
  INTERCHANGE_FORMAT = BINARY
  LINES = 45984
  LINE_SAMPLES = 6242
  SAMPLE_TYPE = UNSIGNED_INTEGER
  SAMPLE_BITS = 8
  BANDS = 1
  BAND_STORAGE_TYPE = BAND_SEQUENTIAL
  MAXIMUM = 255
  MEAN = 134.226
  MINIMUM = 1
  STANDARD_DEVIATION = 43.2774
END_OBJECT = IMAGE
/* MAP OBJECT DEFINITIONS */
OBJECT = IMAGE_MAP_PROJECTION
  ^DATA_SET_MAP_PROJECTION_CATALOG= "DSMAP.CAT"
  A_AXIS_RADIUS = 3396.0
  B_AXIS_RADIUS = 3396.0
  C_AXIS_RADIUS = 3396.0
  CENTER_LATITUDE = 0.0
  CENTER_LONGITUDE = 96.0
  COORDINATE_SYSTEM_NAME = PLANETOGRAPHIC
  COORDINATE_SYSTEM_TYPE = "BODY-FIXED ROTATING"
  EASTERNMOST_LONGITUDE = 97.31180000000001
  FIRST_STANDARD_PARALLEL = "N/A"
  LINE_FIRST_PIXEL = 1
  LINE_LAST_PIXEL = 45984
  LINE_PROJECTION_OFFSET = 23237.75
  MAP_PROJECTION_ROTATION = 0.0
  MAP_PROJECTION_TYPE = SINUSOIDAL
  MAP_RESOLUTION = 2370.85521546667
  MAP_SCALE = 0.025
  MAXIMUM_LATITUDE = 9.821120000000001
  MINIMUM_LATITUDE = -9.589969999999999
  POSITIVE_LONGITUDE_DIRECTION = EAST
  REFERENCE_LATITUDE = "N/A"
  REFERENCE_LONGITUDE = "N/A"
  SAMPLE_FIRST_PIXEL = 1
  SAMPLE_LAST_PIXEL = 6242
  SAMPLE_PROJECTION_OFFSET = 3503.25
  SECOND_STANDARD_PARALLEL = "N/A"
  WESTERNMOST_LONGITUDE = 94.3292
END_OBJECT = IMAGE_MAP_PROJECTION
/* The JPEG2000 image data file associated with this label. */
OBJECT = COMPRESSED_FILE
  FILE_NAME = "H5295_0001_S23.JP2"
  RECORD_TYPE = UNDEFINED
  FILE_RECORDS = UNK
  ENCODING_TYPE = "JP2"
  INTERCHANGE_FORMAT = BINARY
  UNCOMPRESSED_FILE_NAME = "H5295_0001_S23.IMG"
  REQUIRED_STORAGE_BYTES = "287063338"
  ^DESCRIPTION = "JP2INFO.TXT"
END_OBJECT = COMPRESSED_FILE
END
