PDS_VERSION_ID = PDS3
/* FILE DATA ELEMENTS */
RECORD_TYPE = STREAM
/* POINTERS TO DATA OBJECTS */
^COMPRESSED_FILE = "H5296_0000_BL3.JP2"
/* IDENTIFICATION DATA ELEMENTS */
DATA_SET_ID = "MEX-M-HRSC-5-REFDR-MAPPROJECTED-V3.0"
DATA_SET_NAME = "MARS EXPRESS HRSC MAP PROJECTED REFDR V3.0"
DETECTOR_ID = MEX_HRSC_BLUE
EVENT_TYPE = "MARS-REGIONAL-MAPPING-Im-La"
INSTRUMENT_HOST_ID = MEX
INSTRUMENT_HOST_NAME = "MARS EXPRESS"
INSTRUMENT_ID = HRSC
INSTRUMENT_NAME = "HIGH RESOLUTION STEREO CAMERA"
MISSION_NAME = "MARS EXPRESS"
MISSION_PHASE_NAME = ME_Phase_11
PROCESSING_LEVEL_ID = 3
PRODUCT_CREATION_TIME = 2016-05-13T12:18:58.000Z
PRODUCT_ID = "H5296_0000_BL3.JP2"
RELEASE_ID = 0060
REVISION_ID = 0000
/* QUALITY DATA ELEMENTS */
DATA_QUALITY_ID = 2
DATA_QUALITY_DESC = "Data calculated based on photogrammetrically improved orbit and attitude data"
/* TIME DATA ELEMENTS */
SPACECRAFT_CLOCK_START_COUNT = "1/0151192902.09055"
SPACECRAFT_CLOCK_STOP_COUNT = "1/0151193302.33168"
START_TIME = 2008-02-15T22:02:21.344Z
STOP_TIME = 2008-02-15T22:07:49.666Z
/* ORBITAL DATA ELEMENTS */
ASCENDING_NODE_LONGITUDE = 118.0
MAXIMUM_RESOLUTION = 54.1
FOOTPRINT_POINT_LATITUDE = (34.5633,34.5558,34.5493,34.3575, 33.9617,33.3683,32.7752,32.1825,31.5895 ,31.1942,30.7994,30.2074,29.616,29.2246 ,28.8307,28.4287,27.8151,27.2068, 26.8012,26.396,25.9911,25.5865,25.1821, 24.7782,24.3747,23.9716,23.5689,23.1665 ,22.7645,22.3632,21.9623,21.562,21.1621 ,20.7627,20.3637,19.9188,19.4443, 18.9704,18.4975,18.0269,17.3219,16.8518 ,16.1482,15.6792,15.2128,14.7477, 14.2834,14.0459,13.5707,13.5439,13.5423 ,13.5391,13.5386,14.0136,14.252,14.7171 ,15.1831,15.8842,16.3522,16.8214, 17.2918,17.7632,18.2351,18.7092,19.4194 ,19.8946,20.3438,20.743,21.1429,21.5432 ,21.944,22.3454,22.7472,23.1495,23.5523 ,23.9556,24.3593,24.7632,25.1677, 25.5725,25.9782,26.3831,26.789,27.1952, 27.6014,28.0081,28.4151,28.8189,29.4104 ,30.0027,30.3977,30.7929,31.1889, 31.7817,32.1774,32.7721,33.3663,33.7626 ,34.1582,34.5633)
FOOTPRINT_POINT_LONGITUDE = (356.058,355.475,355.086,354.887,354.9, 354.917,354.933,354.947,354.962,354.971 ,354.979,354.991,355.001,355.003, 355.009,355.015,355.03,355.036,355.04, 355.043,355.047,355.05,355.052,355.055, 355.056,355.058,355.059,355.06,355.061, 355.061,355.061,355.06,355.059,355.059, 355.057,355.055,355.053,355.05,355.047, 355.041,355.032,355.028,355.021,355.018 ,355.011,355.004,354.997,354.994, 354.986,355.278,355.627,356.115,356.484 ,356.479,356.477,356.474,356.471, 356.467,356.463,356.459,356.456,356.453 ,356.449,356.448,356.441,356.438, 356.435,356.432,356.429,356.426,356.423 ,356.42,356.417,356.414,356.411,356.409 ,356.406,356.402,356.399,356.396, 356.394,356.39,356.386,356.383,356.379, 356.376,356.372,356.37,356.364,356.358, 356.355,356.351,356.348,356.341,356.337 ,356.332,356.326,356.322,356.316, 356.058)
ORBIT_NUMBER = 5296
ORBITAL_ECCENTRICITY = 0.572
ORBITAL_INCLINATION = 86.73
ORBITAL_SEMIMAJOR_AXIS = 8698.45
PERIAPSIS_ALTITUDE = 335.33
PERIAPSIS_ARGUMENT_ANGLE = 146.6
PERIAPSIS_TIME = 2008-02-15T22:02:34.000Z
SPACECRAFT_ORIENTATION = (0.0,-1.0,0.0)
^MEX_ORIENTATION_DESC = "MEX_ORIENTATION_DESC.TXT"
SPACECRAFT_POINTING_MODE = NADIR
^MEX_POINTING_DESC = "MEX_POINTING_DESC.TXT"
RIGHT_ASCENSION = -1e+32
DECLINATION = -1e+32
OFFSET_ANGLE = -1e+32
SPACECRAFT_SOLAR_DISTANCE = 2.43734e+08
TARGET_NAME = MARS
/* CAMERA DATA ELEMENTS */
DETECTOR_TEMPERATURE = 17.7588
FOCAL_PLANE_TEMPERATURE = 8.3794
INST_CMPRS_NAME = "DISCRETE COSINE TRANSFORMATION (DCT)"
INST_CMPRS_RATIO = 11.9482
INST_CMPRS_QUALITY = 0
INST_CMPRS_QUANTZ_TBL_ID = 0
INSTRUMENT_TEMPERATURE = 11.4379
LENS_TEMPERATURE = 8.7872
MACROPIXEL_SIZE = 4
MISSING_FRAMES = 0
PIXEL_SUBSAMPLING_FLAG = N
SIGNAL_CHAIN_ID = 2
/* RADIOMETRIC DATA ELEMENTS */
BANDWIDTH = 76.0
CENTER_FILTER_WAVELENGTH = 444.0
RADIANCE_OFFSET = 0.57437
RADIANCE_SCALING_FACTOR = 0.00188318
REFLECTANCE_SCALING_FACTOR = 0.000114943
MEX:REFLECTANCE_OFFSET = 0.0350575
/* IMAGE OBJECT DEFINITIONS */
OBJECT = IMAGE
  INTERCHANGE_FORMAT = BINARY
  LINES = 24952
  LINE_SAMPLES = 1792
  SAMPLE_TYPE = UNSIGNED_INTEGER
  SAMPLE_BITS = 8
  BANDS = 1
  BAND_STORAGE_TYPE = BAND_SEQUENTIAL
  MAXIMUM = 255
  MEAN = 106.378
  MINIMUM = 1
  STANDARD_DEVIATION = 28.8785
END_OBJECT = IMAGE
/* MAP OBJECT DEFINITIONS */
OBJECT = IMAGE_MAP_PROJECTION
  ^DATA_SET_MAP_PROJECTION_CATALOG= "DSMAP.CAT"
  A_AXIS_RADIUS = 3396.0
  B_AXIS_RADIUS = 3396.0
  C_AXIS_RADIUS = 3396.0
  CENTER_LATITUDE = 0.0
  CENTER_LONGITUDE = 356.0
  COORDINATE_SYSTEM_NAME = PLANETOGRAPHIC
  COORDINATE_SYSTEM_TYPE = "BODY-FIXED ROTATING"
  EASTERNMOST_LONGITUDE = 356.484
  FIRST_STANDARD_PARALLEL = "N/A"
  LINE_FIRST_PIXEL = 1
  LINE_LAST_PIXEL = 24952
  LINE_PROJECTION_OFFSET = 41003.125
  MAP_PROJECTION_ROTATION = 0.0
  MAP_PROJECTION_TYPE = SINUSOIDAL
  MAP_RESOLUTION = 1185.42760773333
  MAP_SCALE = 0.05
  MAXIMUM_LATITUDE = 34.5633
  MINIMUM_LATITUDE = 13.5386
  POSITIVE_LONGITUDE_DIRECTION = EAST
  REFERENCE_LATITUDE = "N/A"
  REFERENCE_LONGITUDE = "N/A"
  SAMPLE_FIRST_PIXEL = 1
  SAMPLE_LAST_PIXEL = 1792
  SAMPLE_PROJECTION_OFFSET = 1201.125
  SECOND_STANDARD_PARALLEL = "N/A"
  WESTERNMOST_LONGITUDE = 354.887
END_OBJECT = IMAGE_MAP_PROJECTION
/* The JPEG2000 image data file associated with this label. */
OBJECT = COMPRESSED_FILE
  FILE_NAME = "H5296_0000_BL3.JP2"
  RECORD_TYPE = UNDEFINED
  FILE_RECORDS = UNK
  ENCODING_TYPE = "JP2"
  INTERCHANGE_FORMAT = BINARY
  UNCOMPRESSED_FILE_NAME = "H5296_0000_BL3.IMG"
  REQUIRED_STORAGE_BYTES = "44733696"
  ^DESCRIPTION = "JP2INFO.TXT"
END_OBJECT = COMPRESSED_FILE
END
