PDS_VERSION_ID = PDS3
/* FILE DATA ELEMENTS */
RECORD_TYPE = STREAM
/* POINTERS TO DATA OBJECTS */
^COMPRESSED_FILE = "H5296_0000_P23.JP2"
/* IDENTIFICATION DATA ELEMENTS */
DATA_SET_ID = "MEX-M-HRSC-5-REFDR-MAPPROJECTED-V3.0"
DATA_SET_NAME = "MARS EXPRESS HRSC MAP PROJECTED REFDR V3.0"
DETECTOR_ID = MEX_HRSC_P2
EVENT_TYPE = "MARS-REGIONAL-MAPPING-Im-La"
INSTRUMENT_HOST_ID = MEX
INSTRUMENT_HOST_NAME = "MARS EXPRESS"
INSTRUMENT_ID = HRSC
INSTRUMENT_NAME = "HIGH RESOLUTION STEREO CAMERA"
MISSION_NAME = "MARS EXPRESS"
MISSION_PHASE_NAME = ME_Phase_11
PROCESSING_LEVEL_ID = 3
PRODUCT_CREATION_TIME = 2016-05-13T12:18:58.000Z
PRODUCT_ID = "H5296_0000_P23.JP2"
RELEASE_ID = 0060
REVISION_ID = 0000
/* QUALITY DATA ELEMENTS */
DATA_QUALITY_ID = 2
DATA_QUALITY_DESC = "Data calculated based on photogrammetrically improved orbit and attitude data"
/* TIME DATA ELEMENTS */
SPACECRAFT_CLOCK_START_COUNT = "1/0151192902.09055"
SPACECRAFT_CLOCK_STOP_COUNT = "1/0151193302.33168"
START_TIME = 2008-02-15T22:02:35.940Z
STOP_TIME = 2008-02-15T22:08:09.452Z
/* ORBITAL DATA ELEMENTS */
ASCENDING_NODE_LONGITUDE = 118.0
MAXIMUM_RESOLUTION = 27.9
FOOTPRINT_POINT_LATITUDE = (34.545,34.5391,34.5707,34.1737,33.7762 ,33.182,32.7867,32.1953,31.8001,31.4044 ,30.8129,30.4193,30.0253,29.6332, 29.2377,28.8329,28.4284,27.8098,27.207, 26.8054,26.2029,25.8026,25.2025,24.8029 ,24.4043,24.0066,23.609,23.212,22.6172, 22.2223,21.8282,21.4347,20.7637,20.2957 ,19.8294,19.3644,18.8995,18.4374, 17.9794,17.2958,16.8379,16.3798,15.9148 ,15.4598,14.9963,14.301,14.0636,13.5904 ,13.5518,13.549,13.546,13.5464,13.7809, 14.0178,14.2557,14.7209,15.1866,15.8763 ,16.3312,16.7884,17.4777,17.938,18.3998 ,18.8691,19.3292,19.7941,20.2609, 20.7284,21.4059,21.7997,22.1942,22.5899 ,22.9861,23.3831,23.7811,24.3792, 24.9779,25.3777,25.7804,26.3811,26.7832 ,27.1863,27.5886,27.9923,28.3965, 28.8013,29.2074,29.614,30.0092,30.4021, 30.796,31.1934,31.7828,32.1781,32.7744, 33.3695,33.7665,34.1614,34.5601,34.545)
FOOTPRINT_POINT_LONGITUDE = (355.723,355.303,354.869,354.881, 354.894,354.91,354.92,354.934,354.943, 354.953,354.965,354.973,354.98,354.986, 354.987,354.993,354.999,355.013,355.019 ,355.022,355.028,355.03,355.034,355.036 ,355.037,355.038,355.039,355.04,355.04, 355.04,355.039,355.038,355.036,355.034, 355.031,355.028,355.025,355.021,355.015 ,355.004,354.999,354.994,354.992, 354.985,354.978,354.966,354.962,354.954 ,355.299,355.719,356.02,356.35,356.503, 356.501,356.499,356.496,356.492,356.486 ,356.482,356.478,356.472,356.468, 356.464,356.464,356.458,356.454,356.45, 356.446,356.44,356.437,356.434,356.431, 356.427,356.424,356.421,356.416,356.411 ,356.407,356.405,356.399,356.395, 356.392,356.387,356.383,356.38,356.376, 356.372,356.368,356.365,356.36,356.356, 356.353,356.345,356.341,356.336,356.329 ,356.325,356.319,356.315,355.723)
ORBIT_NUMBER = 5296
ORBITAL_ECCENTRICITY = 0.572
ORBITAL_INCLINATION = 86.73
ORBITAL_SEMIMAJOR_AXIS = 8698.45
PERIAPSIS_ALTITUDE = 335.33
PERIAPSIS_ARGUMENT_ANGLE = 146.6
PERIAPSIS_TIME = 2008-02-15T22:02:34.000Z
SPACECRAFT_ORIENTATION = (0.0,-1.0,0.0)
^MEX_ORIENTATION_DESC = "MEX_ORIENTATION_DESC.TXT"
SPACECRAFT_POINTING_MODE = NADIR
^MEX_POINTING_DESC = "MEX_POINTING_DESC.TXT"
RIGHT_ASCENSION = -1e+32
DECLINATION = -1e+32
OFFSET_ANGLE = -1e+32
SPACECRAFT_SOLAR_DISTANCE = 2.43734e+08
TARGET_NAME = MARS
/* CAMERA DATA ELEMENTS */
DETECTOR_TEMPERATURE = 17.1471
FOCAL_PLANE_TEMPERATURE = 8.3794
INST_CMPRS_NAME = "DISCRETE COSINE TRANSFORMATION (DCT)"
INST_CMPRS_RATIO = 7.35849
INST_CMPRS_QUALITY = 0
INST_CMPRS_QUANTZ_TBL_ID = 0
INSTRUMENT_TEMPERATURE = 11.4379
LENS_TEMPERATURE = 8.7872
MACROPIXEL_SIZE = 2
MISSING_FRAMES = 0
PIXEL_SUBSAMPLING_FLAG = N
SIGNAL_CHAIN_ID = 3
/* RADIOMETRIC DATA ELEMENTS */
BANDWIDTH = 177.0
CENTER_FILTER_WAVELENGTH = 676.5
RADIANCE_OFFSET = 3.12349
RADIANCE_SCALING_FACTOR = 0.0271705
REFLECTANCE_SCALING_FACTOR = 0.000855832
MEX:REFLECTANCE_OFFSET = 0.0983857
/* IMAGE OBJECT DEFINITIONS */
OBJECT = IMAGE
  INTERCHANGE_FORMAT = BINARY
  LINES = 49903
  LINE_SAMPLES = 3584
  SAMPLE_TYPE = UNSIGNED_INTEGER
  SAMPLE_BITS = 8
  BANDS = 1
  BAND_STORAGE_TYPE = BAND_SEQUENTIAL
  MAXIMUM = 255
  MEAN = 135.724
  MINIMUM = 1
  STANDARD_DEVIATION = 27.4045
END_OBJECT = IMAGE
/* MAP OBJECT DEFINITIONS */
OBJECT = IMAGE_MAP_PROJECTION
  ^DATA_SET_MAP_PROJECTION_CATALOG= "DSMAP.CAT"
  A_AXIS_RADIUS = 3396.0
  B_AXIS_RADIUS = 3396.0
  C_AXIS_RADIUS = 3396.0
  CENTER_LATITUDE = 0.0
  CENTER_LONGITUDE = 356.0
  COORDINATE_SYSTEM_NAME = PLANETOGRAPHIC
  COORDINATE_SYSTEM_TYPE = "BODY-FIXED ROTATING"
  EASTERNMOST_LONGITUDE = 356.503
  FIRST_STANDARD_PARALLEL = "N/A"
  LINE_FIRST_PIXEL = 1
  LINE_LAST_PIXEL = 49903
  LINE_PROJECTION_OFFSET = 82006.75
  MAP_PROJECTION_ROTATION = 0.0
  MAP_PROJECTION_TYPE = SINUSOIDAL
  MAP_RESOLUTION = 2370.85521546667
  MAP_SCALE = 0.025
  MAXIMUM_LATITUDE = 34.5707
  MINIMUM_LATITUDE = 13.546
  POSITIVE_LONGITUDE_DIRECTION = EAST
  REFERENCE_LATITUDE = "N/A"
  REFERENCE_LONGITUDE = "N/A"
  SAMPLE_FIRST_PIXEL = 1
  SAMPLE_LAST_PIXEL = 3584
  SAMPLE_PROJECTION_OFFSET = 2402.75
  SECOND_STANDARD_PARALLEL = "N/A"
  WESTERNMOST_LONGITUDE = 354.869
END_OBJECT = IMAGE_MAP_PROJECTION
/* The JPEG2000 image data file associated with this label. */
OBJECT = COMPRESSED_FILE
  FILE_NAME = "H5296_0000_P23.JP2"
  RECORD_TYPE = UNDEFINED
  FILE_RECORDS = UNK
  ENCODING_TYPE = "JP2"
  INTERCHANGE_FORMAT = BINARY
  UNCOMPRESSED_FILE_NAME = "H5296_0000_P23.IMG"
  REQUIRED_STORAGE_BYTES = "178873856"
  ^DESCRIPTION = "JP2INFO.TXT"
END_OBJECT = COMPRESSED_FILE
END
