PDS_VERSION_ID = PDS3
/* FILE DATA ELEMENTS */
RECORD_TYPE = STREAM
/* POINTERS TO DATA OBJECTS */
^COMPRESSED_FILE = "H5297_0000_GR3.JP2"
/* IDENTIFICATION DATA ELEMENTS */
DATA_SET_ID = "MEX-M-HRSC-5-REFDR-MAPPROJECTED-V3.0"
DATA_SET_NAME = "MARS EXPRESS HRSC MAP PROJECTED REFDR V3.0"
DETECTOR_ID = MEX_HRSC_GREEN
EVENT_TYPE = "MARS-REGIONAL-MAPPING-Vo-Te"
INSTRUMENT_HOST_ID = MEX
INSTRUMENT_HOST_NAME = "MARS EXPRESS"
INSTRUMENT_ID = HRSC
INSTRUMENT_NAME = "HIGH RESOLUTION STEREO CAMERA"
MISSION_NAME = "MARS EXPRESS"
MISSION_PHASE_NAME = ME_Phase_11
PROCESSING_LEVEL_ID = 3
PRODUCT_CREATION_TIME = 2016-05-13T12:18:58.000Z
PRODUCT_ID = "H5297_0000_GR3.JP2"
RELEASE_ID = 0060
REVISION_ID = 0000
/* QUALITY DATA ELEMENTS */
DATA_QUALITY_ID = 1
DATA_QUALITY_DESC = "Data calculated based on original SPICE kernels"
/* TIME DATA ELEMENTS */
SPACECRAFT_CLOCK_START_COUNT = "1/0151217421.07296"
SPACECRAFT_CLOCK_STOP_COUNT = "1/0151217664.06493"
START_TIME = 2008-02-16T04:50:52.150Z
STOP_TIME = 2008-02-16T04:53:50.448Z
/* ORBITAL DATA ELEMENTS */
ASCENDING_NODE_LONGITUDE = 117.98
MAXIMUM_RESOLUTION = 106.2
FOOTPRINT_POINT_LATITUDE = (42.1336,42.1273,42.116,42.0938,41.8626 ,41.6312,41.3997,41.1681,40.9363, 40.7044,40.4724,40.2403,40.0081,39.7757 ,39.5432,39.3106,39.0779,38.8451, 38.6121,38.2625,38.0293,37.7961,37.446, 37.2124,36.9791,36.7504,36.5242,36.2979 ,36.0714,35.8449,35.5051,35.2783, 35.0518,34.825,34.5982,34.3712,34.1443, 33.8041,33.5771,33.2367,33.0098,32.7831 ,32.5561,32.3291,31.9887,31.7618, 31.5348,31.1943,30.9672,30.7402,30.5232 ,30.5312,30.5356,30.5396,30.6574, 30.8847,31.2257,31.453,31.6804,31.9077, 32.1349,32.4758,32.8167,33.1576,33.4985 ,33.7258,33.953,34.1803,34.4075,34.7484 ,34.9757,35.2029,35.43,35.6569,35.8838, 36.111,36.3379,36.5645,36.7913,37.1379, 37.3718,37.606,37.8399,38.0735,38.3072, 38.541,38.7748,39.0082,39.3583,39.5914, 39.8244,40.0573,40.29,40.5227,40.8713, 41.2197,41.452,41.7997,42.0324,42.1336)
FOOTPRINT_POINT_LONGITUDE = (255.426,255.154,254.732,254.181, 254.197,254.212,254.228,254.242,254.257 ,254.271,254.286,254.299,254.313, 254.326,254.34,254.352,254.365,254.377, 254.389,254.407,254.418,254.429,254.446 ,254.456,254.467,254.477,254.487, 254.496,254.505,254.513,254.526,254.534 ,254.543,254.55,254.558,254.565,254.572 ,254.583,254.59,254.601,254.607,254.614 ,254.621,254.627,254.637,254.643, 254.649,254.657,254.662,254.668,254.673 ,255.124,255.425,255.762,256.006, 256.003,255.999,255.996,255.993,255.99, 255.987,255.983,255.978,255.973,255.968 ,255.965,255.962,255.958,255.955, 255.949,255.945,255.941,255.937,255.934 ,255.93,255.926,255.922,255.918,255.914 ,255.908,255.904,255.899,255.895, 255.891,255.887,255.882,255.877,255.872 ,255.865,255.861,255.856,255.852, 255.847,255.842,255.835,255.828,255.823 ,255.816,255.809,255.426)
ORBIT_NUMBER = 5297
ORBITAL_ECCENTRICITY = 0.572
ORBITAL_INCLINATION = 86.73
ORBITAL_SEMIMAJOR_AXIS = 8709.86
PERIAPSIS_ALTITUDE = 334.75
PERIAPSIS_ARGUMENT_ANGLE = 146.42
PERIAPSIS_TIME = 2008-02-16T04:53:09.000Z
SPACECRAFT_ORIENTATION = (0.0,-1.0,0.0)
^MEX_ORIENTATION_DESC = "MEX_ORIENTATION_DESC.TXT"
SPACECRAFT_POINTING_MODE = ACROSSTRACK
^MEX_POINTING_DESC = "MEX_POINTING_DESC.TXT"
RIGHT_ASCENSION = -1e+32
DECLINATION = -1e+32
OFFSET_ANGLE = -0.21
SPACECRAFT_SOLAR_DISTANCE = 2.43769e+08
TARGET_NAME = MARS
/* CAMERA DATA ELEMENTS */
DETECTOR_TEMPERATURE = 17.9627
FOCAL_PLANE_TEMPERATURE = 8.3794
INST_CMPRS_NAME = "DISCRETE COSINE TRANSFORMATION (DCT)"
INST_CMPRS_RATIO = 10.2782
INST_CMPRS_QUALITY = 0
INST_CMPRS_QUANTZ_TBL_ID = 0
INSTRUMENT_TEMPERATURE = 11.4379
LENS_TEMPERATURE = 8.7872
MACROPIXEL_SIZE = 8
MISSING_FRAMES = 0
PIXEL_SUBSAMPLING_FLAG = N
SIGNAL_CHAIN_ID = 2
/* RADIOMETRIC DATA ELEMENTS */
BANDWIDTH = 88.0
CENTER_FILTER_WAVELENGTH = 538.0
RADIANCE_OFFSET = 1.10804
RADIANCE_SCALING_FACTOR = 0.00795267
REFLECTANCE_SCALING_FACTOR = 0.000406871
MEX:REFLECTANCE_OFFSET = 0.0566893
/* IMAGE OBJECT DEFINITIONS */
OBJECT = IMAGE
  INTERCHANGE_FORMAT = BINARY
  LINES = 6883
  LINE_SAMPLES = 916
  SAMPLE_TYPE = UNSIGNED_INTEGER
  SAMPLE_BITS = 8
  BANDS = 1
  BAND_STORAGE_TYPE = BAND_SEQUENTIAL
  MAXIMUM = 255
  MEAN = 147.918
  MINIMUM = 1
  STANDARD_DEVIATION = 15.2254
END_OBJECT = IMAGE
/* MAP OBJECT DEFINITIONS */
OBJECT = IMAGE_MAP_PROJECTION
  ^DATA_SET_MAP_PROJECTION_CATALOG= "DSMAP.CAT"
  A_AXIS_RADIUS = 3396.0
  B_AXIS_RADIUS = 3396.0
  C_AXIS_RADIUS = 3396.0
  CENTER_LATITUDE = 0.0
  CENTER_LONGITUDE = 255.0
  COORDINATE_SYSTEM_NAME = PLANETOGRAPHIC
  COORDINATE_SYSTEM_TYPE = "BODY-FIXED ROTATING"
  EASTERNMOST_LONGITUDE = 256.006
  FIRST_STANDARD_PARALLEL = "N/A"
  LINE_FIRST_PIXEL = 1
  LINE_LAST_PIXEL = 6883
  LINE_PROJECTION_OFFSET = 24977.3125
  MAP_PROJECTION_ROTATION = 0.0
  MAP_PROJECTION_TYPE = SINUSOIDAL
  MAP_RESOLUTION = 592.713803866667
  MAP_SCALE = 0.1
  MAXIMUM_LATITUDE = 42.1336
  MINIMUM_LATITUDE = 30.5232
  POSITIVE_LONGITUDE_DIRECTION = EAST
  REFERENCE_LATITUDE = "N/A"
  REFERENCE_LONGITUDE = "N/A"
  SAMPLE_FIRST_PIXEL = 1
  SAMPLE_LAST_PIXEL = 916
  SAMPLE_PROJECTION_OFFSET = 391.8125
  SECOND_STANDARD_PARALLEL = "N/A"
  WESTERNMOST_LONGITUDE = 254.181
END_OBJECT = IMAGE_MAP_PROJECTION
/* The JPEG2000 image data file associated with this label. */
OBJECT = COMPRESSED_FILE
  FILE_NAME = "H5297_0000_GR3.JP2"
  RECORD_TYPE = UNDEFINED
  FILE_RECORDS = UNK
  ENCODING_TYPE = "JP2"
  INTERCHANGE_FORMAT = BINARY
  UNCOMPRESSED_FILE_NAME = "H5297_0000_GR3.IMG"
  REQUIRED_STORAGE_BYTES = "6323148"
  ^DESCRIPTION = "JP2INFO.TXT"
END_OBJECT = COMPRESSED_FILE
END
