PDS_VERSION_ID = PDS3
/* FILE DATA ELEMENTS */
RECORD_TYPE = STREAM
/* POINTERS TO DATA OBJECTS */
^COMPRESSED_FILE = "H5299_0000_BL3.JP2"
/* IDENTIFICATION DATA ELEMENTS */
DATA_SET_ID = "MEX-M-HRSC-5-REFDR-MAPPROJECTED-V3.0"
DATA_SET_NAME = "MARS EXPRESS HRSC MAP PROJECTED REFDR V3.0"
DETECTOR_ID = MEX_HRSC_BLUE
EVENT_TYPE = "MARS-REGIONAL-MAPPING-Te-Gl-Mw"
INSTRUMENT_HOST_ID = MEX
INSTRUMENT_HOST_NAME = "MARS EXPRESS"
INSTRUMENT_ID = HRSC
INSTRUMENT_NAME = "HIGH RESOLUTION STEREO CAMERA"
MISSION_NAME = "MARS EXPRESS"
MISSION_PHASE_NAME = ME_Phase_11
PROCESSING_LEVEL_ID = 3
PRODUCT_CREATION_TIME = 2016-05-13T12:18:58.000Z
PRODUCT_ID = "H5299_0000_BL3.JP2"
RELEASE_ID = 0060
REVISION_ID = 0000
/* QUALITY DATA ELEMENTS */
DATA_QUALITY_ID = 2
DATA_QUALITY_DESC = "Data calculated based on photogrammetrically improved orbit and attitude data"
/* TIME DATA ELEMENTS */
SPACECRAFT_CLOCK_START_COUNT = "1/0151266516.08252"
SPACECRAFT_CLOCK_STOP_COUNT = "1/0151266876.00689"
START_TIME = 2008-02-16T18:29:27.180Z
STOP_TIME = 2008-02-16T18:34:12.824Z
/* ORBITAL DATA ELEMENTS */
ASCENDING_NODE_LONGITUDE = 117.93
MAXIMUM_RESOLUTION = 53.7
FOOTPRINT_POINT_LATITUDE = (52.6322,52.6221,52.6121,52.6012, 52.5894,52.3809,51.9799,51.5782,51.1758 ,50.7731,50.2261,49.8219,49.4171, 49.0118,48.6058,48.1995,47.7924,47.3854 ,46.9776,46.5696,46.1896,45.8468, 45.5041,45.161,44.8171,44.3014,43.9568, 43.6134,43.2687,42.7516,42.2342,41.8889 ,41.3701,40.8502,40.5033,40.158,39.6385 ,39.119,38.7726,38.2525,37.9057,37.5637 ,37.2291,36.7254,36.3884,35.8851, 35.5495,35.0459,34.5427,34.2074,34.1436 ,34.15,34.1542,34.1589,34.4949,34.8312, 35.1676,35.5048,36.0096,36.3474,36.6835 ,37.0196,37.3546,37.6911,38.2108, 38.5571,38.9057,39.4273,39.7743,40.1209 ,40.6398,40.9869,41.5068,42.0259,42.373 ,42.7188,43.2373,43.5828,43.928,44.2732 ,44.618,44.9628,45.307,45.8231,46.1668, 46.7397,47.1492,47.5585,47.967,48.3752, 48.783,49.1902,49.5971,50.0033,50.4091, 50.9584,51.565,51.9688,52.372,52.6322)
FOOTPRINT_POINT_LONGITUDE = (55.6026,55.2174,54.8758,54.5354, 54.1959,53.6956,53.7469,53.7967,53.8452 ,53.8919,53.9531,53.9969,54.0394, 54.0805,54.1208,54.1596,54.1977,54.2337 ,54.2691,54.3031,54.3344,54.3618, 54.3879,54.4135,54.4392,54.4755,54.4999 ,54.5212,54.5437,54.5756,54.6061, 54.6259,54.6553,54.6846,54.7036,54.7196 ,54.7445,54.768,54.7829,54.805,54.819, 54.8325,54.8438,54.8622,54.8755,54.8918 ,54.9022,54.9174,54.9314,54.9402, 55.2023,55.6215,55.9378,56.3518,56.3484 ,56.3458,56.3431,56.3424,56.3386, 56.3394,56.3358,56.3319,56.3252,56.3225 ,56.3176,56.3111,56.3108,56.3072, 56.3029,56.2979,56.288,56.2846,56.2781, 56.27,56.268,56.2626,56.2546,56.2496, 56.2438,56.2386,56.2329,56.2275,56.2209 ,56.2113,56.2046,56.1948,56.1867,56.179 ,56.1702,56.1614,56.1523,56.1429, 56.1333,56.1232,56.1129,56.0981,56.0813 ,56.0699,56.0581,55.6026)
ORBIT_NUMBER = 5299
ORBITAL_ECCENTRICITY = 0.572
ORBITAL_INCLINATION = 86.74
ORBITAL_SEMIMAJOR_AXIS = 8704.08
PERIAPSIS_ALTITUDE = 335.16
PERIAPSIS_ARGUMENT_ANGLE = 146.11
PERIAPSIS_TIME = 2008-02-16T18:34:12.000Z
SPACECRAFT_ORIENTATION = (0.0,-1.0,0.0)
^MEX_ORIENTATION_DESC = "MEX_ORIENTATION_DESC.TXT"
SPACECRAFT_POINTING_MODE = ACROSSTRACK
^MEX_POINTING_DESC = "MEX_POINTING_DESC.TXT"
RIGHT_ASCENSION = -1e+32
DECLINATION = -1e+32
OFFSET_ANGLE = 0.2
SPACECRAFT_SOLAR_DISTANCE = 2.43838e+08
TARGET_NAME = MARS
/* CAMERA DATA ELEMENTS */
DETECTOR_TEMPERATURE = 18.1666
FOCAL_PLANE_TEMPERATURE = 8.5833
INST_CMPRS_NAME = "DISCRETE COSINE TRANSFORMATION (DCT)"
INST_CMPRS_RATIO = 7.26371
INST_CMPRS_QUALITY = 0
INST_CMPRS_QUANTZ_TBL_ID = 0
INSTRUMENT_TEMPERATURE = 11.234
LENS_TEMPERATURE = 8.9911
MACROPIXEL_SIZE = 4
MISSING_FRAMES = 43
PIXEL_SUBSAMPLING_FLAG = N
SIGNAL_CHAIN_ID = 2
/* RADIOMETRIC DATA ELEMENTS */
BANDWIDTH = 76.0
CENTER_FILTER_WAVELENGTH = 444.0
RADIANCE_OFFSET = 0.550468
RADIANCE_SCALING_FACTOR = 0.00185343
REFLECTANCE_SCALING_FACTOR = 0.000113223
MEX:REFLECTANCE_OFFSET = 0.0336271
/* IMAGE OBJECT DEFINITIONS */
OBJECT = IMAGE
  INTERCHANGE_FORMAT = BINARY
  LINES = 21944
  LINE_SAMPLES = 2344
  SAMPLE_TYPE = UNSIGNED_INTEGER
  SAMPLE_BITS = 8
  BANDS = 1
  BAND_STORAGE_TYPE = BAND_SEQUENTIAL
  MAXIMUM = 255
  MEAN = 117.41
  MINIMUM = 1
  STANDARD_DEVIATION = 23.2011
END_OBJECT = IMAGE
/* MAP OBJECT DEFINITIONS */
OBJECT = IMAGE_MAP_PROJECTION
  ^DATA_SET_MAP_PROJECTION_CATALOG= "DSMAP.CAT"
  A_AXIS_RADIUS = 3396.0
  B_AXIS_RADIUS = 3396.0
  C_AXIS_RADIUS = 3396.0
  CENTER_LATITUDE = 0.0
  CENTER_LONGITUDE = 55.0
  COORDINATE_SYSTEM_NAME = PLANETOGRAPHIC
  COORDINATE_SYSTEM_TYPE = "BODY-FIXED ROTATING"
  EASTERNMOST_LONGITUDE = 56.3518
  FIRST_STANDARD_PARALLEL = "N/A"
  LINE_FIRST_PIXEL = 1
  LINE_LAST_PIXEL = 21944
  LINE_PROJECTION_OFFSET = 62411.625
  MAP_PROJECTION_ROTATION = 0.0
  MAP_PROJECTION_TYPE = SINUSOIDAL
  MAP_RESOLUTION = 1185.42760773333
  MAP_SCALE = 0.05
  MAXIMUM_LATITUDE = 52.6322
  MINIMUM_LATITUDE = 34.1436
  POSITIVE_LONGITUDE_DIRECTION = EAST
  REFERENCE_LATITUDE = "N/A"
  REFERENCE_LONGITUDE = "N/A"
  SAMPLE_FIRST_PIXEL = 1
  SAMPLE_LAST_PIXEL = 2344
  SAMPLE_PROJECTION_OFFSET = 977.375
  SECOND_STANDARD_PARALLEL = "N/A"
  WESTERNMOST_LONGITUDE = 53.6956
END_OBJECT = IMAGE_MAP_PROJECTION
/* The JPEG2000 image data file associated with this label. */
OBJECT = COMPRESSED_FILE
  FILE_NAME = "H5299_0000_BL3.JP2"
  RECORD_TYPE = UNDEFINED
  FILE_RECORDS = UNK
  ENCODING_TYPE = "JP2"
  INTERCHANGE_FORMAT = BINARY
  UNCOMPRESSED_FILE_NAME = "H5299_0000_BL3.IMG"
  REQUIRED_STORAGE_BYTES = "51457832"
  ^DESCRIPTION = "JP2INFO.TXT"
END_OBJECT = COMPRESSED_FILE
END
