PDS_VERSION_ID = PDS3
/* FILE DATA ELEMENTS */
RECORD_TYPE = STREAM
/* POINTERS TO DATA OBJECTS */
^COMPRESSED_FILE = "H5301_0000_GR3.JP2"
/* IDENTIFICATION DATA ELEMENTS */
DATA_SET_ID = "MEX-M-HRSC-5-REFDR-MAPPROJECTED-V3.0"
DATA_SET_NAME = "MARS EXPRESS HRSC MAP PROJECTED REFDR V3.0"
DETECTOR_ID = MEX_HRSC_GREEN
EVENT_TYPE = "MARS-REGIONAL-MAPPING-Vo-Te-Mw"
INSTRUMENT_HOST_ID = MEX
INSTRUMENT_HOST_NAME = "MARS EXPRESS"
INSTRUMENT_ID = HRSC
INSTRUMENT_NAME = "HIGH RESOLUTION STEREO CAMERA"
MISSION_NAME = "MARS EXPRESS"
MISSION_PHASE_NAME = ME_Phase_11
PROCESSING_LEVEL_ID = 3
PRODUCT_CREATION_TIME = 2016-05-14T01:01:03.000Z
PRODUCT_ID = "H5301_0000_GR3.JP2"
RELEASE_ID = 0061
REVISION_ID = 0000
/* QUALITY DATA ELEMENTS */
DATA_QUALITY_ID = 2
DATA_QUALITY_DESC = "Data calculated based on photogrammetrically improved orbit and attitude data"
/* TIME DATA ELEMENTS */
SPACECRAFT_CLOCK_START_COUNT = "1/0151316171.08418"
SPACECRAFT_CLOCK_STOP_COUNT = "1/0151316518.57541"
START_TIME = 2008-02-17T08:16:39.894Z
STOP_TIME = 2008-02-17T08:21:08.014Z
/* ORBITAL DATA ELEMENTS */
ASCENDING_NODE_LONGITUDE = 117.9
MAXIMUM_RESOLUTION = 109.6
FOOTPRINT_POINT_LATITUDE = (28.0652,28.0657,28.065,28.0559,27.7079 ,27.3605,26.8389,26.3174,25.797,25.4497 ,25.1034,24.5836,24.2372,23.8911, 23.3721,22.8537,22.5089,22.1632,21.8189 ,21.3026,20.9585,20.6142,20.2714,19.757 ,19.4136,19.0712,18.7285,18.3869, 18.0458,17.5346,17.0239,16.6836,16.3445 ,16.0056,15.667,15.3287,14.9909,14.6534 ,14.3166,13.98,13.644,13.3082,12.9729, 12.6382,12.3039,11.9703,11.6371,11.3045 ,10.9723,10.9132,10.9107,10.9078,10.905 ,10.9002,11.0661,11.399,11.7323,12.0661 ,12.4004,12.7356,13.0706,13.4062, 13.7425,14.0791,14.4159,14.7533,15.0909 ,15.4294,15.7681,16.1075,16.447,16.787, 17.1271,17.4677,17.8087,18.3222,18.6642 ,19.0069,19.5206,20.0357,20.3794, 20.8953,21.2394,21.7559,22.2737,22.792, 23.3109,23.8303,24.1768,24.5235,24.8704 ,25.2176,25.5646,25.9122,26.2597, 26.7816,27.3037,27.6517,28.0001, 28.0652)
FOOTPRINT_POINT_LONGITUDE = (216.282,215.882,215.487,215.182, 215.185,215.187,215.19,215.192,215.194, 215.195,215.196,215.196,215.196,215.196 ,215.195,215.194,215.193,215.191,215.19 ,215.188,215.185,215.183,215.181, 215.177,215.173,215.17,215.166,215.162, 215.159,215.153,215.146,215.141,215.137 ,215.132,215.127,215.122,215.116,215.11 ,215.105,215.099,215.092,215.086, 215.079,215.073,215.066,215.059,215.052 ,215.045,215.037,215.383,215.617, 215.881,216.102,216.457,216.599,216.596 ,216.595,216.593,216.591,216.588, 216.586,216.585,216.583,216.581,216.58, 216.579,216.578,216.576,216.575,216.573 ,216.571,216.57,216.569,216.568,216.567 ,216.561,216.56,216.558,216.557,216.554 ,216.553,216.552,216.552,216.552,216.55 ,216.548,216.546,216.544,216.543, 216.542,216.541,216.539,216.539,216.538 ,216.537,216.535,216.533,216.532, 216.531,216.282)
ORBIT_NUMBER = 5301
ORBITAL_ECCENTRICITY = 0.572
ORBITAL_INCLINATION = 86.74
ORBITAL_SEMIMAJOR_AXIS = 8699.43
PERIAPSIS_ALTITUDE = 335.36
PERIAPSIS_ARGUMENT_ANGLE = 145.72
PERIAPSIS_TIME = 2008-02-17T08:15:10.000Z
SPACECRAFT_ORIENTATION = (0.0,-1.0,0.0)
^MEX_ORIENTATION_DESC = "MEX_ORIENTATION_DESC.TXT"
SPACECRAFT_POINTING_MODE = ACROSSTRACK
^MEX_POINTING_DESC = "MEX_POINTING_DESC.TXT"
RIGHT_ASCENSION = -1e+32
DECLINATION = -1e+32
OFFSET_ANGLE = 0.4
SPACECRAFT_SOLAR_DISTANCE = 2.43907e+08
TARGET_NAME = MARS
/* CAMERA DATA ELEMENTS */
DETECTOR_TEMPERATURE = 17.9627
FOCAL_PLANE_TEMPERATURE = 8.1755
INST_CMPRS_NAME = "DISCRETE COSINE TRANSFORMATION (DCT)"
INST_CMPRS_RATIO = 7.78814
INST_CMPRS_QUALITY = 0
INST_CMPRS_QUANTZ_TBL_ID = 0
INSTRUMENT_TEMPERATURE = 11.234
LENS_TEMPERATURE = 8.5833
MACROPIXEL_SIZE = 8
MISSING_FRAMES = 0
PIXEL_SUBSAMPLING_FLAG = N
SIGNAL_CHAIN_ID = 2
/* RADIOMETRIC DATA ELEMENTS */
BANDWIDTH = 88.0
CENTER_FILTER_WAVELENGTH = 538.0
RADIANCE_OFFSET = 1.42164
RADIANCE_SCALING_FACTOR = 0.00614897
REFLECTANCE_SCALING_FACTOR = 0.00031495
MEX:REFLECTANCE_OFFSET = 0.0728164
/* IMAGE OBJECT DEFINITIONS */
OBJECT = IMAGE
  INTERCHANGE_FORMAT = BINARY
  LINES = 10170
  LINE_SAMPLES = 973
  SAMPLE_TYPE = UNSIGNED_INTEGER
  SAMPLE_BITS = 8
  BANDS = 1
  BAND_STORAGE_TYPE = BAND_SEQUENTIAL
  MAXIMUM = 255
  MEAN = 154.037
  MINIMUM = 1
  STANDARD_DEVIATION = 23.0056
END_OBJECT = IMAGE
/* MAP OBJECT DEFINITIONS */
OBJECT = IMAGE_MAP_PROJECTION
  ^DATA_SET_MAP_PROJECTION_CATALOG= "DSMAP.CAT"
  A_AXIS_RADIUS = 3396.0
  B_AXIS_RADIUS = 3396.0
  C_AXIS_RADIUS = 3396.0
  CENTER_LATITUDE = 0.0
  CENTER_LONGITUDE = 216.0
  COORDINATE_SYSTEM_NAME = PLANETOGRAPHIC
  COORDINATE_SYSTEM_TYPE = "BODY-FIXED ROTATING"
  EASTERNMOST_LONGITUDE = 216.599
  FIRST_STANDARD_PARALLEL = "N/A"
  LINE_FIRST_PIXEL = 1
  LINE_LAST_PIXEL = 10170
  LINE_PROJECTION_OFFSET = 16635.5625
  MAP_PROJECTION_ROTATION = 0.0
  MAP_PROJECTION_TYPE = SINUSOIDAL
  MAP_RESOLUTION = 592.713803866667
  MAP_SCALE = 0.1
  MAXIMUM_LATITUDE = 28.0657
  MINIMUM_LATITUDE = 10.9002
  POSITIVE_LONGITUDE_DIRECTION = EAST
  REFERENCE_LATITUDE = "N/A"
  REFERENCE_LONGITUDE = "N/A"
  SAMPLE_FIRST_PIXEL = 1
  SAMPLE_LAST_PIXEL = 973
  SAMPLE_PROJECTION_OFFSET = 584.1875
  SECOND_STANDARD_PARALLEL = "N/A"
  WESTERNMOST_LONGITUDE = 215.037
END_OBJECT = IMAGE_MAP_PROJECTION
/* The JPEG2000 image data file associated with this label. */
OBJECT = COMPRESSED_FILE
  FILE_NAME = "H5301_0000_GR3.JP2"
  RECORD_TYPE = UNDEFINED
  FILE_RECORDS = UNK
  ENCODING_TYPE = "JP2"
  INTERCHANGE_FORMAT = BINARY
  UNCOMPRESSED_FILE_NAME = "H5301_0000_GR3.IMG"
  REQUIRED_STORAGE_BYTES = "9913897"
  ^DESCRIPTION = "JP2INFO.TXT"
END_OBJECT = COMPRESSED_FILE
END
