PDS_VERSION_ID = PDS3
/* FILE DATA ELEMENTS */
RECORD_TYPE = STREAM
/* POINTERS TO DATA OBJECTS */
^COMPRESSED_FILE = "H5302_0000_ND3.JP2"
/* IDENTIFICATION DATA ELEMENTS */
DATA_SET_ID = "MEX-M-HRSC-5-REFDR-MAPPROJECTED-V3.0"
DATA_SET_NAME = "MARS EXPRESS HRSC MAP PROJECTED REFDR V3.0"
DETECTOR_ID = MEX_HRSC_NADIR
EVENT_TYPE = "MARS-REGIONAL-MAPPING-Te-Pf-Mw"
INSTRUMENT_HOST_ID = MEX
INSTRUMENT_HOST_NAME = "MARS EXPRESS"
INSTRUMENT_ID = HRSC
INSTRUMENT_NAME = "HIGH RESOLUTION STEREO CAMERA"
MISSION_NAME = "MARS EXPRESS"
MISSION_PHASE_NAME = ME_Phase_11
PROCESSING_LEVEL_ID = 3
PRODUCT_CREATION_TIME = 2016-05-14T01:01:03.000Z
PRODUCT_ID = "H5302_0000_ND3.JP2"
RELEASE_ID = 0061
REVISION_ID = 0000
/* QUALITY DATA ELEMENTS */
DATA_QUALITY_ID = 2
DATA_QUALITY_DESC = "Data calculated based on photogrammetrically improved orbit and attitude data"
/* TIME DATA ELEMENTS */
SPACECRAFT_CLOCK_START_COUNT = "1/0151340398.09056"
SPACECRAFT_CLOCK_STOP_COUNT = "1/0151340683.40110"
START_TIME = 2008-02-17T15:00:43.679Z
STOP_TIME = 2008-02-17T15:04:14.661Z
/* ORBITAL DATA ELEMENTS */
ASCENDING_NODE_LONGITUDE = 117.87
MAXIMUM_RESOLUTION = 14
FOOTPRINT_POINT_LATITUDE = (53.9226,53.9068,53.8788,53.8443, 53.5477,53.2557,52.9633,52.6705,52.3794 ,52.0935,51.8073,51.5208,51.2339, 50.9466,50.659,50.3711,50.0828,49.7943, 49.5054,49.2162,48.9267,48.6368,48.3467 ,48.0564,47.7657,47.4747,47.1835,46.892 ,46.6002,46.3267,45.8368,45.3463, 44.8551,44.3633,44.1172,43.8709,43.6245 ,43.378,43.1313,42.8845,42.6376,42.3905 ,42.1433,41.896,41.6486,41.4011,41.1535 ,40.9058,40.658,40.41,40.4061,40.4205, 40.4288,40.6773,40.9258,41.1741,41.4224 ,41.6705,41.9186,42.1666,42.4144, 42.6622,42.91,43.1573,43.4047,43.652, 43.8992,44.1462,44.3931,44.6399,44.8865 ,45.3793,45.8716,46.3632,46.6349, 46.9278,47.2204,47.5128,47.8049,48.0968 ,48.3884,48.6797,48.9708,49.2616, 49.5522,49.8424,50.1324,50.422,50.7114, 51.0004,51.2892,51.5776,51.8657,52.1535 ,52.441,52.7334,53.028,53.3221,53.616, 53.9226)
FOOTPRINT_POINT_LONGITUDE = (115.134,114.585,113.775,112.9,112.946, 112.99,113.033,113.075,113.116,113.155, 113.194,113.232,113.269,113.305,113.34, 113.375,113.409,113.443,113.475,113.507 ,113.539,113.569,113.6,113.629,113.658, 113.686,113.713,113.74,113.767,113.791, 113.833,113.874,113.913,113.951,113.969 ,113.987,114.005,114.022,114.039, 114.056,114.073,114.089,114.104,114.12, 114.135,114.15,114.164,114.178,114.192, 114.206,114.634,115.314,115.812,115.808 ,115.803,115.798,115.794,115.789, 115.784,115.779,115.774,115.769,115.767 ,115.759,115.754,115.749,115.743, 115.738,115.732,115.727,115.721,115.709 ,115.697,115.684,115.677,115.669, 115.662,115.654,115.645,115.637,115.628 ,115.62,115.611,115.601,115.592,115.583 ,115.573,115.564,115.554,115.543, 115.533,115.522,115.512,115.5,115.489, 115.477,115.465,115.453,115.44,115.134)
ORBIT_NUMBER = 5302
ORBITAL_ECCENTRICITY = 0.572
ORBITAL_INCLINATION = 86.73
ORBITAL_SEMIMAJOR_AXIS = 8704.23
PERIAPSIS_ALTITUDE = 335.39
PERIAPSIS_ARGUMENT_ANGLE = 145.56
PERIAPSIS_TIME = 2008-02-17T15:05:47.000Z
SPACECRAFT_ORIENTATION = (0.0,-1.0,0.0)
^MEX_ORIENTATION_DESC = "MEX_ORIENTATION_DESC.TXT"
SPACECRAFT_POINTING_MODE = NADIR
^MEX_POINTING_DESC = "MEX_POINTING_DESC.TXT"
RIGHT_ASCENSION = -1e+32
DECLINATION = -1e+32
OFFSET_ANGLE = -1e+32
SPACECRAFT_SOLAR_DISTANCE = 2.43941e+08
TARGET_NAME = MARS
/* CAMERA DATA ELEMENTS */
DETECTOR_TEMPERATURE = 19.1861
FOCAL_PLANE_TEMPERATURE = 7.9716
INST_CMPRS_NAME = "DISCRETE COSINE TRANSFORMATION (DCT)"
INST_CMPRS_RATIO = 6.80849
INST_CMPRS_QUALITY = 0
INST_CMPRS_QUANTZ_TBL_ID = 0
INSTRUMENT_TEMPERATURE = 11.0301
LENS_TEMPERATURE = 8.5833
MACROPIXEL_SIZE = 1
MISSING_FRAMES = 0
PIXEL_SUBSAMPLING_FLAG = N
SIGNAL_CHAIN_ID = 0
/* RADIOMETRIC DATA ELEMENTS */
BANDWIDTH = 177.0
CENTER_FILTER_WAVELENGTH = 677.5
RADIANCE_OFFSET = 3.34404
RADIANCE_SCALING_FACTOR = 0.0174852
REFLECTANCE_SCALING_FACTOR = 0.000552744
MEX:REFLECTANCE_OFFSET = 0.105712
/* IMAGE OBJECT DEFINITIONS */
OBJECT = IMAGE
  INTERCHANGE_FORMAT = BINARY
  LINES = 64177
  LINE_SAMPLES = 8824
  SAMPLE_TYPE = UNSIGNED_INTEGER
  SAMPLE_BITS = 8
  BANDS = 1
  BAND_STORAGE_TYPE = BAND_SEQUENTIAL
  MAXIMUM = 255
  MEAN = 96.4401
  MINIMUM = 1
  STANDARD_DEVIATION = 57.5373
END_OBJECT = IMAGE
/* MAP OBJECT DEFINITIONS */
OBJECT = IMAGE_MAP_PROJECTION
  ^DATA_SET_MAP_PROJECTION_CATALOG= "DSMAP.CAT"
  A_AXIS_RADIUS = 3396.0
  B_AXIS_RADIUS = 3396.0
  C_AXIS_RADIUS = 3396.0
  CENTER_LATITUDE = 0.0
  CENTER_LONGITUDE = 115.0
  COORDINATE_SYSTEM_NAME = PLANETOGRAPHIC
  COORDINATE_SYSTEM_TYPE = "BODY-FIXED ROTATING"
  EASTERNMOST_LONGITUDE = 115.812
  FIRST_STANDARD_PARALLEL = "N/A"
  LINE_FIRST_PIXEL = 1
  LINE_LAST_PIXEL = 64177
  LINE_PROJECTION_OFFSET = 255724.0
  MAP_PROJECTION_ROTATION = 0.0
  MAP_PROJECTION_TYPE = SINUSOIDAL
  MAP_RESOLUTION = 4741.71043093333
  MAP_SCALE = 0.0125
  MAXIMUM_LATITUDE = 53.9226
  MINIMUM_LATITUDE = 40.4061
  POSITIVE_LONGITUDE_DIRECTION = EAST
  REFERENCE_LATITUDE = "N/A"
  REFERENCE_LONGITUDE = "N/A"
  SAMPLE_FIRST_PIXEL = 1
  SAMPLE_LAST_PIXEL = 8824
  SAMPLE_PROJECTION_OFFSET = 5809.0
  SECOND_STANDARD_PARALLEL = "N/A"
  WESTERNMOST_LONGITUDE = 112.9
END_OBJECT = IMAGE_MAP_PROJECTION
/* The JPEG2000 image data file associated with this label. */
OBJECT = COMPRESSED_FILE
  FILE_NAME = "H5302_0000_ND3.JP2"
  RECORD_TYPE = UNDEFINED
  FILE_RECORDS = UNK
  ENCODING_TYPE = "JP2"
  INTERCHANGE_FORMAT = BINARY
  UNCOMPRESSED_FILE_NAME = "H5302_0000_ND3.IMG"
  REQUIRED_STORAGE_BYTES = "566333144"
  ^DESCRIPTION = "JP2INFO.TXT"
END_OBJECT = COMPRESSED_FILE
END
