PDS_VERSION_ID = PDS3
/* FILE DATA ELEMENTS */
RECORD_TYPE = STREAM
/* POINTERS TO DATA OBJECTS */
^COMPRESSED_FILE = "H5303_0000_IR3.JP2"
/* IDENTIFICATION DATA ELEMENTS */
DATA_SET_ID = "MEX-M-HRSC-5-REFDR-MAPPROJECTED-V3.0"
DATA_SET_NAME = "MARS EXPRESS HRSC MAP PROJECTED REFDR V3.0"
DETECTOR_ID = MEX_HRSC_IR
EVENT_TYPE = "MARS-REGIONAL-MAPPING-Te-Gl-Pf"
INSTRUMENT_HOST_ID = MEX
INSTRUMENT_HOST_NAME = "MARS EXPRESS"
INSTRUMENT_ID = HRSC
INSTRUMENT_NAME = "HIGH RESOLUTION STEREO CAMERA"
MISSION_NAME = "MARS EXPRESS"
MISSION_PHASE_NAME = ME_Phase_11
PROCESSING_LEVEL_ID = 3
PRODUCT_CREATION_TIME = 2016-05-14T01:01:03.000Z
PRODUCT_ID = "H5303_0000_IR3.JP2"
RELEASE_ID = 0061
REVISION_ID = 0000
/* QUALITY DATA ELEMENTS */
DATA_QUALITY_ID = 2
DATA_QUALITY_DESC = "Data calculated based on photogrammetrically improved orbit and attitude data"
/* TIME DATA ELEMENTS */
SPACECRAFT_CLOCK_START_COUNT = "1/0151365143.08438"
SPACECRAFT_CLOCK_STOP_COUNT = "1/0151365477.40522"
START_TIME = 2008-02-17T21:52:33.292Z
STOP_TIME = 2008-02-17T21:57:03.576Z
/* ORBITAL DATA ELEMENTS */
ASCENDING_NODE_LONGITUDE = 117.86
MAXIMUM_RESOLUTION = 56.2
FOOTPRINT_POINT_LATITUDE = (47.3859,47.3664,47.3432,47.2521, 46.8622,46.2748,45.8828,45.4896,44.8998 ,44.5332,44.1984,43.6987,43.3675, 43.0324,42.6987,42.3696,42.0304,41.6915 ,41.3568,41.0255,40.519,40.1804,39.8424 ,39.5036,39.1642,38.8246,38.3149, 37.8037,37.463,37.1191,36.7705,36.4285, 36.0859,35.7481,35.4184,34.9231,34.591, 34.2576,33.9235,33.5895,33.255,32.921, 32.5866,32.085,31.7495,31.4125,31.0766, 30.5713,30.2346,30.0324,30.0402,30.0483 ,30.0539,30.3914,30.7285,31.0665, 31.4023,31.7325,32.0684,32.4067,32.9137 ,33.248,33.7476,34.0846,34.4178,34.7521 ,35.0857,35.4185,35.9167,36.261,36.6041 ,36.9438,37.4622,37.8046,38.1464, 38.4874,38.8285,39.3396,39.8438,40.3541 ,40.6977,41.0299,41.5353,41.8724, 42.2106,42.718,43.0528,43.5536,43.8891, 44.2221,44.5522,44.9144,45.1134,45.5077 ,45.9017,46.099,46.4926,46.8861,47.2778 ,47.3859)
FOOTPRINT_POINT_LONGITUDE = (14.9251,14.3505,13.7747,13.385,13.4243 ,13.4808,13.5175,13.5531,13.6055, 13.6369,13.6623,13.7012,13.7279,13.752, 13.7766,13.8035,13.8245,13.8453,13.8682 ,13.8926,13.9235,13.9433,13.963,13.9821 ,14.0006,14.0186,14.0452,14.0703, 14.0867,14.1012,14.1129,14.1279,14.1423 ,14.156,14.1704,14.1912,14.2038,14.2155 ,14.2265,14.2374,14.2477,14.2582, 14.2682,14.2826,14.2915,14.2993,14.3075 ,14.3185,14.3256,14.5986,14.9051, 15.3632,15.6972,15.6933,15.6894,15.6851 ,15.6815,15.6795,15.6756,15.6707, 15.6631,15.6592,15.6537,15.6484,15.6443 ,15.6397,15.6351,15.6306,15.6239, 15.6182,15.6131,15.6091,15.5994,15.5938 ,15.5882,15.5827,15.5768,15.5678, 15.5608,15.5509,15.5424,15.5383,15.5288 ,15.5219,15.5143,15.5022,15.4951, 15.4845,15.4762,15.4687,15.462,15.4527, 15.4474,15.4381,15.4283,15.423,15.4125, 15.4014,15.3905,14.9251)
ORBIT_NUMBER = 5303
ORBITAL_ECCENTRICITY = 0.572
ORBITAL_INCLINATION = 86.72
ORBITAL_SEMIMAJOR_AXIS = 8699.54
PERIAPSIS_ALTITUDE = 336.07
PERIAPSIS_ARGUMENT_ANGLE = 145.38
PERIAPSIS_TIME = 2008-02-17T21:56:19.000Z
SPACECRAFT_ORIENTATION = (0.0,-1.0,0.0)
^MEX_ORIENTATION_DESC = "MEX_ORIENTATION_DESC.TXT"
SPACECRAFT_POINTING_MODE = ACROSSTRACK
^MEX_POINTING_DESC = "MEX_POINTING_DESC.TXT"
RIGHT_ASCENSION = -1e+32
DECLINATION = -1e+32
OFFSET_ANGLE = -0.15
SPACECRAFT_SOLAR_DISTANCE = 2.43975e+08
TARGET_NAME = MARS
/* CAMERA DATA ELEMENTS */
DETECTOR_TEMPERATURE = 17.351
FOCAL_PLANE_TEMPERATURE = 8.7872
INST_CMPRS_NAME = "DISCRETE COSINE TRANSFORMATION (DCT)"
INST_CMPRS_RATIO = 9.90967
INST_CMPRS_QUALITY = 0
INST_CMPRS_QUANTZ_TBL_ID = 0
INSTRUMENT_TEMPERATURE = 11.234
LENS_TEMPERATURE = 9.3989
MACROPIXEL_SIZE = 4
MISSING_FRAMES = 0
PIXEL_SUBSAMPLING_FLAG = N
SIGNAL_CHAIN_ID = 2
/* RADIOMETRIC DATA ELEMENTS */
BANDWIDTH = 81.0
CENTER_FILTER_WAVELENGTH = 955.5
RADIANCE_OFFSET = 0.810609
RADIANCE_SCALING_FACTOR = 0.00723801
REFLECTANCE_SCALING_FACTOR = 0.000929475
MEX:REFLECTANCE_OFFSET = 0.104095
/* IMAGE OBJECT DEFINITIONS */
OBJECT = IMAGE
  INTERCHANGE_FORMAT = BINARY
  LINES = 20496
  LINE_SAMPLES = 2019
  SAMPLE_TYPE = UNSIGNED_INTEGER
  SAMPLE_BITS = 8
  BANDS = 1
  BAND_STORAGE_TYPE = BAND_SEQUENTIAL
  MAXIMUM = 255
  MEAN = 138.117
  MINIMUM = 1
  STANDARD_DEVIATION = 36.4196
END_OBJECT = IMAGE
/* MAP OBJECT DEFINITIONS */
OBJECT = IMAGE_MAP_PROJECTION
  ^DATA_SET_MAP_PROJECTION_CATALOG= "DSMAP.CAT"
  A_AXIS_RADIUS = 3396.0
  B_AXIS_RADIUS = 3396.0
  C_AXIS_RADIUS = 3396.0
  CENTER_LATITUDE = 0.0
  CENTER_LONGITUDE = 15.0
  COORDINATE_SYSTEM_NAME = PLANETOGRAPHIC
  COORDINATE_SYSTEM_TYPE = "BODY-FIXED ROTATING"
  EASTERNMOST_LONGITUDE = 15.6972
  FIRST_STANDARD_PARALLEL = "N/A"
  LINE_FIRST_PIXEL = 1
  LINE_LAST_PIXEL = 20496
  LINE_PROJECTION_OFFSET = 56119.125
  MAP_PROJECTION_ROTATION = 0.0
  MAP_PROJECTION_TYPE = SINUSOIDAL
  MAP_RESOLUTION = 1185.42760773333
  MAP_SCALE = 0.05
  MAXIMUM_LATITUDE = 47.3859
  MINIMUM_LATITUDE = 30.0324
  POSITIVE_LONGITUDE_DIRECTION = EAST
  REFERENCE_LATITUDE = "N/A"
  REFERENCE_LONGITUDE = "N/A"
  SAMPLE_FIRST_PIXEL = 1
  SAMPLE_LAST_PIXEL = 2019
  SAMPLE_PROJECTION_OFFSET = 1285.875
  SECOND_STANDARD_PARALLEL = "N/A"
  WESTERNMOST_LONGITUDE = 13.385
END_OBJECT = IMAGE_MAP_PROJECTION
/* The JPEG2000 image data file associated with this label. */
OBJECT = COMPRESSED_FILE
  FILE_NAME = "H5303_0000_IR3.JP2"
  RECORD_TYPE = UNDEFINED
  FILE_RECORDS = UNK
  ENCODING_TYPE = "JP2"
  INTERCHANGE_FORMAT = BINARY
  UNCOMPRESSED_FILE_NAME = "H5303_0000_IR3.IMG"
  REQUIRED_STORAGE_BYTES = "41401614"
  ^DESCRIPTION = "JP2INFO.TXT"
END_OBJECT = COMPRESSED_FILE
END
