PDS_VERSION_ID = PDS3
/* FILE DATA ELEMENTS */
RECORD_TYPE = STREAM
/* POINTERS TO DATA OBJECTS */
^COMPRESSED_FILE = "H5304_0000_P23.JP2"
/* IDENTIFICATION DATA ELEMENTS */
DATA_SET_ID = "MEX-M-HRSC-5-REFDR-MAPPROJECTED-V3.0"
DATA_SET_NAME = "MARS EXPRESS HRSC MAP PROJECTED REFDR V3.0"
DETECTOR_ID = MEX_HRSC_P2
EVENT_TYPE = "MARS-REGIONAL-STEREO-Vo-Te-Gl"
INSTRUMENT_HOST_ID = MEX
INSTRUMENT_HOST_NAME = "MARS EXPRESS"
INSTRUMENT_ID = HRSC
INSTRUMENT_NAME = "HIGH RESOLUTION STEREO CAMERA"
MISSION_NAME = "MARS EXPRESS"
MISSION_PHASE_NAME = ME_Phase_11
PROCESSING_LEVEL_ID = 3
PRODUCT_CREATION_TIME = 2016-05-14T01:01:03.000Z
PRODUCT_ID = "H5304_0000_P23.JP2"
RELEASE_ID = 0061
REVISION_ID = 0000
/* QUALITY DATA ELEMENTS */
DATA_QUALITY_ID = 2
DATA_QUALITY_DESC = "Data calculated based on photogrammetrically improved orbit and attitude data"
/* TIME DATA ELEMENTS */
SPACECRAFT_CLOCK_START_COUNT = "1/0151389673.07288"
SPACECRAFT_CLOCK_STOP_COUNT = "1/0151389972.64778"
START_TIME = 2008-02-18T04:42:23.304Z
STOP_TIME = 2008-02-18T04:46:04.417Z
/* ORBITAL DATA ELEMENTS */
ASCENDING_NODE_LONGITUDE = 117.83
MAXIMUM_RESOLUTION = 27.8
FOOTPRINT_POINT_LATITUDE = (53.9046,53.882,53.8565,53.5897,53.2709 ,52.9516,52.632,52.153,51.6727,51.3519, 51.0308,50.7108,50.3894,50.0688,49.7467 ,49.2641,48.9421,48.6203,48.2988, 48.0118,47.7422,47.4723,47.2023,46.9325 ,46.6626,46.3926,45.9876,45.7173, 45.3114,45.0406,44.7696,44.4978,44.2259 ,43.9544,43.6815,43.4063,43.0034, 42.7306,42.4564,42.0522,41.7829,41.513, 41.2424,40.9716,40.5681,40.2973,40.0234 ,39.7499,39.4799,39.4553,39.4673, 39.4771,39.6208,39.8917,40.1627,40.5689 ,40.8401,41.1112,41.3821,41.6502, 41.9226,42.1971,42.4682,42.8745,43.2833 ,43.5557,43.827,44.0888,44.4998,44.7743 ,45.0457,45.3207,45.5962,45.8649, 46.1354,46.5441,46.8163,47.0873,47.3578 ,47.6287,47.8988,48.1669,48.4747,48.799 ,49.2876,49.6114,50.0956,50.419,50.7407 ,51.0631,51.3853,51.707,52.0285,52.3502 ,52.6715,52.9925,53.3132,53.6341, 53.9544,53.9046)
FOOTPRINT_POINT_LONGITUDE = (274.482,273.823,273.167,273.002, 273.048,273.092,273.136,273.199,273.261 ,273.301,273.34,273.377,273.414,273.45, 273.485,273.537,273.57,273.602,273.633, 273.661,273.686,273.71,273.734,273.758, 273.781,273.803,273.836,273.858,273.889 ,273.91,273.93,273.95,273.97,273.99, 274.009,274.03,274.054,274.072,274.091, 274.114,274.129,274.143,274.158,274.173 ,274.193,274.207,274.222,274.237, 274.249,274.575,275.063,275.391,275.783 ,275.778,275.773,275.766,275.761, 275.756,275.751,275.744,275.74,275.737, 275.731,275.722,275.715,275.71,275.704, 275.692,275.686,275.682,275.675,275.672 ,275.668,275.66,275.652,275.644,275.637 ,275.63,275.622,275.615,275.607,275.597 ,275.588,275.58,275.568,275.559,275.544 ,275.534,275.522,275.512,275.5,275.489, 275.477,275.465,275.452,275.44,275.426, 275.413,275.4,274.482)
ORBIT_NUMBER = 5304
ORBITAL_ECCENTRICITY = 0.572
ORBITAL_INCLINATION = 86.72
ORBITAL_SEMIMAJOR_AXIS = 8704.79
PERIAPSIS_ALTITUDE = 335.7
PERIAPSIS_ARGUMENT_ANGLE = 145.21
PERIAPSIS_TIME = 2008-02-18T04:46:57.000Z
SPACECRAFT_ORIENTATION = (0.0,-1.0,0.0)
^MEX_ORIENTATION_DESC = "MEX_ORIENTATION_DESC.TXT"
SPACECRAFT_POINTING_MODE = ACROSSTRACK
^MEX_POINTING_DESC = "MEX_POINTING_DESC.TXT"
RIGHT_ASCENSION = -1e+32
DECLINATION = -1e+32
OFFSET_ANGLE = 0.1
SPACECRAFT_SOLAR_DISTANCE = 2.44009e+08
TARGET_NAME = MARS
/* CAMERA DATA ELEMENTS */
DETECTOR_TEMPERATURE = 18.3705
FOCAL_PLANE_TEMPERATURE = 7.7677
INST_CMPRS_NAME = "DISCRETE COSINE TRANSFORMATION (DCT)"
INST_CMPRS_RATIO = 6.43703
INST_CMPRS_QUALITY = 0
INST_CMPRS_QUANTZ_TBL_ID = 0
INSTRUMENT_TEMPERATURE = 9.6028
LENS_TEMPERATURE = 8.5833
MACROPIXEL_SIZE = 2
MISSING_FRAMES = 0
PIXEL_SUBSAMPLING_FLAG = N
SIGNAL_CHAIN_ID = 3
/* RADIOMETRIC DATA ELEMENTS */
BANDWIDTH = 177.0
CENTER_FILTER_WAVELENGTH = 676.5
RADIANCE_OFFSET = 4.33
RADIANCE_SCALING_FACTOR = 0.0244443
REFLECTANCE_SCALING_FACTOR = 0.000771698
MEX:REFLECTANCE_OFFSET = 0.136697
/* IMAGE OBJECT DEFINITIONS */
OBJECT = IMAGE
  INTERCHANGE_FORMAT = BINARY
  LINES = 34434
  LINE_SAMPLES = 4392
  SAMPLE_TYPE = UNSIGNED_INTEGER
  SAMPLE_BITS = 8
  BANDS = 1
  BAND_STORAGE_TYPE = BAND_SEQUENTIAL
  MAXIMUM = 255
  MEAN = 107.476
  MINIMUM = 1
  STANDARD_DEVIATION = 38.5223
END_OBJECT = IMAGE
/* MAP OBJECT DEFINITIONS */
OBJECT = IMAGE_MAP_PROJECTION
  ^DATA_SET_MAP_PROJECTION_CATALOG= "DSMAP.CAT"
  A_AXIS_RADIUS = 3396.0
  B_AXIS_RADIUS = 3396.0
  C_AXIS_RADIUS = 3396.0
  CENTER_LATITUDE = 0.0
  CENTER_LONGITUDE = 275.0
  COORDINATE_SYSTEM_NAME = PLANETOGRAPHIC
  COORDINATE_SYSTEM_TYPE = "BODY-FIXED ROTATING"
  EASTERNMOST_LONGITUDE = 275.783
  FIRST_STANDARD_PARALLEL = "N/A"
  LINE_FIRST_PIXEL = 1
  LINE_LAST_PIXEL = 34434
  LINE_PROJECTION_OFFSET = 127992.25
  MAP_PROJECTION_ROTATION = 0.0
  MAP_PROJECTION_TYPE = SINUSOIDAL
  MAP_RESOLUTION = 2370.85521546667
  MAP_SCALE = 0.025
  MAXIMUM_LATITUDE = 53.9544
  MINIMUM_LATITUDE = 39.4553
  POSITIVE_LONGITUDE_DIRECTION = EAST
  REFERENCE_LATITUDE = "N/A"
  REFERENCE_LONGITUDE = "N/A"
  SAMPLE_FIRST_PIXEL = 1
  SAMPLE_LAST_PIXEL = 4392
  SAMPLE_PROJECTION_OFFSET = 2870.25
  SECOND_STANDARD_PARALLEL = "N/A"
  WESTERNMOST_LONGITUDE = 273.002
END_OBJECT = IMAGE_MAP_PROJECTION
/* The JPEG2000 image data file associated with this label. */
OBJECT = COMPRESSED_FILE
  FILE_NAME = "H5304_0000_P23.JP2"
  RECORD_TYPE = UNDEFINED
  FILE_RECORDS = UNK
  ENCODING_TYPE = "JP2"
  INTERCHANGE_FORMAT = BINARY
  UNCOMPRESSED_FILE_NAME = "H5304_0000_P23.IMG"
  REQUIRED_STORAGE_BYTES = "151260480"
  ^DESCRIPTION = "JP2INFO.TXT"
END_OBJECT = COMPRESSED_FILE
END
