PDS_VERSION_ID = PDS3
/* FILE DATA ELEMENTS */
RECORD_TYPE = STREAM
/* POINTERS TO DATA OBJECTS */
^COMPRESSED_FILE = "H5306_0000_S13.JP2"
/* IDENTIFICATION DATA ELEMENTS */
DATA_SET_ID = "MEX-M-HRSC-5-REFDR-MAPPROJECTED-V3.0"
DATA_SET_NAME = "MARS EXPRESS HRSC MAP PROJECTED REFDR V3.0"
DETECTOR_ID = MEX_HRSC_S1
EVENT_TYPE = "MARS-LOCAL-STEREO-Eb-Tc-Ot"
INSTRUMENT_HOST_ID = MEX
INSTRUMENT_HOST_NAME = "MARS EXPRESS"
INSTRUMENT_ID = HRSC
INSTRUMENT_NAME = "HIGH RESOLUTION STEREO CAMERA"
MISSION_NAME = "MARS EXPRESS"
MISSION_PHASE_NAME = ME_Phase_11
PROCESSING_LEVEL_ID = 3
PRODUCT_CREATION_TIME = 2016-05-14T01:01:03.000Z
PRODUCT_ID = "H5306_0000_S13.JP2"
RELEASE_ID = 0061
REVISION_ID = 0000
/* QUALITY DATA ELEMENTS */
DATA_QUALITY_ID = 2
DATA_QUALITY_DESC = "Data calculated based on photogrammetrically improved orbit and attitude data"
/* TIME DATA ELEMENTS */
SPACECRAFT_CLOCK_START_COUNT = "1/0151439104.08267"
SPACECRAFT_CLOCK_STOP_COUNT = "1/0151439533.01568"
START_TIME = 2008-02-18T18:25:07.905Z
STOP_TIME = 2008-02-18T18:31:50.031Z
/* ORBITAL DATA ELEMENTS */
ASCENDING_NODE_LONGITUDE = 117.79
MAXIMUM_RESOLUTION = 14.3
FOOTPRINT_POINT_LATITUDE = (44.0498,43.9477,43.4454,42.6902,42.185 ,41.6777,40.917,40.406,39.8946,39.383, 38.8702,38.3558,37.8414,37.3253,36.8098 ,36.0474,35.5461,35.0411,34.5374, 34.0328,33.5263,33.0218,32.2695,31.4974 ,30.991,30.2252,29.4643,28.696,28.1941, 27.6739,27.1347,26.3401,25.8193,25.2871 ,24.7577,24.2265,23.4289,22.8973, 22.3582,21.8345,21.3018,20.5007,19.9751 ,19.4425,19.1257,18.8086,18.4947, 18.1739,17.8567,17.8608,17.8622,18.1765 ,18.4968,18.8156,19.1334,19.4522, 19.9825,20.5025,21.0438,21.578,22.1093, 22.6359,23.1699,23.7065,24.2358,24.7719 ,25.5678,26.0963,26.8942,27.4257, 27.9406,28.4607,28.9704,29.4818,30.247, 30.7672,31.2677,31.7788,32.2881,33.049, 33.8097,34.3157,34.8204,35.3262,36.0817 ,36.8446,37.3628,37.881,38.3946,38.9103 ,39.4245,39.9378,40.7056,41.2168, 41.7266,42.2344,42.9929,43.4985,44.0021 ,44.0498)
FOOTPRINT_POINT_LONGITUDE = (74.2949,73.5553,73.5932,73.6478, 73.6825,73.7155,73.7638,73.7934,73.8222 ,73.8502,73.877,73.9025,73.9273,73.9507 ,73.9738,74.0048,74.0246,74.0424, 74.0601,74.0768,74.0923,74.108,74.1323, 74.1474,74.1602,74.1758,74.1921,74.2044 ,74.2163,74.2269,74.2297,74.2383, 74.2467,74.2501,74.2541,74.2568,74.2594 ,74.2605,74.2582,74.2611,74.26,74.2566, 74.2567,74.2536,74.2516,74.2495,74.2484 ,74.2445,74.2418,74.8764,75.3304, 75.6382,75.6353,75.6328,75.6306,75.628, 75.6249,75.6246,75.6184,75.6141,75.6106 ,75.6083,75.6039,75.5986,75.5952, 75.5898,75.5838,75.5802,75.573,75.5681, 75.5678,75.5637,75.5597,75.555,75.548, 75.5399,75.5375,75.5316,75.526,75.5178, 75.5089,75.5029,75.4969,75.4901,75.4802 ,75.47,75.4626,75.4546,75.4478,75.4396, 75.4314,75.4228,75.4096,75.4002,75.3906 ,75.3811,75.3666,75.3561,75.3454, 74.2949)
ORBIT_NUMBER = 5306
ORBITAL_ECCENTRICITY = 0.572
ORBITAL_INCLINATION = 86.74
ORBITAL_SEMIMAJOR_AXIS = 8702.65
PERIAPSIS_ALTITUDE = 335.49
PERIAPSIS_ARGUMENT_ANGLE = 144.85
PERIAPSIS_TIME = 2008-02-18T18:27:57.000Z
SPACECRAFT_ORIENTATION = (0.0,-1.0,0.0)
^MEX_ORIENTATION_DESC = "MEX_ORIENTATION_DESC.TXT"
SPACECRAFT_POINTING_MODE = ACROSSTRACK
^MEX_POINTING_DESC = "MEX_POINTING_DESC.TXT"
RIGHT_ASCENSION = -1e+32
DECLINATION = -1e+32
OFFSET_ANGLE = -0.1
SPACECRAFT_SOLAR_DISTANCE = 2.44077e+08
TARGET_NAME = MARS
/* CAMERA DATA ELEMENTS */
DETECTOR_TEMPERATURE = 17.5549
FOCAL_PLANE_TEMPERATURE = 8.3794
INST_CMPRS_NAME = "DISCRETE COSINE TRANSFORMATION (DCT)"
INST_CMPRS_RATIO = 8.29428
INST_CMPRS_QUALITY = 0
INST_CMPRS_QUANTZ_TBL_ID = 0
INSTRUMENT_TEMPERATURE = 11.234
LENS_TEMPERATURE = 8.7872
MACROPIXEL_SIZE = 1
MISSING_FRAMES = 0
PIXEL_SUBSAMPLING_FLAG = N
SIGNAL_CHAIN_ID = 2
/* RADIOMETRIC DATA ELEMENTS */
BANDWIDTH = 180.0
CENTER_FILTER_WAVELENGTH = 677.0
RADIANCE_OFFSET = 3.02121
RADIANCE_SCALING_FACTOR = 0.0249429
REFLECTANCE_SCALING_FACTOR = 0.000775252
MEX:REFLECTANCE_OFFSET = 0.0939024
/* IMAGE OBJECT DEFINITIONS */
OBJECT = IMAGE
  INTERCHANGE_FORMAT = BINARY
  LINES = 124019
  LINE_SAMPLES = 8002
  SAMPLE_TYPE = UNSIGNED_INTEGER
  SAMPLE_BITS = 8
  BANDS = 1
  BAND_STORAGE_TYPE = BAND_SEQUENTIAL
  MAXIMUM = 255
  MEAN = 137.925
  MINIMUM = 1
  STANDARD_DEVIATION = 41.2213
END_OBJECT = IMAGE
/* MAP OBJECT DEFINITIONS */
OBJECT = IMAGE_MAP_PROJECTION
  ^DATA_SET_MAP_PROJECTION_CATALOG= "DSMAP.CAT"
  A_AXIS_RADIUS = 3396.0
  B_AXIS_RADIUS = 3396.0
  C_AXIS_RADIUS = 3396.0
  CENTER_LATITUDE = 0.0
  CENTER_LONGITUDE = 75.0
  COORDINATE_SYSTEM_NAME = PLANETOGRAPHIC
  COORDINATE_SYSTEM_TYPE = "BODY-FIXED ROTATING"
  EASTERNMOST_LONGITUDE = 75.6382
  FIRST_STANDARD_PARALLEL = "N/A"
  LINE_FIRST_PIXEL = 1
  LINE_LAST_PIXEL = 124019
  LINE_PROJECTION_OFFSET = 208706.0
  MAP_PROJECTION_ROTATION = 0.0
  MAP_PROJECTION_TYPE = SINUSOIDAL
  MAP_RESOLUTION = 4741.71043093333
  MAP_SCALE = 0.0125
  MAXIMUM_LATITUDE = 44.0498
  MINIMUM_LATITUDE = 17.8567
  POSITIVE_LONGITUDE_DIRECTION = EAST
  REFERENCE_LATITUDE = "N/A"
  REFERENCE_LONGITUDE = "N/A"
  SAMPLE_FIRST_PIXEL = 1
  SAMPLE_LAST_PIXEL = 8002
  SAMPLE_PROJECTION_OFFSET = 4871.0
  SECOND_STANDARD_PARALLEL = "N/A"
  WESTERNMOST_LONGITUDE = 73.5553
END_OBJECT = IMAGE_MAP_PROJECTION
/* The JPEG2000 image data file associated with this label. */
OBJECT = COMPRESSED_FILE
  FILE_NAME = "H5306_0000_S13.JP2"
  RECORD_TYPE = UNDEFINED
  FILE_RECORDS = UNK
  ENCODING_TYPE = "JP2"
  INTERCHANGE_FORMAT = BINARY
  UNCOMPRESSED_FILE_NAME = "H5306_0000_S13.IMG"
  REQUIRED_STORAGE_BYTES = "992432046"
  ^DESCRIPTION = "JP2INFO.TXT"
END_OBJECT = COMPRESSED_FILE
END
