PDS_VERSION_ID = PDS3
/* FILE DATA ELEMENTS */
RECORD_TYPE = STREAM
/* POINTERS TO DATA OBJECTS */
^COMPRESSED_FILE = "H5306_0000_S23.JP2"
/* IDENTIFICATION DATA ELEMENTS */
DATA_SET_ID = "MEX-M-HRSC-5-REFDR-MAPPROJECTED-V3.0"
DATA_SET_NAME = "MARS EXPRESS HRSC MAP PROJECTED REFDR V3.0"
DETECTOR_ID = MEX_HRSC_S2
EVENT_TYPE = "MARS-LOCAL-STEREO-Eb-Tc-Ot"
INSTRUMENT_HOST_ID = MEX
INSTRUMENT_HOST_NAME = "MARS EXPRESS"
INSTRUMENT_ID = HRSC
INSTRUMENT_NAME = "HIGH RESOLUTION STEREO CAMERA"
MISSION_NAME = "MARS EXPRESS"
MISSION_PHASE_NAME = ME_Phase_11
PROCESSING_LEVEL_ID = 3
PRODUCT_CREATION_TIME = 2016-05-14T01:01:03.000Z
PRODUCT_ID = "H5306_0000_S23.JP2"
RELEASE_ID = 0061
REVISION_ID = 0000
/* QUALITY DATA ELEMENTS */
DATA_QUALITY_ID = 2
DATA_QUALITY_DESC = "Data calculated based on photogrammetrically improved orbit and attitude data"
/* TIME DATA ELEMENTS */
SPACECRAFT_CLOCK_START_COUNT = "1/0151439104.08267"
SPACECRAFT_CLOCK_STOP_COUNT = "1/0151439533.01568"
START_TIME = 2008-02-18T18:26:12.296Z
STOP_TIME = 2008-02-18T18:33:03.031Z
/* ORBITAL DATA ELEMENTS */
ASCENDING_NODE_LONGITUDE = 117.79
MAXIMUM_RESOLUTION = 14.4
FOOTPRINT_POINT_LATITUDE = (43.9293,43.7255,43.1989,42.4091, 41.6204,40.8315,40.3137,39.8064,39.2987 ,38.7917,38.0324,37.5267,37.0216, 36.2651,35.7612,35.0085,34.5066,33.756, 33.2571,32.7586,32.0039,31.4931,30.9792 ,30.2147,29.7071,28.9408,28.4315, 27.9095,27.4073,26.9183,26.4136,25.6519 ,24.9067,24.411,23.9209,23.3619,23.0685 ,22.4911,22.1993,21.8997,21.6093, 20.7467,20.1696,19.8778,19.306,18.7357, 18.1689,17.8764,17.8707,17.8677,18.1541 ,18.7181,19.2867,19.8598,20.4497, 21.3037,21.5958,21.8867,22.1793,22.4734 ,22.7699,23.0634,23.3538,23.6467, 24.1584,24.6514,25.3996,25.899,26.3979, 27.1491,27.9221,28.6839,29.1917,29.7014 ,30.2136,30.7159,31.2363,31.7473, 32.2592,32.7596,33.2618,34.0095,34.7627 ,35.516,36.2732,36.7771,37.2831,37.7874 ,38.2973,38.8043,39.3123,40.0739, 40.5853,41.3748,41.9011,42.4298,42.9581 ,43.4857,44.0143,43.9293)
FOOTPRINT_POINT_LONGITUDE = (74.4196,73.6023,73.6387,73.6906, 73.7391,73.7849,73.8127,73.839,73.8646, 73.8889,73.9232,73.9448,73.9654,73.9944 ,74.0126,74.0375,74.0533,74.0751, 74.0883,74.1009,74.1195,74.1296,74.1406 ,74.1538,74.1613,74.1742,74.1817, 74.1942,74.1984,74.1972,74.2021,74.2111 ,74.2132,74.2142,74.213,74.2138,74.2134 ,74.209,74.2081,74.21,74.2086,74.2011, 74.1971,74.1963,74.1905,74.1843,74.1771 ,74.4003,75.0042,75.4262,75.7027, 75.6951,75.6881,75.6817,75.6792,75.6658 ,75.663,75.6598,75.6569,75.6541,75.6519 ,75.6487,75.6446,75.6409,75.6352, 75.6288,75.6207,75.615,75.6086,75.5991, 75.5945,75.5858,75.5795,75.5732,75.5672 ,75.5579,75.5533,75.5456,75.5382, 75.5316,75.525,75.5127,75.5011,75.4885, 75.476,75.4669,75.458,75.4481,75.4394, 75.4294,75.4193,75.4031,75.3921,75.3743 ,75.3618,75.3494,75.3365,75.3227, 75.3088,74.4196)
ORBIT_NUMBER = 5306
ORBITAL_ECCENTRICITY = 0.572
ORBITAL_INCLINATION = 86.74
ORBITAL_SEMIMAJOR_AXIS = 8702.65
PERIAPSIS_ALTITUDE = 335.49
PERIAPSIS_ARGUMENT_ANGLE = 144.85
PERIAPSIS_TIME = 2008-02-18T18:27:57.000Z
SPACECRAFT_ORIENTATION = (0.0,-1.0,0.0)
^MEX_ORIENTATION_DESC = "MEX_ORIENTATION_DESC.TXT"
SPACECRAFT_POINTING_MODE = ACROSSTRACK
^MEX_POINTING_DESC = "MEX_POINTING_DESC.TXT"
RIGHT_ASCENSION = -1e+32
DECLINATION = -1e+32
OFFSET_ANGLE = -0.1
SPACECRAFT_SOLAR_DISTANCE = 2.44077e+08
TARGET_NAME = MARS
/* CAMERA DATA ELEMENTS */
DETECTOR_TEMPERATURE = 18.3705
FOCAL_PLANE_TEMPERATURE = 8.3794
INST_CMPRS_NAME = "DISCRETE COSINE TRANSFORMATION (DCT)"
INST_CMPRS_RATIO = 7.99218
INST_CMPRS_QUALITY = 0
INST_CMPRS_QUANTZ_TBL_ID = 0
INSTRUMENT_TEMPERATURE = 11.234
LENS_TEMPERATURE = 8.7872
MACROPIXEL_SIZE = 1
MISSING_FRAMES = 0
PIXEL_SUBSAMPLING_FLAG = N
SIGNAL_CHAIN_ID = 1
/* RADIOMETRIC DATA ELEMENTS */
BANDWIDTH = 178.0
CENTER_FILTER_WAVELENGTH = 679.0
RADIANCE_OFFSET = 3.09094
RADIANCE_SCALING_FACTOR = 0.0251405
REFLECTANCE_SCALING_FACTOR = 0.000793153
MEX:REFLECTANCE_OFFSET = 0.0975154
/* IMAGE OBJECT DEFINITIONS */
OBJECT = IMAGE
  INTERCHANGE_FORMAT = BINARY
  LINES = 124019
  LINE_SAMPLES = 8002
  SAMPLE_TYPE = UNSIGNED_INTEGER
  SAMPLE_BITS = 8
  BANDS = 1
  BAND_STORAGE_TYPE = BAND_SEQUENTIAL
  MAXIMUM = 255
  MEAN = 144.4
  MINIMUM = 1
  STANDARD_DEVIATION = 44.0827
END_OBJECT = IMAGE
/* MAP OBJECT DEFINITIONS */
OBJECT = IMAGE_MAP_PROJECTION
  ^DATA_SET_MAP_PROJECTION_CATALOG= "DSMAP.CAT"
  A_AXIS_RADIUS = 3396.0
  B_AXIS_RADIUS = 3396.0
  C_AXIS_RADIUS = 3396.0
  CENTER_LATITUDE = 0.0
  CENTER_LONGITUDE = 75.0
  COORDINATE_SYSTEM_NAME = PLANETOGRAPHIC
  COORDINATE_SYSTEM_TYPE = "BODY-FIXED ROTATING"
  EASTERNMOST_LONGITUDE = 75.70269999999999
  FIRST_STANDARD_PARALLEL = "N/A"
  LINE_FIRST_PIXEL = 1
  LINE_LAST_PIXEL = 124019
  LINE_PROJECTION_OFFSET = 208706.0
  MAP_PROJECTION_ROTATION = 0.0
  MAP_PROJECTION_TYPE = SINUSOIDAL
  MAP_RESOLUTION = 4741.71043093333
  MAP_SCALE = 0.0125
  MAXIMUM_LATITUDE = 44.0143
  MINIMUM_LATITUDE = 17.8677
  POSITIVE_LONGITUDE_DIRECTION = EAST
  REFERENCE_LATITUDE = "N/A"
  REFERENCE_LONGITUDE = "N/A"
  SAMPLE_FIRST_PIXEL = 1
  SAMPLE_LAST_PIXEL = 8002
  SAMPLE_PROJECTION_OFFSET = 4871.0
  SECOND_STANDARD_PARALLEL = "N/A"
  WESTERNMOST_LONGITUDE = 73.6023
END_OBJECT = IMAGE_MAP_PROJECTION
/* The JPEG2000 image data file associated with this label. */
OBJECT = COMPRESSED_FILE
  FILE_NAME = "H5306_0000_S23.JP2"
  RECORD_TYPE = UNDEFINED
  FILE_RECORDS = UNK
  ENCODING_TYPE = "JP2"
  INTERCHANGE_FORMAT = BINARY
  UNCOMPRESSED_FILE_NAME = "H5306_0000_S23.IMG"
  REQUIRED_STORAGE_BYTES = "992432046"
  ^DESCRIPTION = "JP2INFO.TXT"
END_OBJECT = COMPRESSED_FILE
END
