PDS_VERSION_ID = PDS3
/* FILE DATA ELEMENTS */
RECORD_TYPE = STREAM
/* POINTERS TO DATA OBJECTS */
^COMPRESSED_FILE = "H5307_0000_IR3.JP2"
/* IDENTIFICATION DATA ELEMENTS */
DATA_SET_ID = "MEX-M-HRSC-5-REFDR-MAPPROJECTED-V3.0"
DATA_SET_NAME = "MARS EXPRESS HRSC MAP PROJECTED REFDR V3.0"
DETECTOR_ID = MEX_HRSC_IR
EVENT_TYPE = "MARS-REGIONAL-MAPPING-Fl-La-Tc"
INSTRUMENT_HOST_ID = MEX
INSTRUMENT_HOST_NAME = "MARS EXPRESS"
INSTRUMENT_ID = HRSC
INSTRUMENT_NAME = "HIGH RESOLUTION STEREO CAMERA"
MISSION_NAME = "MARS EXPRESS"
MISSION_PHASE_NAME = ME_Phase_11
PROCESSING_LEVEL_ID = 3
PRODUCT_CREATION_TIME = 2016-05-14T01:01:03.000Z
PRODUCT_ID = "H5307_0000_IR3.JP2"
RELEASE_ID = 0061
REVISION_ID = 0000
/* QUALITY DATA ELEMENTS */
DATA_QUALITY_ID = 1
DATA_QUALITY_DESC = "Data calculated based on original SPICE kernels"
/* TIME DATA ELEMENTS */
SPACECRAFT_CLOCK_START_COUNT = "1/0151463986.09080"
SPACECRAFT_CLOCK_STOP_COUNT = "1/0151464168.01530"
START_TIME = 2008-02-19T01:19:55.124Z
STOP_TIME = 2008-02-19T01:21:45.798Z
/* ORBITAL DATA ELEMENTS */
ASCENDING_NODE_LONGITUDE = 117.77
MAXIMUM_RESOLUTION = 57.7
FOOTPRINT_POINT_LATITUDE = (27.9193,27.923,27.9263,27.9291,27.9314 ,27.9333,27.9347,27.6747,27.5305, 27.3864,27.2423,27.0261,26.882,26.7379, 26.5936,26.4495,26.3054,26.1611,25.9447 ,25.7286,25.5121,25.368,25.2236,25.0071 ,24.8631,24.7188,24.5744,24.4302, 24.2861,24.1418,23.9974,23.8534,23.709, 23.5647,23.4206,23.2043,23.06,22.9159, 22.6996,22.5554,22.4115,22.2672,22.0508 ,21.8351,21.691,21.5466,21.4026,21.259, 21.1149,20.9707,20.827,20.6252,20.6211, 20.6188,20.6148,20.6086,20.6002,20.6698 ,20.8176,21.0327,21.1763,21.3208, 21.5373,21.8969,22.0411,22.1866,22.4042 ,22.5478,22.6919,22.9074,23.1234, 23.2675,23.4122,23.6288,23.8451,23.9893 ,24.206,24.4226,24.5671,24.7119,24.8557 ,25.0001,25.1448,25.2895,25.434,25.6508 ,25.8671,26.0114,26.1559,26.3005, 26.5173,26.6613,26.8777,27.0221,27.1665 ,27.3829,27.5272,27.6715,27.8157, 27.9193)
FOOTPRINT_POINT_LONGITUDE = (335.949,335.747,335.546,335.346, 335.148,334.95,334.753,334.746,334.747, 334.748,334.749,334.75,334.751,334.752, 334.752,334.753,334.754,334.754,334.755 ,334.756,334.756,334.757,334.757, 334.757,334.757,334.757,334.757,334.757 ,334.757,334.757,334.757,334.757, 334.757,334.757,334.757,334.756,334.756 ,334.755,334.755,334.754,334.754, 334.753,334.752,334.751,334.751,334.75, 334.749,334.748,334.747,334.747,334.746 ,334.82,335.09,335.257,335.49,335.687, 335.924,336.138,336.135,336.135,336.135 ,336.135,336.134,336.134,336.134, 336.133,336.131,336.131,336.131,336.131 ,336.131,336.131,336.131,336.13,336.13, 336.129,336.129,336.128,336.128,336.127 ,336.127,336.127,336.126,336.126, 336.125,336.125,336.124,336.124,336.124 ,336.123,336.122,336.122,336.122, 336.121,336.121,336.12,336.12,336.119, 336.119,335.949)
ORBIT_NUMBER = 5307
ORBITAL_ECCENTRICITY = 0.571
ORBITAL_INCLINATION = 86.74
ORBITAL_SEMIMAJOR_AXIS = 8693.64
PERIAPSIS_ALTITUDE = 336.42
PERIAPSIS_ARGUMENT_ANGLE = 144.67
PERIAPSIS_TIME = 2008-02-19T01:18:27.000Z
SPACECRAFT_ORIENTATION = (0.0,-1.0,0.0)
^MEX_ORIENTATION_DESC = "MEX_ORIENTATION_DESC.TXT"
SPACECRAFT_POINTING_MODE = ACROSSTRACK
^MEX_POINTING_DESC = "MEX_POINTING_DESC.TXT"
RIGHT_ASCENSION = -1e+32
DECLINATION = -1e+32
OFFSET_ANGLE = 0.4
SPACECRAFT_SOLAR_DISTANCE = 2.44111e+08
TARGET_NAME = MARS
/* CAMERA DATA ELEMENTS */
DETECTOR_TEMPERATURE = 17.5549
FOCAL_PLANE_TEMPERATURE = 8.3794
INST_CMPRS_NAME = "DISCRETE COSINE TRANSFORMATION (DCT)"
INST_CMPRS_RATIO = 9.6332
INST_CMPRS_QUALITY = 0
INST_CMPRS_QUANTZ_TBL_ID = 0
INSTRUMENT_TEMPERATURE = 11.234
LENS_TEMPERATURE = 8.9911
MACROPIXEL_SIZE = 4
MISSING_FRAMES = 0
PIXEL_SUBSAMPLING_FLAG = N
SIGNAL_CHAIN_ID = 2
/* RADIOMETRIC DATA ELEMENTS */
BANDWIDTH = 81.0
CENTER_FILTER_WAVELENGTH = 955.5
RADIANCE_OFFSET = 0.762644
RADIANCE_SCALING_FACTOR = 0.00417315
REFLECTANCE_SCALING_FACTOR = 0.000536496
MEX:REFLECTANCE_OFFSET = 0.0980447
/* IMAGE OBJECT DEFINITIONS */
OBJECT = IMAGE
  INTERCHANGE_FORMAT = BINARY
  LINES = 8620
  LINE_SAMPLES = 1651
  SAMPLE_TYPE = UNSIGNED_INTEGER
  SAMPLE_BITS = 8
  BANDS = 1
  BAND_STORAGE_TYPE = BAND_SEQUENTIAL
  MAXIMUM = 255
  MEAN = 105.116
  MINIMUM = 1
  STANDARD_DEVIATION = 37.2634
END_OBJECT = IMAGE
/* MAP OBJECT DEFINITIONS */
OBJECT = IMAGE_MAP_PROJECTION
  ^DATA_SET_MAP_PROJECTION_CATALOG= "DSMAP.CAT"
  A_AXIS_RADIUS = 3396.0
  B_AXIS_RADIUS = 3396.0
  C_AXIS_RADIUS = 3396.0
  CENTER_LATITUDE = 0.0
  CENTER_LONGITUDE = 335.0
  COORDINATE_SYSTEM_NAME = PLANETOGRAPHIC
  COORDINATE_SYSTEM_TYPE = "BODY-FIXED ROTATING"
  EASTERNMOST_LONGITUDE = 336.138
  FIRST_STANDARD_PARALLEL = "N/A"
  LINE_FIRST_PIXEL = 1
  LINE_LAST_PIXEL = 8620
  LINE_PROJECTION_OFFSET = 33081.625
  MAP_PROJECTION_ROTATION = 0.0
  MAP_PROJECTION_TYPE = SINUSOIDAL
  MAP_RESOLUTION = 1185.42760773333
  MAP_SCALE = 0.05
  MAXIMUM_LATITUDE = 27.9347
  MINIMUM_LATITUDE = 20.6002
  POSITIVE_LONGITUDE_DIRECTION = EAST
  REFERENCE_LATITUDE = "N/A"
  REFERENCE_LONGITUDE = "N/A"
  SAMPLE_FIRST_PIXEL = 1
  SAMPLE_LAST_PIXEL = 1651
  SAMPLE_PROJECTION_OFFSET = 322.125
  SECOND_STANDARD_PARALLEL = "N/A"
  WESTERNMOST_LONGITUDE = 334.746
END_OBJECT = IMAGE_MAP_PROJECTION
/* The JPEG2000 image data file associated with this label. */
OBJECT = COMPRESSED_FILE
  FILE_NAME = "H5307_0000_IR3.JP2"
  RECORD_TYPE = UNDEFINED
  FILE_RECORDS = UNK
  ENCODING_TYPE = "JP2"
  INTERCHANGE_FORMAT = BINARY
  UNCOMPRESSED_FILE_NAME = "H5307_0000_IR3.IMG"
  REQUIRED_STORAGE_BYTES = "14251432"
  ^DESCRIPTION = "JP2INFO.TXT"
END_OBJECT = COMPRESSED_FILE
END
