PDS_VERSION_ID = PDS3
/* FILE DATA ELEMENTS */
RECORD_TYPE = STREAM
/* POINTERS TO DATA OBJECTS */
^COMPRESSED_FILE = "H5308_0000_BL3.JP2"
/* IDENTIFICATION DATA ELEMENTS */
DATA_SET_ID = "MEX-M-HRSC-5-REFDR-MAPPROJECTED-V3.0"
DATA_SET_NAME = "MARS EXPRESS HRSC MAP PROJECTED REFDR V3.0"
DETECTOR_ID = MEX_HRSC_BLUE
EVENT_TYPE = "MARS-REGIONAL-MAPPING-Vo-Te-Im"
INSTRUMENT_HOST_ID = MEX
INSTRUMENT_HOST_NAME = "MARS EXPRESS"
INSTRUMENT_ID = HRSC
INSTRUMENT_NAME = "HIGH RESOLUTION STEREO CAMERA"
MISSION_NAME = "MARS EXPRESS"
MISSION_PHASE_NAME = ME_Phase_11
PROCESSING_LEVEL_ID = 3
PRODUCT_CREATION_TIME = 2016-05-14T01:01:03.000Z
PRODUCT_ID = "H5308_0000_BL3.JP2"
RELEASE_ID = 0061
REVISION_ID = 0000
/* QUALITY DATA ELEMENTS */
DATA_QUALITY_ID = 1
DATA_QUALITY_DESC = "Data calculated based on original SPICE kernels"
/* TIME DATA ELEMENTS */
SPACECRAFT_CLOCK_START_COUNT = "1/0151488535.08425"
SPACECRAFT_CLOCK_STOP_COUNT = "1/0151488882.08308"
START_TIME = 2008-02-19T08:09:34.056Z
STOP_TIME = 2008-02-19T08:14:09.430Z
/* ORBITAL DATA ELEMENTS */
ASCENDING_NODE_LONGITUDE = 117.76
MAXIMUM_RESOLUTION = 53.6
FOOTPRINT_POINT_LATITUDE = (33.39,33.385,33.3782,33.0299,32.6818, 32.3337,31.9858,31.6381,31.2905,30.9348 ,30.576,30.2173,29.8589,29.5007,29.1429 ,28.785,28.4276,28.0704,27.7135,27.3568 ,27.0005,26.6446,26.289,25.9335,25.5785 ,25.2238,24.8694,24.5153,24.1615, 23.8082,23.4553,23.1027,22.7506,22.3988 ,22.0475,21.6966,21.3461,20.9962, 20.6466,20.2976,19.949,19.6009,19.2528, 18.9055,18.5587,18.2125,17.6942,17.0059 ,16.4908,15.8044,15.8035,15.8011, 16.4869,16.8307,17.175,17.5199,17.8653, 18.2113,18.5578,18.9048,19.2523,19.6004 ,19.9489,20.2978,20.6472,20.9971, 21.3477,21.6986,22.0499,22.4016,22.7537 ,23.1063,23.4593,23.8127,24.1665, 24.5207,24.8751,25.2299,25.5848,25.9401 ,26.2959,26.6521,27.0087,27.3656, 27.7226,28.08,28.4376,28.7955,29.1537, 29.5121,29.8708,30.2297,30.5888,30.9481 ,31.3044,31.8265,32.1748,32.5233,32.872 ,33.39)
FOOTPRINT_POINT_LONGITUDE = (235.455,235.018,234.305,234.313,234.32 ,234.328,234.335,234.341,234.347, 234.353,234.359,234.364,234.369,234.374 ,234.378,234.383,234.386,234.39,234.393 ,234.396,234.398,234.4,234.402,234.404, 234.405,234.406,234.407,234.407,234.408 ,234.408,234.408,234.407,234.406, 234.405,234.404,234.403,234.401,234.399 ,234.397,234.395,234.392,234.389, 234.387,234.384,234.38,234.377,234.371, 234.362,234.354,234.662,235.092,235.836 ,235.832,235.829,235.827,235.825, 235.823,235.82,235.818,235.816,235.814, 235.811,235.809,235.807,235.804,235.802 ,235.8,235.797,235.795,235.793,235.79, 235.788,235.785,235.783,235.78,235.778, 235.775,235.772,235.769,235.766,235.763 ,235.76,235.758,235.755,235.752,235.749 ,235.746,235.743,235.739,235.736, 235.733,235.73,235.727,235.723,235.72, 235.715,235.711,235.708,235.704, 235.455)
ORBIT_NUMBER = 5308
ORBITAL_ECCENTRICITY = 0.572
ORBITAL_INCLINATION = 86.74
ORBITAL_SEMIMAJOR_AXIS = 8703.51
PERIAPSIS_ALTITUDE = 335.85
PERIAPSIS_ARGUMENT_ANGLE = 144.48
PERIAPSIS_TIME = 2008-02-19T08:08:57.000Z
SPACECRAFT_ORIENTATION = (0.0,-1.0,0.0)
^MEX_ORIENTATION_DESC = "MEX_ORIENTATION_DESC.TXT"
SPACECRAFT_POINTING_MODE = ACROSSTRACK
^MEX_POINTING_DESC = "MEX_POINTING_DESC.TXT"
RIGHT_ASCENSION = -1e+32
DECLINATION = -1e+32
OFFSET_ANGLE = 0.15
SPACECRAFT_SOLAR_DISTANCE = 2.44144e+08
TARGET_NAME = MARS
/* CAMERA DATA ELEMENTS */
DETECTOR_TEMPERATURE = 18.1666
FOCAL_PLANE_TEMPERATURE = 8.3794
INST_CMPRS_NAME = "DISCRETE COSINE TRANSFORMATION (DCT)"
INST_CMPRS_RATIO = 10.1003
INST_CMPRS_QUALITY = 0
INST_CMPRS_QUANTZ_TBL_ID = 0
INSTRUMENT_TEMPERATURE = 11.0301
LENS_TEMPERATURE = 8.3794
MACROPIXEL_SIZE = 4
MISSING_FRAMES = 0
PIXEL_SUBSAMPLING_FLAG = N
SIGNAL_CHAIN_ID = 2
/* RADIOMETRIC DATA ELEMENTS */
BANDWIDTH = 76.0
CENTER_FILTER_WAVELENGTH = 444.0
RADIANCE_OFFSET = 0.555538
RADIANCE_SCALING_FACTOR = 0.00225243
REFLECTANCE_SCALING_FACTOR = 0.000137943
MEX:REFLECTANCE_OFFSET = 0.0340223
/* IMAGE OBJECT DEFINITIONS */
OBJECT = IMAGE
  INTERCHANGE_FORMAT = BINARY
  LINES = 20866
  LINE_SAMPLES = 1797
  SAMPLE_TYPE = UNSIGNED_INTEGER
  SAMPLE_BITS = 8
  BANDS = 1
  BAND_STORAGE_TYPE = BAND_SEQUENTIAL
  MAXIMUM = 255
  MEAN = 147.516
  MINIMUM = 1
  STANDARD_DEVIATION = 23.3665
END_OBJECT = IMAGE
/* MAP OBJECT DEFINITIONS */
OBJECT = IMAGE_MAP_PROJECTION
  ^DATA_SET_MAP_PROJECTION_CATALOG= "DSMAP.CAT"
  A_AXIS_RADIUS = 3396.0
  B_AXIS_RADIUS = 3396.0
  C_AXIS_RADIUS = 3396.0
  CENTER_LATITUDE = 0.0
  CENTER_LONGITUDE = 235.0
  COORDINATE_SYSTEM_NAME = PLANETOGRAPHIC
  COORDINATE_SYSTEM_TYPE = "BODY-FIXED ROTATING"
  EASTERNMOST_LONGITUDE = 235.836
  FIRST_STANDARD_PARALLEL = "N/A"
  LINE_FIRST_PIXEL = 1
  LINE_LAST_PIXEL = 20866
  LINE_PROJECTION_OFFSET = 39593.625
  MAP_PROJECTION_ROTATION = 0.0
  MAP_PROJECTION_TYPE = SINUSOIDAL
  MAP_RESOLUTION = 1185.42760773333
  MAP_SCALE = 0.05
  MAXIMUM_LATITUDE = 33.39
  MINIMUM_LATITUDE = 15.8011
  POSITIVE_LONGITUDE_DIRECTION = EAST
  REFERENCE_LATITUDE = "N/A"
  REFERENCE_LONGITUDE = "N/A"
  SAMPLE_FIRST_PIXEL = 1
  SAMPLE_LAST_PIXEL = 1797
  SAMPLE_PROJECTION_OFFSET = 788.625
  SECOND_STANDARD_PARALLEL = "N/A"
  WESTERNMOST_LONGITUDE = 234.305
END_OBJECT = IMAGE_MAP_PROJECTION
/* The JPEG2000 image data file associated with this label. */
OBJECT = COMPRESSED_FILE
  FILE_NAME = "H5308_0000_BL3.JP2"
  RECORD_TYPE = UNDEFINED
  FILE_RECORDS = UNK
  ENCODING_TYPE = "JP2"
  INTERCHANGE_FORMAT = BINARY
  UNCOMPRESSED_FILE_NAME = "H5308_0000_BL3.IMG"
  REQUIRED_STORAGE_BYTES = "37515969"
  ^DESCRIPTION = "JP2INFO.TXT"
END_OBJECT = COMPRESSED_FILE
END
