PDS_VERSION_ID = PDS3
/* FILE DATA ELEMENTS */
RECORD_TYPE = STREAM
/* POINTERS TO DATA OBJECTS */
^COMPRESSED_FILE = "H5310_0000_P13.JP2"
/* IDENTIFICATION DATA ELEMENTS */
DATA_SET_ID = "MEX-M-HRSC-5-REFDR-MAPPROJECTED-V3.0"
DATA_SET_NAME = "MARS EXPRESS HRSC MAP PROJECTED REFDR V3.0"
DETECTOR_ID = MEX_HRSC_P1
EVENT_TYPE = "MARS-REGIONAL-MAPPING-Im-Fl-Gl"
INSTRUMENT_HOST_ID = MEX
INSTRUMENT_HOST_NAME = "MARS EXPRESS"
INSTRUMENT_ID = HRSC
INSTRUMENT_NAME = "HIGH RESOLUTION STEREO CAMERA"
MISSION_NAME = "MARS EXPRESS"
MISSION_PHASE_NAME = ME_Phase_11
PROCESSING_LEVEL_ID = 3
PRODUCT_CREATION_TIME = 2016-05-14T01:01:03.000Z
PRODUCT_ID = "H5310_0000_P13.JP2"
RELEASE_ID = 0061
REVISION_ID = 0000
/* QUALITY DATA ELEMENTS */
DATA_QUALITY_ID = 2
DATA_QUALITY_DESC = "Data calculated based on photogrammetrically improved orbit and attitude data"
/* TIME DATA ELEMENTS */
SPACECRAFT_CLOCK_START_COUNT = "1/0151537632.08245"
SPACECRAFT_CLOCK_STOP_COUNT = "1/0151537872.63831"
START_TIME = 2008-02-19T21:47:27.456Z
STOP_TIME = 2008-02-19T21:50:24.158Z
/* ORBITAL DATA ELEMENTS */
ASCENDING_NODE_LONGITUDE = 117.71
MAXIMUM_RESOLUTION = 55.2
FOOTPRINT_POINT_LATITUDE = (44.7018,44.7024,44.7022,44.6996, 44.6942,44.4172,44.1925,43.8554,43.6308 ,43.4053,43.0674,42.842,42.6184,42.39, 42.1639,41.9393,41.7183,41.4921,41.2644 ,41.0343,40.8111,40.5831,40.2411, 39.8966,39.671,39.4436,39.2146,38.9858, 38.7582,38.4128,38.1834,37.9542,37.7241 ,37.3817,37.0393,36.6956,36.466,36.1229 ,35.9004,35.6782,35.4563,35.2333, 34.8974,34.6737,34.4509,34.2274,34.0046 ,33.7807,33.4447,33.2737,33.2718, 33.2674,33.2627,33.5989,33.8237,34.0481 ,34.2695,34.4891,34.7119,34.9354, 35.1592,35.3844,35.6116,35.8352,36.0578 ,36.2847,36.6297,36.8601,37.0907, 37.4373,37.7794,38.0084,38.2382,38.4673 ,38.6965,38.926,39.155,39.3825,39.6105, 39.8393,40.0672,40.4084,40.6367,40.864, 41.0911,41.3187,41.6589,41.8879,42.1149 ,42.3422,42.5693,42.7963,43.0225, 43.2419,43.4662,43.6918,43.9175,44.1429 ,44.4805,44.7018)
FOOTPRINT_POINT_LONGITUDE = (35.8684,35.555,35.293,34.7738,34.2608, 34.1407,34.1546,34.1749,34.1881,34.2011 ,34.2201,34.2325,34.2448,34.2566, 34.2683,34.2798,34.2913,34.3023,34.3131 ,34.3235,34.3341,34.3442,34.359,34.3733 ,34.3827,34.3919,34.4008,34.4095, 34.4181,34.4304,34.4385,34.4464,34.454, 34.4653,34.4762,34.4867,34.4934,34.5031 ,34.5093,34.5152,34.5211,34.5267, 34.5348,34.5401,34.5452,34.5502,34.5551 ,34.5597,34.5665,34.8936,35.2212, 35.5928,35.9863,35.9848,35.9831,35.9817 ,35.9834,35.9871,35.9871,35.9863,35.985 ,35.9821,35.977,35.9756,35.9751,35.9742 ,35.9731,35.9718,35.9701,35.9665, 35.9676,35.9671,35.9656,35.9645,35.9633 ,35.9616,35.9602,35.9605,35.9598, 35.9581,35.9572,35.9564,35.9546,35.9537 ,35.9529,35.9513,35.9498,35.9459, 35.9442,35.9419,35.9395,35.937,35.9352, 35.9416,35.9417,35.9399,35.9377,35.9357 ,35.9326,35.8684)
ORBIT_NUMBER = 5310
ORBITAL_ECCENTRICITY = 0.572
ORBITAL_INCLINATION = 86.73
ORBITAL_SEMIMAJOR_AXIS = 8699.8
PERIAPSIS_ALTITUDE = 336.66
PERIAPSIS_ARGUMENT_ANGLE = 144.16
PERIAPSIS_TIME = 2008-02-19T21:50:05.000Z
SPACECRAFT_ORIENTATION = (0.0,-1.0,0.0)
^MEX_ORIENTATION_DESC = "MEX_ORIENTATION_DESC.TXT"
SPACECRAFT_POINTING_MODE = ACROSSTRACK
^MEX_POINTING_DESC = "MEX_POINTING_DESC.TXT"
RIGHT_ASCENSION = -1e+32
DECLINATION = -1e+32
OFFSET_ANGLE = 0.5
SPACECRAFT_SOLAR_DISTANCE = 2.44211e+08
TARGET_NAME = MARS
/* CAMERA DATA ELEMENTS */
DETECTOR_TEMPERATURE = 18.5744
FOCAL_PLANE_TEMPERATURE = 8.3794
INST_CMPRS_NAME = "DISCRETE COSINE TRANSFORMATION (DCT)"
INST_CMPRS_RATIO = 13.2436
INST_CMPRS_QUALITY = 0
INST_CMPRS_QUANTZ_TBL_ID = 0
INSTRUMENT_TEMPERATURE = 11.234
LENS_TEMPERATURE = 8.5833
MACROPIXEL_SIZE = 4
MISSING_FRAMES = 0
PIXEL_SUBSAMPLING_FLAG = N
SIGNAL_CHAIN_ID = 3
/* RADIOMETRIC DATA ELEMENTS */
BANDWIDTH = 174.0
CENTER_FILTER_WAVELENGTH = 675.0
RADIANCE_OFFSET = 3.50123
RADIANCE_SCALING_FACTOR = 0.0254011
REFLECTANCE_SCALING_FACTOR = 0.000814836
MEX:REFLECTANCE_OFFSET = 0.112315
/* IMAGE OBJECT DEFINITIONS */
OBJECT = IMAGE
  INTERCHANGE_FORMAT = BINARY
  LINES = 13529
  LINE_SAMPLES = 1766
  SAMPLE_TYPE = UNSIGNED_INTEGER
  SAMPLE_BITS = 8
  BANDS = 1
  BAND_STORAGE_TYPE = BAND_SEQUENTIAL
  MAXIMUM = 255
  MEAN = 141.592
  MINIMUM = 1
  STANDARD_DEVIATION = 35.1806
END_OBJECT = IMAGE
/* MAP OBJECT DEFINITIONS */
OBJECT = IMAGE_MAP_PROJECTION
  ^DATA_SET_MAP_PROJECTION_CATALOG= "DSMAP.CAT"
  A_AXIS_RADIUS = 3396.0
  B_AXIS_RADIUS = 3396.0
  C_AXIS_RADIUS = 3396.0
  CENTER_LATITUDE = 0.0
  CENTER_LONGITUDE = 35.0
  COORDINATE_SYSTEM_NAME = PLANETOGRAPHIC
  COORDINATE_SYSTEM_TYPE = "BODY-FIXED ROTATING"
  EASTERNMOST_LONGITUDE = 35.9871
  FIRST_STANDARD_PARALLEL = "N/A"
  LINE_FIRST_PIXEL = 1
  LINE_LAST_PIXEL = 13529
  LINE_PROJECTION_OFFSET = 52953.875
  MAP_PROJECTION_ROTATION = 0.0
  MAP_PROJECTION_TYPE = SINUSOIDAL
  MAP_RESOLUTION = 1185.42760773333
  MAP_SCALE = 0.05
  MAXIMUM_LATITUDE = 44.7024
  MINIMUM_LATITUDE = 33.2627
  POSITIVE_LONGITUDE_DIRECTION = EAST
  REFERENCE_LATITUDE = "N/A"
  REFERENCE_LONGITUDE = "N/A"
  SAMPLE_FIRST_PIXEL = 1
  SAMPLE_LAST_PIXEL = 1766
  SAMPLE_PROJECTION_OFFSET = 729.875
  SECOND_STANDARD_PARALLEL = "N/A"
  WESTERNMOST_LONGITUDE = 34.1407
END_OBJECT = IMAGE_MAP_PROJECTION
/* The JPEG2000 image data file associated with this label. */
OBJECT = COMPRESSED_FILE
  FILE_NAME = "H5310_0000_P13.JP2"
  RECORD_TYPE = UNDEFINED
  FILE_RECORDS = UNK
  ENCODING_TYPE = "JP2"
  INTERCHANGE_FORMAT = BINARY
  UNCOMPRESSED_FILE_NAME = "H5310_0000_P13.IMG"
  REQUIRED_STORAGE_BYTES = "23911640"
  ^DESCRIPTION = "JP2INFO.TXT"
END_OBJECT = COMPRESSED_FILE
END
