PDS_VERSION_ID = PDS3
/* FILE DATA ELEMENTS */
RECORD_TYPE = STREAM
/* POINTERS TO DATA OBJECTS */
^COMPRESSED_FILE = "H5312_0000_P13.JP2"
/* IDENTIFICATION DATA ELEMENTS */
DATA_SET_ID = "MEX-M-HRSC-5-REFDR-MAPPROJECTED-V3.0"
DATA_SET_NAME = "MARS EXPRESS HRSC MAP PROJECTED REFDR V3.0"
DETECTOR_ID = MEX_HRSC_P1
EVENT_TYPE = "MARS-REGIONAL-MAPPING-Vo-Im-Eo"
INSTRUMENT_HOST_ID = MEX
INSTRUMENT_HOST_NAME = "MARS EXPRESS"
INSTRUMENT_ID = HRSC
INSTRUMENT_NAME = "HIGH RESOLUTION STEREO CAMERA"
MISSION_NAME = "MARS EXPRESS"
MISSION_PHASE_NAME = ME_Phase_11
PROCESSING_LEVEL_ID = 3
PRODUCT_CREATION_TIME = 2016-05-14T01:01:03.000Z
PRODUCT_ID = "H5312_0000_P13.JP2"
RELEASE_ID = 0061
REVISION_ID = 0000
/* QUALITY DATA ELEMENTS */
DATA_QUALITY_ID = 1
DATA_QUALITY_DESC = "Data calculated based on original SPICE kernels"
/* TIME DATA ELEMENTS */
SPACECRAFT_CLOCK_START_COUNT = "1/0151586844.08231"
SPACECRAFT_CLOCK_STOP_COUNT = "1/0151587108.24633"
START_TIME = 2008-02-20T11:27:40.213Z
STOP_TIME = 2008-02-20T11:31:00.097Z
/* ORBITAL DATA ELEMENTS */
ASCENDING_NODE_LONGITUDE = 117.67
MAXIMUM_RESOLUTION = 56
FOOTPRINT_POINT_LATITUDE = (48.3296,48.3196,48.3056,48.2853, 47.9651,47.4673,46.9679,46.7178,46.4675 ,46.2168,45.9658,45.7146,45.4631, 45.2113,44.9592,44.7068,44.4542,44.2013 ,43.9483,43.6949,43.4413,43.1874, 42.9332,42.679,42.4244,42.1695,41.9144, 41.659,41.4035,41.1479,40.8919,40.6358, 40.3794,39.9952,39.6091,39.3524,39.0947 ,38.8371,38.5795,38.3216,38.0636, 37.8055,37.5472,37.2888,37.0302,36.7714 ,36.5125,36.2535,35.9943,35.735,35.4755 ,35.473,35.4808,35.4865,35.879,36.1388, 36.3984,36.6579,36.9173,37.1765,37.4355 ,37.6945,37.9533,38.2119,38.4704, 38.8578,39.1176,39.3741,39.7603,40.0178 ,40.275,40.5322,40.7891,41.0458,41.3023 ,41.5587,41.8148,42.0706,42.3263, 42.5817,42.837,43.0921,43.3468,43.6014, 43.8557,44.1097,44.3636,44.6171,44.8704 ,45.1234,45.3762,45.6287,46.0071, 46.2589,46.5105,46.7618,47.0129,47.5141 ,48.0141,48.3296)
FOOTPRINT_POINT_LONGITUDE = (194.729,194.316,193.83,193.238,192.97, 193.018,193.065,193.088,193.11,193.132, 193.153,193.174,193.195,193.215,193.235 ,193.254,193.273,193.292,193.311, 193.329,193.346,193.364,193.381,193.398 ,193.414,193.43,193.446,193.461,193.476 ,193.491,193.505,193.52,193.533,193.554 ,193.573,193.586,193.598,193.611, 193.622,193.634,193.645,193.657,193.667 ,193.678,193.688,193.699,193.708, 193.718,193.727,193.736,193.745,194.154 ,194.589,195.025,195.202,195.199, 195.195,195.191,195.188,195.184,195.18, 195.176,195.173,195.169,195.165,195.159 ,195.153,195.15,195.144,195.139,195.135 ,195.13,195.126,195.121,195.116,195.112 ,195.107,195.102,195.097,195.092, 195.086,195.081,195.076,195.07,195.065, 195.059,195.054,195.048,195.042,195.036 ,195.03,195.024,195.015,195.009,195.002 ,194.996,194.989,194.976,194.962, 194.729)
ORBIT_NUMBER = 5312
ORBITAL_ECCENTRICITY = 0.571
ORBITAL_INCLINATION = 86.74
ORBITAL_SEMIMAJOR_AXIS = 8691.71
PERIAPSIS_ALTITUDE = 336.84
PERIAPSIS_ARGUMENT_ANGLE = 143.79
PERIAPSIS_TIME = 2008-02-20T11:31:09.000Z
SPACECRAFT_ORIENTATION = (0.0,-1.0,0.0)
^MEX_ORIENTATION_DESC = "MEX_ORIENTATION_DESC.TXT"
SPACECRAFT_POINTING_MODE = NADIR
^MEX_POINTING_DESC = "MEX_POINTING_DESC.TXT"
RIGHT_ASCENSION = -1e+32
DECLINATION = -1e+32
OFFSET_ANGLE = -1e+32
SPACECRAFT_SOLAR_DISTANCE = 2.44278e+08
TARGET_NAME = MARS
/* CAMERA DATA ELEMENTS */
DETECTOR_TEMPERATURE = 16.5354
FOCAL_PLANE_TEMPERATURE = 8.1755
INST_CMPRS_NAME = "DISCRETE COSINE TRANSFORMATION (DCT)"
INST_CMPRS_RATIO = 23.9909
INST_CMPRS_QUALITY = 0
INST_CMPRS_QUANTZ_TBL_ID = 0
INSTRUMENT_TEMPERATURE = 11.234
LENS_TEMPERATURE = 8.5833
MACROPIXEL_SIZE = 4
MISSING_FRAMES = 0
PIXEL_SUBSAMPLING_FLAG = N
SIGNAL_CHAIN_ID = 3
/* RADIOMETRIC DATA ELEMENTS */
BANDWIDTH = 174.0
CENTER_FILTER_WAVELENGTH = 675.0
RADIANCE_OFFSET = 5.60779
RADIANCE_SCALING_FACTOR = 0.0113504
REFLECTANCE_SCALING_FACTOR = 0.000364303
MEX:REFLECTANCE_OFFSET = 0.179988
/* IMAGE OBJECT DEFINITIONS */
OBJECT = IMAGE
  INTERCHANGE_FORMAT = BINARY
  LINES = 15180
  LINE_SAMPLES = 2003
  SAMPLE_TYPE = UNSIGNED_INTEGER
  SAMPLE_BITS = 8
  BANDS = 1
  BAND_STORAGE_TYPE = BAND_SEQUENTIAL
  MAXIMUM = 255
  MEAN = 123.135
  MINIMUM = 1
  STANDARD_DEVIATION = 27.4311
END_OBJECT = IMAGE
/* MAP OBJECT DEFINITIONS */
OBJECT = IMAGE_MAP_PROJECTION
  ^DATA_SET_MAP_PROJECTION_CATALOG= "DSMAP.CAT"
  A_AXIS_RADIUS = 3396.0
  B_AXIS_RADIUS = 3396.0
  C_AXIS_RADIUS = 3396.0
  CENTER_LATITUDE = 0.0
  CENTER_LONGITUDE = 194.0
  COORDINATE_SYSTEM_NAME = PLANETOGRAPHIC
  COORDINATE_SYSTEM_TYPE = "BODY-FIXED ROTATING"
  EASTERNMOST_LONGITUDE = 195.202
  FIRST_STANDARD_PARALLEL = "N/A"
  LINE_FIRST_PIXEL = 1
  LINE_LAST_PIXEL = 15180
  LINE_PROJECTION_OFFSET = 57249.125
  MAP_PROJECTION_ROTATION = 0.0
  MAP_PROJECTION_TYPE = SINUSOIDAL
  MAP_RESOLUTION = 1185.42760773333
  MAP_SCALE = 0.05
  MAXIMUM_LATITUDE = 48.3296
  MINIMUM_LATITUDE = 35.473
  POSITIVE_LONGITUDE_DIRECTION = EAST
  REFERENCE_LATITUDE = "N/A"
  REFERENCE_LONGITUDE = "N/A"
  SAMPLE_FIRST_PIXEL = 1
  SAMPLE_LAST_PIXEL = 2003
  SAMPLE_PROJECTION_OFFSET = 826.875
  SECOND_STANDARD_PARALLEL = "N/A"
  WESTERNMOST_LONGITUDE = 192.97
END_OBJECT = IMAGE_MAP_PROJECTION
/* The JPEG2000 image data file associated with this label. */
OBJECT = COMPRESSED_FILE
  FILE_NAME = "H5312_0000_P13.JP2"
  RECORD_TYPE = UNDEFINED
  FILE_RECORDS = UNK
  ENCODING_TYPE = "JP2"
  INTERCHANGE_FORMAT = BINARY
  UNCOMPRESSED_FILE_NAME = "H5312_0000_P13.IMG"
  REQUIRED_STORAGE_BYTES = "30425570"
  ^DESCRIPTION = "JP2INFO.TXT"
END_OBJECT = COMPRESSED_FILE
END
