PDS_VERSION_ID = PDS3
/* FILE DATA ELEMENTS */
RECORD_TYPE = STREAM
/* POINTERS TO DATA OBJECTS */
^COMPRESSED_FILE = "H5313_0074_S23.JP2"
/* IDENTIFICATION DATA ELEMENTS */
DATA_SET_ID = "MEX-M-HRSC-5-REFDR-MAPPROJECTED-V3.0"
DATA_SET_NAME = "MARS EXPRESS HRSC MAP PROJECTED REFDR V3.0"
DETECTOR_ID = MEX_HRSC_S2
EVENT_TYPE = "MARS-REGIONAL-MAPPING-Vo-Im-Eo"
INSTRUMENT_HOST_ID = MEX
INSTRUMENT_HOST_NAME = "MARS EXPRESS"
INSTRUMENT_ID = HRSC
INSTRUMENT_NAME = "HIGH RESOLUTION STEREO CAMERA"
MISSION_NAME = "MARS EXPRESS"
MISSION_PHASE_NAME = ME_Phase_11
PROCESSING_LEVEL_ID = 3
PRODUCT_CREATION_TIME = 2016-05-14T01:01:03.000Z
PRODUCT_ID = "H5313_0074_S23.JP2"
RELEASE_ID = 0061
REVISION_ID = 0000
/* QUALITY DATA ELEMENTS */
DATA_QUALITY_ID = 1
DATA_QUALITY_DESC = "Data calculated based on original SPICE kernels"
/* TIME DATA ELEMENTS */
SPACECRAFT_CLOCK_START_COUNT = "1/0151611444.08256"
SPACECRAFT_CLOCK_STOP_COUNT = "1/0151611677.56056"
START_TIME = 2008-02-20T18:18:38.276Z
STOP_TIME = 2008-02-20T18:21:19.663Z
/* ORBITAL DATA ELEMENTS */
ASCENDING_NODE_LONGITUDE = 117.65
MAXIMUM_RESOLUTION = 29.1
FOOTPRINT_POINT_LATITUDE = (50.437,50.4263,50.4181,50.4026,50.393, 50.2615,49.9407,49.7269,49.5126,49.1917 ,48.9776,48.7635,48.5496,48.336,48.1221 ,47.908,47.6942,47.4799,47.266,47.0517, 46.8378,46.5173,46.3036,45.9825,45.7687 ,45.4477,45.1269,44.9131,44.6994, 44.3787,44.1648,43.8442,43.6303,43.3103 ,42.9909,42.6711,42.4578,42.2447, 42.0315,41.8186,41.4991,41.292,41.0861, 40.8803,40.6747,40.4695,40.263,40.0574, 39.8448,39.8507,39.8549,39.8595,39.8629 ,39.8661,39.87,40.0758,40.2817,40.4879, 40.694,40.9004,41.2098,41.4165,41.7344, 41.9478,42.1616,42.3748,42.5879,42.8014 ,43.0154,43.2294,43.5505,43.7648,44.086 ,44.3002,44.6217,44.9433,45.158,45.3724 ,45.5867,45.8012,46.0157,46.2301, 46.4443,46.659,46.8736,47.1954,47.4106, 47.7327,47.9475,48.162,48.3767,48.5917, 48.8064,49.0216,49.2366,49.4505,49.6646 ,49.8794,50.0948,50.437)
FOOTPRINT_POINT_LONGITUDE = (94.711,94.2693,93.9621,93.425,93.1182, 92.6979,92.7332,92.7563,92.7792,92.8125 ,92.8345,92.856,92.877,92.8976,92.918, 92.9381,92.9578,92.9774,92.9964,93.0154 ,93.0338,93.0608,93.0784,93.1045, 93.1215,93.1465,93.1709,93.1868,93.2023 ,93.2253,93.2403,93.2624,93.2768, 93.2977,93.3178,93.3376,93.3506,93.3632 ,93.3758,93.3879,93.4059,93.4174, 93.4285,93.4394,93.45,93.4603,93.471, 93.4811,93.6582,93.962,94.1743,94.4324, 94.6299,94.8274,95.0607,95.0564,95.0521 ,95.0478,95.0434,95.039,95.0322,95.0276 ,95.0207,95.0158,95.0109,95.0057, 95.0003,94.9951,94.9899,94.9846,94.9765 ,94.9711,94.9627,94.9571,94.9485, 94.9396,94.9337,94.9276,94.9214,94.9151 ,94.9088,94.9023,94.8956,94.889,94.8822 ,94.8719,94.8651,94.8545,94.8473, 94.8399,94.8324,94.825,94.8173,94.8097, 94.8019,94.7935,94.7851,94.7769,94.7688 ,94.711)
ORBIT_NUMBER = 5313
ORBITAL_ECCENTRICITY = 0.572
ORBITAL_INCLINATION = 86.74
ORBITAL_SEMIMAJOR_AXIS = 8701.53
PERIAPSIS_ALTITUDE = 336.16
PERIAPSIS_ARGUMENT_ANGLE = 143.6
PERIAPSIS_TIME = 2008-02-20T18:21:42.000Z
SPACECRAFT_ORIENTATION = (0.0,-1.0,0.0)
^MEX_ORIENTATION_DESC = "MEX_ORIENTATION_DESC.TXT"
SPACECRAFT_POINTING_MODE = NADIR
^MEX_POINTING_DESC = "MEX_POINTING_DESC.TXT"
RIGHT_ASCENSION = -1e+32
DECLINATION = -1e+32
OFFSET_ANGLE = -1e+32
SPACECRAFT_SOLAR_DISTANCE = 2.44311e+08
TARGET_NAME = MARS
/* CAMERA DATA ELEMENTS */
DETECTOR_TEMPERATURE = 18.7783
FOCAL_PLANE_TEMPERATURE = 8.5833
INST_CMPRS_NAME = "DISCRETE COSINE TRANSFORMATION (DCT)"
INST_CMPRS_RATIO = 14.1407
INST_CMPRS_QUALITY = 0
INST_CMPRS_QUANTZ_TBL_ID = 0
INSTRUMENT_TEMPERATURE = 11.6418
LENS_TEMPERATURE = 8.9911
MACROPIXEL_SIZE = 2
MISSING_FRAMES = 0
PIXEL_SUBSAMPLING_FLAG = N
SIGNAL_CHAIN_ID = 1
/* RADIOMETRIC DATA ELEMENTS */
BANDWIDTH = 178.0
CENTER_FILTER_WAVELENGTH = 679.0
RADIANCE_OFFSET = 3.71181
RADIANCE_SCALING_FACTOR = 0.0196777
REFLECTANCE_SCALING_FACTOR = 0.000621997
MEX:REFLECTANCE_OFFSET = 0.117327
/* IMAGE OBJECT DEFINITIONS */
OBJECT = IMAGE
  INTERCHANGE_FORMAT = BINARY
  LINES = 25366
  LINE_SAMPLES = 3971
  SAMPLE_TYPE = UNSIGNED_INTEGER
  SAMPLE_BITS = 8
  BANDS = 1
  BAND_STORAGE_TYPE = BAND_SEQUENTIAL
  MAXIMUM = 255
  MEAN = 83.248
  MINIMUM = 1
  STANDARD_DEVIATION = 56.0249
END_OBJECT = IMAGE
/* MAP OBJECT DEFINITIONS */
OBJECT = IMAGE_MAP_PROJECTION
  ^DATA_SET_MAP_PROJECTION_CATALOG= "DSMAP.CAT"
  A_AXIS_RADIUS = 3396.0
  B_AXIS_RADIUS = 3396.0
  C_AXIS_RADIUS = 3396.0
  CENTER_LATITUDE = 0.0
  CENTER_LONGITUDE = 94.0
  COORDINATE_SYSTEM_NAME = PLANETOGRAPHIC
  COORDINATE_SYSTEM_TYPE = "BODY-FIXED ROTATING"
  EASTERNMOST_LONGITUDE = 95.0607
  FIRST_STANDARD_PARALLEL = "N/A"
  LINE_FIRST_PIXEL = 1
  LINE_LAST_PIXEL = 25366
  LINE_PROJECTION_OFFSET = 119771.75
  MAP_PROJECTION_ROTATION = 0.0
  MAP_PROJECTION_TYPE = SINUSOIDAL
  MAP_RESOLUTION = 2370.85521546667
  MAP_SCALE = 0.025
  MAXIMUM_LATITUDE = 50.437
  MINIMUM_LATITUDE = 39.8448
  POSITIVE_LONGITUDE_DIRECTION = EAST
  REFERENCE_LATITUDE = "N/A"
  REFERENCE_LONGITUDE = "N/A"
  SAMPLE_FIRST_PIXEL = 1
  SAMPLE_LAST_PIXEL = 3971
  SAMPLE_PROJECTION_OFFSET = 2008.75
  SECOND_STANDARD_PARALLEL = "N/A"
  WESTERNMOST_LONGITUDE = 92.6979
END_OBJECT = IMAGE_MAP_PROJECTION
/* The JPEG2000 image data file associated with this label. */
OBJECT = COMPRESSED_FILE
  FILE_NAME = "H5313_0074_S23.JP2"
  RECORD_TYPE = UNDEFINED
  FILE_RECORDS = UNK
  ENCODING_TYPE = "JP2"
  INTERCHANGE_FORMAT = BINARY
  UNCOMPRESSED_FILE_NAME = "H5313_0074_S23.IMG"
  REQUIRED_STORAGE_BYTES = "100752212"
  ^DESCRIPTION = "JP2INFO.TXT"
END_OBJECT = COMPRESSED_FILE
END
