PDS_VERSION_ID = PDS3
/* FILE DATA ELEMENTS */
RECORD_TYPE = STREAM
/* POINTERS TO DATA OBJECTS */
^COMPRESSED_FILE = "H5316_0000_GR3.JP2"
/* IDENTIFICATION DATA ELEMENTS */
DATA_SET_ID = "MEX-M-HRSC-5-REFDR-MAPPROJECTED-V3.0"
DATA_SET_NAME = "MARS EXPRESS HRSC MAP PROJECTED REFDR V3.0"
DETECTOR_ID = MEX_HRSC_GREEN
EVENT_TYPE = "MARS-REGIONAL-MAPPING-Vo-Te"
INSTRUMENT_HOST_ID = MEX
INSTRUMENT_HOST_NAME = "MARS EXPRESS"
INSTRUMENT_ID = HRSC
INSTRUMENT_NAME = "HIGH RESOLUTION STEREO CAMERA"
MISSION_NAME = "MARS EXPRESS"
MISSION_PHASE_NAME = ME_Phase_11
PROCESSING_LEVEL_ID = 3
PRODUCT_CREATION_TIME = 2016-05-14T01:01:03.000Z
PRODUCT_ID = "H5316_0000_GR3.JP2"
RELEASE_ID = 0061
REVISION_ID = 0000
/* QUALITY DATA ELEMENTS */
DATA_QUALITY_ID = 1
DATA_QUALITY_DESC = "Data calculated based on original SPICE kernels"
/* TIME DATA ELEMENTS */
SPACECRAFT_CLOCK_START_COUNT = "1/0151685591.08431"
SPACECRAFT_CLOCK_STOP_COUNT = "1/0151685888.06545"
START_TIME = 2008-02-21T14:53:40.422Z
STOP_TIME = 2008-02-21T14:57:25.690Z
/* ORBITAL DATA ELEMENTS */
ASCENDING_NODE_LONGITUDE = 117.58
MAXIMUM_RESOLUTION = 109.7
FOOTPRINT_POINT_LATITUDE = (35.2902,35.294,35.2961,34.8456,34.5517 ,34.2579,33.964,33.6702,33.2296,32.9358 ,32.642,32.3484,32.0547,31.7611,31.4675 ,31.174,30.8806,30.5873,30.1474,29.7077 ,29.4147,29.1217,28.8289,28.5362, 28.2437,27.9512,27.6589,27.3667,27.0747 ,26.7828,26.491,26.1995,25.908,25.6168, 25.3256,25.0347,24.744,24.4534,24.1631, 23.8729,23.583,23.1484,22.7142,22.4251, 22.1362,21.8476,21.5592,21.2709,20.6985 ,20.6897,20.6821,20.6739,20.9619, 21.2501,21.5386,21.8273,22.1162,22.4055 ,22.6948,22.9844,23.2743,23.5643, 23.8546,24.1451,24.4358,24.7266,25.0176 ,25.3088,25.6001,25.8917,26.1834, 26.4753,26.7673,27.0595,27.3519,27.6443 ,27.9369,28.2296,28.5225,28.8155, 29.1086,29.4018,29.8419,30.1353,30.4289 ,30.7224,31.0161,31.3098,31.7501, 32.1914,32.4854,32.7795,33.0735,33.3676 ,33.8088,34.25,34.5442,34.8384,35.1326, 35.2902)
FOOTPRINT_POINT_LONGITUDE = (156.05,155.601,155.167,154.975,154.978 ,154.981,154.983,154.985,154.988,154.99 ,154.991,154.992,154.993,154.994, 154.995,154.996,154.996,154.996,154.996 ,154.996,154.996,154.995,154.995, 154.994,154.993,154.992,154.99,154.989, 154.987,154.986,154.984,154.982,154.98, 154.977,154.975,154.972,154.97,154.967, 154.964,154.961,154.958,154.953,154.948 ,154.944,154.94,154.937,154.933,154.929 ,154.92,155.517,155.938,156.409,156.409 ,156.41,156.411,156.412,156.412,156.413 ,156.414,156.415,156.416,156.417, 156.418,156.419,156.42,156.422,156.423, 156.425,156.426,156.428,156.429,156.431 ,156.432,156.434,156.435,156.437, 156.439,156.441,156.443,156.444,156.446 ,156.448,156.45,156.452,156.454,156.456 ,156.458,156.461,156.467,156.467,156.47 ,156.472,156.475,156.477,156.481, 156.484,156.486,156.489,156.491,156.05)
ORBIT_NUMBER = 5316
ORBITAL_ECCENTRICITY = 0.571
ORBITAL_INCLINATION = 86.73
ORBITAL_SEMIMAJOR_AXIS = 8693.28
PERIAPSIS_ALTITUDE = 337.84
PERIAPSIS_ARGUMENT_ANGLE = 143.11
PERIAPSIS_TIME = 2008-02-21T14:53:21.000Z
SPACECRAFT_ORIENTATION = (0.0,-1.0,0.0)
^MEX_ORIENTATION_DESC = "MEX_ORIENTATION_DESC.TXT"
SPACECRAFT_POINTING_MODE = ACROSSTRACK
^MEX_POINTING_DESC = "MEX_POINTING_DESC.TXT"
RIGHT_ASCENSION = -1e+32
DECLINATION = -1e+32
OFFSET_ANGLE = 1.2
SPACECRAFT_SOLAR_DISTANCE = 2.4441e+08
TARGET_NAME = MARS
/* CAMERA DATA ELEMENTS */
DETECTOR_TEMPERATURE = 17.351
FOCAL_PLANE_TEMPERATURE = 7.9716
INST_CMPRS_NAME = "DISCRETE COSINE TRANSFORMATION (DCT)"
INST_CMPRS_RATIO = 22.7253
INST_CMPRS_QUALITY = 0
INST_CMPRS_QUANTZ_TBL_ID = 0
INSTRUMENT_TEMPERATURE = 11.0301
LENS_TEMPERATURE = 8.3794
MACROPIXEL_SIZE = 8
MISSING_FRAMES = 0
PIXEL_SUBSAMPLING_FLAG = N
SIGNAL_CHAIN_ID = 2
/* RADIOMETRIC DATA ELEMENTS */
BANDWIDTH = 88.0
CENTER_FILTER_WAVELENGTH = 538.0
RADIANCE_OFFSET = 1.79307
RADIANCE_SCALING_FACTOR = 0.0040665
REFLECTANCE_SCALING_FACTOR = 0.000209144
MEX:REFLECTANCE_OFFSET = 0.0922196
/* IMAGE OBJECT DEFINITIONS */
OBJECT = IMAGE
  INTERCHANGE_FORMAT = BINARY
  LINES = 8652
  LINE_SAMPLES = 904
  SAMPLE_TYPE = UNSIGNED_INTEGER
  SAMPLE_BITS = 8
  BANDS = 1
  BAND_STORAGE_TYPE = BAND_SEQUENTIAL
  MAXIMUM = 255
  MEAN = 131.181
  MINIMUM = 1
  STANDARD_DEVIATION = 22.0623
END_OBJECT = IMAGE
/* MAP OBJECT DEFINITIONS */
OBJECT = IMAGE_MAP_PROJECTION
  ^DATA_SET_MAP_PROJECTION_CATALOG= "DSMAP.CAT"
  A_AXIS_RADIUS = 3396.0
  B_AXIS_RADIUS = 3396.0
  C_AXIS_RADIUS = 3396.0
  CENTER_LATITUDE = 0.0
  CENTER_LONGITUDE = 156.0
  COORDINATE_SYSTEM_NAME = PLANETOGRAPHIC
  COORDINATE_SYSTEM_TYPE = "BODY-FIXED ROTATING"
  EASTERNMOST_LONGITUDE = 156.491
  FIRST_STANDARD_PARALLEL = "N/A"
  LINE_FIRST_PIXEL = 1
  LINE_LAST_PIXEL = 8652
  LINE_PROJECTION_OFFSET = 20915.0625
  MAP_PROJECTION_ROTATION = 0.0
  MAP_PROJECTION_TYPE = SINUSOIDAL
  MAP_RESOLUTION = 592.713803866667
  MAP_SCALE = 0.1
  MAXIMUM_LATITUDE = 35.2961
  MINIMUM_LATITUDE = 20.6739
  POSITIVE_LONGITUDE_DIRECTION = EAST
  REFERENCE_LATITUDE = "N/A"
  REFERENCE_LONGITUDE = "N/A"
  SAMPLE_FIRST_PIXEL = 1
  SAMPLE_LAST_PIXEL = 904
  SAMPLE_PROJECTION_OFFSET = 613.5625
  SECOND_STANDARD_PARALLEL = "N/A"
  WESTERNMOST_LONGITUDE = 154.92
END_OBJECT = IMAGE_MAP_PROJECTION
/* The JPEG2000 image data file associated with this label. */
OBJECT = COMPRESSED_FILE
  FILE_NAME = "H5316_0000_GR3.JP2"
  RECORD_TYPE = UNDEFINED
  FILE_RECORDS = UNK
  ENCODING_TYPE = "JP2"
  INTERCHANGE_FORMAT = BINARY
  UNCOMPRESSED_FILE_NAME = "H5316_0000_GR3.IMG"
  REQUIRED_STORAGE_BYTES = "7839488"
  ^DESCRIPTION = "JP2INFO.TXT"
END_OBJECT = COMPRESSED_FILE
END
