PDS_VERSION_ID = PDS3
/* FILE DATA ELEMENTS */
RECORD_TYPE = STREAM
/* POINTERS TO DATA OBJECTS */
^COMPRESSED_FILE = "H5316_0000_RE3.JP2"
/* IDENTIFICATION DATA ELEMENTS */
DATA_SET_ID = "MEX-M-HRSC-5-REFDR-MAPPROJECTED-V3.0"
DATA_SET_NAME = "MARS EXPRESS HRSC MAP PROJECTED REFDR V3.0"
DETECTOR_ID = MEX_HRSC_RED
EVENT_TYPE = "MARS-REGIONAL-MAPPING-Vo-Te"
INSTRUMENT_HOST_ID = MEX
INSTRUMENT_HOST_NAME = "MARS EXPRESS"
INSTRUMENT_ID = HRSC
INSTRUMENT_NAME = "HIGH RESOLUTION STEREO CAMERA"
MISSION_NAME = "MARS EXPRESS"
MISSION_PHASE_NAME = ME_Phase_11
PROCESSING_LEVEL_ID = 3
PRODUCT_CREATION_TIME = 2016-05-14T01:01:03.000Z
PRODUCT_ID = "H5316_0000_RE3.JP2"
RELEASE_ID = 0061
REVISION_ID = 0000
/* QUALITY DATA ELEMENTS */
DATA_QUALITY_ID = 1
DATA_QUALITY_DESC = "Data calculated based on original SPICE kernels"
/* TIME DATA ELEMENTS */
SPACECRAFT_CLOCK_START_COUNT = "1/0151685591.08431"
SPACECRAFT_CLOCK_STOP_COUNT = "1/0151685888.06545"
START_TIME = 2008-02-21T14:54:11.553Z
STOP_TIME = 2008-02-21T14:58:03.170Z
/* ORBITAL DATA ELEMENTS */
ASCENDING_NODE_LONGITUDE = 117.58
MAXIMUM_RESOLUTION = 115.5
FOOTPRINT_POINT_LATITUDE = (35.2834,35.2579,35.2322,35.2554, 34.9566,34.5088,34.2099,33.9119,33.4645 ,33.1673,32.8702,32.5733,32.1282, 31.8323,31.5365,31.2412,30.7983,30.5035 ,30.2095,29.9155,29.6223,29.3294, 29.0369,28.7447,28.4526,28.0155,27.5791 ,27.2886,26.9987,26.709,26.4198,25.9867 ,25.6984,25.411,25.1239,24.837,24.5508, 24.2647,23.9794,23.5527,23.1262,22.8429 ,22.5601,22.2777,21.9958,21.7144, 21.4336,21.1535,20.874,20.6784,20.6905, 20.7092,20.7378,21.0175,21.2976,21.5786 ,21.8599,22.1416,22.4238,22.7067, 22.9901,23.2739,23.7006,23.9853,24.2708 ,24.5566,24.8432,25.1302,25.4175, 25.7056,26.1381,26.4267,26.7159,27.0056 ,27.2956,27.5864,28.0231,28.3147, 28.6067,28.8989,29.1915,29.4846,29.7777 ,30.2183,30.5127,30.9555,31.2508, 31.5457,31.9907,32.2871,32.5838,33.0296 ,33.3272,33.6253,33.9235,34.2216, 34.5201,34.819,35.118,35.2834)
FOOTPRINT_POINT_LONGITUDE = (156.293,155.832,155.385,154.967,154.97 ,154.973,154.975,154.977,154.979,154.98 ,154.982,154.982,154.983,154.984, 154.984,154.984,154.984,154.984,154.983 ,154.983,154.982,154.981,154.98,154.979 ,154.978,154.975,154.973,154.971, 154.969,154.966,154.964,154.96,154.957, 154.954,154.951,154.948,154.945,154.942 ,154.938,154.933,154.927,154.923, 154.919,154.915,154.91,154.906,154.901, 154.897,154.892,155.213,155.472,155.869 ,156.453,156.453,156.453,156.453, 156.453,156.453,156.453,156.454,156.454 ,156.454,156.455,156.455,156.456, 156.456,156.457,156.458,156.459,156.46, 156.461,156.462,156.463,156.464,156.465 ,156.466,156.468,156.469,156.471, 156.472,156.473,156.474,156.475,156.477 ,156.479,156.482,156.484,156.484, 156.488,156.49,156.492,156.495,156.497, 156.499,156.501,156.503,156.505,156.507 ,156.509,156.293)
ORBIT_NUMBER = 5316
ORBITAL_ECCENTRICITY = 0.571
ORBITAL_INCLINATION = 86.73
ORBITAL_SEMIMAJOR_AXIS = 8693.28
PERIAPSIS_ALTITUDE = 337.84
PERIAPSIS_ARGUMENT_ANGLE = 143.11
PERIAPSIS_TIME = 2008-02-21T14:53:21.000Z
SPACECRAFT_ORIENTATION = (0.0,-1.0,0.0)
^MEX_ORIENTATION_DESC = "MEX_ORIENTATION_DESC.TXT"
SPACECRAFT_POINTING_MODE = ACROSSTRACK
^MEX_POINTING_DESC = "MEX_POINTING_DESC.TXT"
RIGHT_ASCENSION = -1e+32
DECLINATION = -1e+32
OFFSET_ANGLE = 1.2
SPACECRAFT_SOLAR_DISTANCE = 2.4441e+08
TARGET_NAME = MARS
/* CAMERA DATA ELEMENTS */
DETECTOR_TEMPERATURE = 16.9432
FOCAL_PLANE_TEMPERATURE = 7.9716
INST_CMPRS_NAME = "DISCRETE COSINE TRANSFORMATION (DCT)"
INST_CMPRS_RATIO = 23.297
INST_CMPRS_QUALITY = 0
INST_CMPRS_QUANTZ_TBL_ID = 0
INSTRUMENT_TEMPERATURE = 11.0301
LENS_TEMPERATURE = 8.3794
MACROPIXEL_SIZE = 8
MISSING_FRAMES = 0
PIXEL_SUBSAMPLING_FLAG = N
SIGNAL_CHAIN_ID = 2
/* RADIOMETRIC DATA ELEMENTS */
BANDWIDTH = 48.0
CENTER_FILTER_WAVELENGTH = 748.0
RADIANCE_OFFSET = 1.6873
RADIANCE_SCALING_FACTOR = 0.00441124
REFLECTANCE_SCALING_FACTOR = 0.000601348
MEX:REFLECTANCE_OFFSET = 0.230016
/* IMAGE OBJECT DEFINITIONS */
OBJECT = IMAGE
  INTERCHANGE_FORMAT = BINARY
  LINES = 8652
  LINE_SAMPLES = 904
  SAMPLE_TYPE = UNSIGNED_INTEGER
  SAMPLE_BITS = 8
  BANDS = 1
  BAND_STORAGE_TYPE = BAND_SEQUENTIAL
  MAXIMUM = 255
  MEAN = 129.021
  MINIMUM = 1
  STANDARD_DEVIATION = 20.7923
END_OBJECT = IMAGE
/* MAP OBJECT DEFINITIONS */
OBJECT = IMAGE_MAP_PROJECTION
  ^DATA_SET_MAP_PROJECTION_CATALOG= "DSMAP.CAT"
  A_AXIS_RADIUS = 3396.0
  B_AXIS_RADIUS = 3396.0
  C_AXIS_RADIUS = 3396.0
  CENTER_LATITUDE = 0.0
  CENTER_LONGITUDE = 156.0
  COORDINATE_SYSTEM_NAME = PLANETOGRAPHIC
  COORDINATE_SYSTEM_TYPE = "BODY-FIXED ROTATING"
  EASTERNMOST_LONGITUDE = 156.509
  FIRST_STANDARD_PARALLEL = "N/A"
  LINE_FIRST_PIXEL = 1
  LINE_LAST_PIXEL = 8652
  LINE_PROJECTION_OFFSET = 20915.0625
  MAP_PROJECTION_ROTATION = 0.0
  MAP_PROJECTION_TYPE = SINUSOIDAL
  MAP_RESOLUTION = 592.713803866667
  MAP_SCALE = 0.1
  MAXIMUM_LATITUDE = 35.2834
  MINIMUM_LATITUDE = 20.6784
  POSITIVE_LONGITUDE_DIRECTION = EAST
  REFERENCE_LATITUDE = "N/A"
  REFERENCE_LONGITUDE = "N/A"
  SAMPLE_FIRST_PIXEL = 1
  SAMPLE_LAST_PIXEL = 904
  SAMPLE_PROJECTION_OFFSET = 613.5625
  SECOND_STANDARD_PARALLEL = "N/A"
  WESTERNMOST_LONGITUDE = 154.892
END_OBJECT = IMAGE_MAP_PROJECTION
/* The JPEG2000 image data file associated with this label. */
OBJECT = COMPRESSED_FILE
  FILE_NAME = "H5316_0000_RE3.JP2"
  RECORD_TYPE = UNDEFINED
  FILE_RECORDS = UNK
  ENCODING_TYPE = "JP2"
  INTERCHANGE_FORMAT = BINARY
  UNCOMPRESSED_FILE_NAME = "H5316_0000_RE3.IMG"
  REQUIRED_STORAGE_BYTES = "7839488"
  ^DESCRIPTION = "JP2INFO.TXT"
END_OBJECT = COMPRESSED_FILE
END
