PDS_VERSION_ID = PDS3
/* FILE DATA ELEMENTS */
RECORD_TYPE = STREAM
/* POINTERS TO DATA OBJECTS */
^COMPRESSED_FILE = "H5316_0000_S13.JP2"
/* IDENTIFICATION DATA ELEMENTS */
DATA_SET_ID = "MEX-M-HRSC-5-REFDR-MAPPROJECTED-V3.0"
DATA_SET_NAME = "MARS EXPRESS HRSC MAP PROJECTED REFDR V3.0"
DETECTOR_ID = MEX_HRSC_S1
EVENT_TYPE = "MARS-REGIONAL-MAPPING-Vo-Te"
INSTRUMENT_HOST_ID = MEX
INSTRUMENT_HOST_NAME = "MARS EXPRESS"
INSTRUMENT_ID = HRSC
INSTRUMENT_NAME = "HIGH RESOLUTION STEREO CAMERA"
MISSION_NAME = "MARS EXPRESS"
MISSION_PHASE_NAME = ME_Phase_11
PROCESSING_LEVEL_ID = 3
PRODUCT_CREATION_TIME = 2016-05-14T01:01:03.000Z
PRODUCT_ID = "H5316_0000_S13.JP2"
RELEASE_ID = 0061
REVISION_ID = 0000
/* QUALITY DATA ELEMENTS */
DATA_QUALITY_ID = 1
DATA_QUALITY_DESC = "Data calculated based on original SPICE kernels"
/* TIME DATA ELEMENTS */
SPACECRAFT_CLOCK_START_COUNT = "1/0151685591.08431"
SPACECRAFT_CLOCK_STOP_COUNT = "1/0151685888.06545"
START_TIME = 2008-02-21T14:53:14.932Z
STOP_TIME = 2008-02-21T14:56:56.789Z
/* ORBITAL DATA ELEMENTS */
ASCENDING_NODE_LONGITUDE = 117.58
MAXIMUM_RESOLUTION = 29
FOOTPRINT_POINT_LATITUDE = (35.2717,35.2949,35.31,35.3242,35.3374, 35.3499,35.1596,34.8718,34.5833,34.1512 ,33.7188,33.2858,32.9968,32.7074, 32.4188,32.1289,31.6943,31.4044,31.1142 ,30.8244,30.5341,30.2435,29.953,29.6622 ,29.371,29.0799,28.6431,28.2066,27.9149 ,27.6236,27.3321,27.0406,26.6032, 26.3116,25.8745,25.5824,25.2905,24.8527 ,24.2691,23.9771,23.6853,23.3925, 23.1012,22.8091,22.3709,21.9329,21.4915 ,21.0531,20.7609,20.7255,20.7112, 20.6972,20.6719,20.6551,20.6306,21.0689 ,21.3614,21.6532,21.9489,22.2413, 22.5336,22.9719,23.2642,23.7027,23.9952 ,24.2876,24.5798,24.8719,25.1639, 25.6018,25.8939,26.3322,26.6242,27.0622 ,27.3541,27.6457,28.0828,28.3744, 28.6658,28.9575,29.2488,29.54,29.8315, 30.1227,30.4135,30.7041,30.9942,31.2844 ,31.5749,31.8628,32.1547,32.4443, 32.8788,33.3126,33.7458,34.0347,34.4679 ,34.7565,35.0447,35.2717)
FOOTPRINT_POINT_LONGITUDE = (156.438,156.091,155.854,155.621, 155.392,155.166,154.965,154.969,154.972 ,154.976,154.98,154.983,154.985,154.987 ,154.989,154.99,154.992,154.993,154.994 ,154.995,154.995,154.996,154.996, 154.996,154.997,154.996,154.996,154.995 ,154.994,154.993,154.992,154.991, 154.989,154.987,154.984,154.983,154.981 ,154.977,154.972,154.97,154.967,154.964 ,154.961,154.958,154.953,154.948, 154.943,154.937,154.933,155.124,155.331 ,155.527,155.87,156.087,156.403,156.404 ,156.405,156.407,156.408,156.409, 156.411,156.413,156.414,156.416,156.418 ,156.419,156.421,156.423,156.425, 156.428,156.429,156.432,156.434,156.437 ,156.439,156.441,156.444,156.447, 156.449,156.451,156.453,156.455,156.457 ,156.459,156.462,156.464,156.467,156.47 ,156.472,156.477,156.478,156.48,156.484 ,156.489,156.493,156.496,156.5,156.503, 156.506,156.438)
ORBIT_NUMBER = 5316
ORBITAL_ECCENTRICITY = 0.571
ORBITAL_INCLINATION = 86.73
ORBITAL_SEMIMAJOR_AXIS = 8693.28
PERIAPSIS_ALTITUDE = 337.84
PERIAPSIS_ARGUMENT_ANGLE = 143.11
PERIAPSIS_TIME = 2008-02-21T14:53:21.000Z
SPACECRAFT_ORIENTATION = (0.0,-1.0,0.0)
^MEX_ORIENTATION_DESC = "MEX_ORIENTATION_DESC.TXT"
SPACECRAFT_POINTING_MODE = ACROSSTRACK
^MEX_POINTING_DESC = "MEX_POINTING_DESC.TXT"
RIGHT_ASCENSION = -1e+32
DECLINATION = -1e+32
OFFSET_ANGLE = 1.2
SPACECRAFT_SOLAR_DISTANCE = 2.4441e+08
TARGET_NAME = MARS
/* CAMERA DATA ELEMENTS */
DETECTOR_TEMPERATURE = 17.5549
FOCAL_PLANE_TEMPERATURE = 7.9716
INST_CMPRS_NAME = "DISCRETE COSINE TRANSFORMATION (DCT)"
INST_CMPRS_RATIO = 9.29653
INST_CMPRS_QUALITY = 0
INST_CMPRS_QUANTZ_TBL_ID = 0
INSTRUMENT_TEMPERATURE = 11.0301
LENS_TEMPERATURE = 8.3794
MACROPIXEL_SIZE = 2
MISSING_FRAMES = 1
PIXEL_SUBSAMPLING_FLAG = N
SIGNAL_CHAIN_ID = 1
/* RADIOMETRIC DATA ELEMENTS */
BANDWIDTH = 180.0
CENTER_FILTER_WAVELENGTH = 677.0
RADIANCE_OFFSET = 6.13524
RADIANCE_SCALING_FACTOR = 0.0148684
REFLECTANCE_SCALING_FACTOR = 0.000463387
MEX:REFLECTANCE_OFFSET = 0.19121
/* IMAGE OBJECT DEFINITIONS */
OBJECT = IMAGE
  INTERCHANGE_FORMAT = BINARY
  LINES = 34607
  LINE_SAMPLES = 3614
  SAMPLE_TYPE = UNSIGNED_INTEGER
  SAMPLE_BITS = 8
  BANDS = 1
  BAND_STORAGE_TYPE = BAND_SEQUENTIAL
  MAXIMUM = 255
  MEAN = 135.83
  MINIMUM = 1
  STANDARD_DEVIATION = 16.2385
END_OBJECT = IMAGE
/* MAP OBJECT DEFINITIONS */
OBJECT = IMAGE_MAP_PROJECTION
  ^DATA_SET_MAP_PROJECTION_CATALOG= "DSMAP.CAT"
  A_AXIS_RADIUS = 3396.0
  B_AXIS_RADIUS = 3396.0
  C_AXIS_RADIUS = 3396.0
  CENTER_LATITUDE = 0.0
  CENTER_LONGITUDE = 156.0
  COORDINATE_SYSTEM_NAME = PLANETOGRAPHIC
  COORDINATE_SYSTEM_TYPE = "BODY-FIXED ROTATING"
  EASTERNMOST_LONGITUDE = 156.506
  FIRST_STANDARD_PARALLEL = "N/A"
  LINE_FIRST_PIXEL = 1
  LINE_LAST_PIXEL = 34607
  LINE_PROJECTION_OFFSET = 83661.75
  MAP_PROJECTION_ROTATION = 0.0
  MAP_PROJECTION_TYPE = SINUSOIDAL
  MAP_RESOLUTION = 2370.85521546667
  MAP_SCALE = 0.025
  MAXIMUM_LATITUDE = 35.3499
  MINIMUM_LATITUDE = 20.6306
  POSITIVE_LONGITUDE_DIRECTION = EAST
  REFERENCE_LATITUDE = "N/A"
  REFERENCE_LONGITUDE = "N/A"
  SAMPLE_FIRST_PIXEL = 1
  SAMPLE_LAST_PIXEL = 3614
  SAMPLE_PROJECTION_OFFSET = 2455.75
  SECOND_STANDARD_PARALLEL = "N/A"
  WESTERNMOST_LONGITUDE = 154.933
END_OBJECT = IMAGE_MAP_PROJECTION
/* The JPEG2000 image data file associated with this label. */
OBJECT = COMPRESSED_FILE
  FILE_NAME = "H5316_0000_S13.JP2"
  RECORD_TYPE = UNDEFINED
  FILE_RECORDS = UNK
  ENCODING_TYPE = "JP2"
  INTERCHANGE_FORMAT = BINARY
  UNCOMPRESSED_FILE_NAME = "H5316_0000_S13.IMG"
  REQUIRED_STORAGE_BYTES = "125091382"
  ^DESCRIPTION = "JP2INFO.TXT"
END_OBJECT = COMPRESSED_FILE
END
