PDS_VERSION_ID = PDS3
/* FILE DATA ELEMENTS */
RECORD_TYPE = STREAM
/* POINTERS TO DATA OBJECTS */
^COMPRESSED_FILE = "H5317_0000_RE3.JP2"
/* IDENTIFICATION DATA ELEMENTS */
DATA_SET_ID = "MEX-M-HRSC-5-REFDR-MAPPROJECTED-V3.0"
DATA_SET_NAME = "MARS EXPRESS HRSC MAP PROJECTED REFDR V3.0"
DETECTOR_ID = MEX_HRSC_RED
EVENT_TYPE = "MARS-REGIONAL-MAPPING-Te-Gl-Mw"
INSTRUMENT_HOST_ID = MEX
INSTRUMENT_HOST_NAME = "MARS EXPRESS"
INSTRUMENT_ID = HRSC
INSTRUMENT_NAME = "HIGH RESOLUTION STEREO CAMERA"
MISSION_NAME = "MARS EXPRESS"
MISSION_PHASE_NAME = ME_Phase_11
PROCESSING_LEVEL_ID = 3
PRODUCT_CREATION_TIME = 2016-05-14T01:01:03.000Z
PRODUCT_ID = "H5317_0000_RE3.JP2"
RELEASE_ID = 0061
REVISION_ID = 0000
/* QUALITY DATA ELEMENTS */
DATA_QUALITY_ID = 2
DATA_QUALITY_DESC = "Data calculated based on photogrammetrically improved orbit and attitude data"
/* TIME DATA ELEMENTS */
SPACECRAFT_CLOCK_START_COUNT = "1/0151709925.07308"
SPACECRAFT_CLOCK_STOP_COUNT = "1/0151710243.63947"
START_TIME = 2008-02-21T21:39:58.285Z
STOP_TIME = 2008-02-21T21:44:00.448Z
/* ORBITAL DATA ELEMENTS */
ASCENDING_NODE_LONGITUDE = 117.56
MAXIMUM_RESOLUTION = 56.4
FOOTPRINT_POINT_LATITUDE = (53.8701,53.864,53.8571,53.8495,53.8411 ,53.8319,53.8225,53.5397,53.1771,52.814 ,52.4511,52.088,51.5431,51.1794,50.8151 ,50.4516,50.1193,49.814,49.5087,49.2036 ,48.898,48.5929,48.2878,47.8272,47.3694 ,47.0627,46.6031,46.3005,45.9947, 45.6891,45.2311,44.9223,44.6186,44.3092 ,44.0059,43.7017,43.392,43.089,42.6348, 42.178,41.7195,41.2646,40.8051,40.4927, 40.1884,39.8822,39.5782,39.1226,38.6677 ,38.3741,38.0805,38.0344,38.0323, 38.0343,38.1806,38.6229,38.9228,39.2256 ,39.5307,39.9887,40.4438,40.9172, 41.2199,41.5242,41.9812,42.2888,42.5946 ,43.05,43.3589,43.664,43.9712,44.4302, 44.7369,45.0441,45.3489,45.656,46.1142, 46.424,46.7315,47.1923,47.4982,47.8057, 48.1124,48.4196,48.7271,49.0338,49.3407 ,49.8006,50.1072,50.4318,50.6149, 50.9803,51.5285,51.8941,52.26,52.6252, 52.99,53.3553,53.7202,53.8701)
FOOTPRINT_POINT_LONGITUDE = (52.9885,52.6555,52.3201,51.9826, 51.6431,51.301,50.9774,50.9243,50.9852, 51.045,51.1027,51.1588,51.2401,51.2928, 51.3448,51.3942,51.4393,51.4794,51.5186 ,51.5565,51.5942,51.6303,51.6656, 51.7205,51.7704,51.8043,51.8533,51.8807 ,51.9112,51.9407,51.9833,52.0149, 52.0401,52.0711,52.0947,52.1188,52.1485 ,52.1703,52.2018,52.2352,52.2693, 52.2988,52.3322,52.3602,52.3795,52.4003 ,52.4187,52.4451,52.4711,52.4872, 52.5029,53.0386,53.4504,53.7162,54.0227 ,54.0089,53.9995,53.9897,53.9797, 53.9643,53.9488,53.9318,53.9209,53.9099 ,53.8928,53.8811,53.8692,53.8512, 53.8387,53.8261,53.8133,53.7936,53.7802 ,53.7665,53.7527,53.7385,53.7169, 53.7018,53.6867,53.6635,53.6477,53.6316 ,53.6152,53.5984,53.5814,53.564,53.5463 ,53.5192,53.5006,53.4806,53.4691, 53.4458,53.4097,53.385,53.3596,53.3337, 53.3071,53.2799,53.252,52.9885)
ORBIT_NUMBER = 5317
ORBITAL_ECCENTRICITY = 0.572
ORBITAL_INCLINATION = 86.74
ORBITAL_SEMIMAJOR_AXIS = 8698.84
PERIAPSIS_ALTITUDE = 337.12
PERIAPSIS_ARGUMENT_ANGLE = 142.93
PERIAPSIS_TIME = 2008-02-21T21:43:51.000Z
SPACECRAFT_ORIENTATION = (0.0,-1.0,0.0)
^MEX_ORIENTATION_DESC = "MEX_ORIENTATION_DESC.TXT"
SPACECRAFT_POINTING_MODE = ACROSSTRACK
^MEX_POINTING_DESC = "MEX_POINTING_DESC.TXT"
RIGHT_ASCENSION = -1e+32
DECLINATION = -1e+32
OFFSET_ANGLE = -0.6
SPACECRAFT_SOLAR_DISTANCE = 2.44443e+08
TARGET_NAME = MARS
/* CAMERA DATA ELEMENTS */
DETECTOR_TEMPERATURE = 18.3705
FOCAL_PLANE_TEMPERATURE = 7.7677
INST_CMPRS_NAME = "DISCRETE COSINE TRANSFORMATION (DCT)"
INST_CMPRS_RATIO = 15.18
INST_CMPRS_QUALITY = 0
INST_CMPRS_QUANTZ_TBL_ID = 0
INSTRUMENT_TEMPERATURE = 11.234
LENS_TEMPERATURE = 8.3794
MACROPIXEL_SIZE = 4
MISSING_FRAMES = 0
PIXEL_SUBSAMPLING_FLAG = N
SIGNAL_CHAIN_ID = 2
/* RADIOMETRIC DATA ELEMENTS */
BANDWIDTH = 48.0
CENTER_FILTER_WAVELENGTH = 748.0
RADIANCE_OFFSET = 0.89166
RADIANCE_SCALING_FACTOR = 0.00718414
REFLECTANCE_SCALING_FACTOR = 0.000979613
MEX:REFLECTANCE_OFFSET = 0.121585
/* IMAGE OBJECT DEFINITIONS */
OBJECT = IMAGE
  INTERCHANGE_FORMAT = BINARY
  LINES = 18913
  LINE_SAMPLES = 2464
  SAMPLE_TYPE = UNSIGNED_INTEGER
  SAMPLE_BITS = 8
  BANDS = 1
  BAND_STORAGE_TYPE = BAND_SEQUENTIAL
  MAXIMUM = 255
  MEAN = 149.016
  MINIMUM = 1
  STANDARD_DEVIATION = 36.3288
END_OBJECT = IMAGE
/* MAP OBJECT DEFINITIONS */
OBJECT = IMAGE_MAP_PROJECTION
  ^DATA_SET_MAP_PROJECTION_CATALOG= "DSMAP.CAT"
  A_AXIS_RADIUS = 3396.0
  B_AXIS_RADIUS = 3396.0
  C_AXIS_RADIUS = 3396.0
  CENTER_LATITUDE = 0.0
  CENTER_LONGITUDE = 53.0
  COORDINATE_SYSTEM_NAME = PLANETOGRAPHIC
  COORDINATE_SYSTEM_TYPE = "BODY-FIXED ROTATING"
  EASTERNMOST_LONGITUDE = 54.0227
  FIRST_STANDARD_PARALLEL = "N/A"
  LINE_FIRST_PIXEL = 1
  LINE_LAST_PIXEL = 18913
  LINE_PROJECTION_OFFSET = 63983.875
  MAP_PROJECTION_ROTATION = 0.0
  MAP_PROJECTION_TYPE = SINUSOIDAL
  MAP_RESOLUTION = 1185.42760773333
  MAP_SCALE = 0.05
  MAXIMUM_LATITUDE = 53.8701
  MINIMUM_LATITUDE = 38.0323
  POSITIVE_LONGITUDE_DIRECTION = EAST
  REFERENCE_LATITUDE = "N/A"
  REFERENCE_LONGITUDE = "N/A"
  SAMPLE_FIRST_PIXEL = 1
  SAMPLE_LAST_PIXEL = 2464
  SAMPLE_PROJECTION_OFFSET = 1503.875
  SECOND_STANDARD_PARALLEL = "N/A"
  WESTERNMOST_LONGITUDE = 50.9243
END_OBJECT = IMAGE_MAP_PROJECTION
/* The JPEG2000 image data file associated with this label. */
OBJECT = COMPRESSED_FILE
  FILE_NAME = "H5317_0000_RE3.JP2"
  RECORD_TYPE = UNDEFINED
  FILE_RECORDS = UNK
  ENCODING_TYPE = "JP2"
  INTERCHANGE_FORMAT = BINARY
  UNCOMPRESSED_FILE_NAME = "H5317_0000_RE3.IMG"
  REQUIRED_STORAGE_BYTES = "46621344"
  ^DESCRIPTION = "JP2INFO.TXT"
END_OBJECT = COMPRESSED_FILE
END
