PDS_VERSION_ID = PDS3
/* FILE DATA ELEMENTS */
RECORD_TYPE = STREAM
/* POINTERS TO DATA OBJECTS */
^COMPRESSED_FILE = "H5318_0000_S13.JP2"
/* IDENTIFICATION DATA ELEMENTS */
DATA_SET_ID = "MEX-M-HRSC-5-REFDR-MAPPROJECTED-V3.0"
DATA_SET_NAME = "MARS EXPRESS HRSC MAP PROJECTED REFDR V3.0"
DETECTOR_ID = MEX_HRSC_S1
EVENT_TYPE = "MARS-REGIONAL-MAPPING-Lc-Pf"
INSTRUMENT_HOST_ID = MEX
INSTRUMENT_HOST_NAME = "MARS EXPRESS"
INSTRUMENT_ID = HRSC
INSTRUMENT_NAME = "HIGH RESOLUTION STEREO CAMERA"
MISSION_NAME = "MARS EXPRESS"
MISSION_PHASE_NAME = ME_Phase_11
PROCESSING_LEVEL_ID = 3
PRODUCT_CREATION_TIME = 2016-05-14T01:01:03.000Z
PRODUCT_ID = "H5318_0000_S13.JP2"
RELEASE_ID = 0061
REVISION_ID = 0000
/* QUALITY DATA ELEMENTS */
DATA_QUALITY_ID = 1
DATA_QUALITY_DESC = "Data calculated based on original SPICE kernels"
/* TIME DATA ELEMENTS */
SPACECRAFT_CLOCK_START_COUNT = "1/0151734527.08409"
SPACECRAFT_CLOCK_STOP_COUNT = "1/0151734996.00073"
START_TIME = 2008-02-22T04:28:50.964Z
STOP_TIME = 2008-02-22T04:35:35.429Z
/* ORBITAL DATA ELEMENTS */
ASCENDING_NODE_LONGITUDE = 117.55
MAXIMUM_RESOLUTION = 28.9
FOOTPRINT_POINT_LATITUDE = (55.9592,55.8792,55.1928,54.6253, 54.0643,53.232,52.4068,51.8648,51.321, 50.7749,50.2268,49.6765,49.1247,48.5702 ,48.0135,47.4555,46.6242,46.1495, 45.6772,45.2034,44.7284,44.2527,43.7753 ,43.2965,42.8172,42.3367,41.8553,41.373 ,40.8896,40.4053,39.92,39.4337,38.9467, 38.4588,37.9699,37.4804,36.7501,36.2745 ,35.56,35.0828,34.6051,34.1268,33.6482, 33.169,32.6891,32.2089,31.7163,31.2193, 30.4731,30.4586,30.7289,31.2272,31.7251 ,32.2198,32.7007,33.4219,33.9017, 34.3812,34.8602,35.3386,35.8164,36.2938 ,36.7702,37.5011,37.992,38.4821,38.9712 ,39.4595,39.947,40.4341,40.92,41.4049, 41.8886,42.3716,42.8534,43.3344,43.8144 ,44.2934,44.7713,45.248,45.7238,46.1982 ,46.6748,47.2229,47.7845,48.3445, 48.9026,49.4586,50.0136,50.5658,51.1163 ,51.6643,52.2111,52.7563,53.3134, 53.8682,54.4348,55.2887,55.8636, 55.9592)
FOOTPRINT_POINT_LONGITUDE = (312.504,311.085,311.123,311.227, 311.325,311.463,311.591,311.67,311.747, 311.821,311.892,311.961,312.027,312.091 ,312.152,312.21,312.293,312.338,312.382 ,312.424,312.464,312.503,312.541, 312.577,312.612,312.646,312.679,312.711 ,312.741,312.77,312.799,312.826,312.852 ,312.877,312.901,312.924,312.956, 312.976,313.004,313.022,313.039,313.055 ,313.071,313.085,313.099,313.112, 313.125,313.137,313.154,313.741,314.554 ,314.547,314.54,314.533,314.526,314.514 ,314.507,314.499,314.491,314.483, 314.474,314.465,314.457,314.442,314.433 ,314.423,314.412,314.402,314.391,314.38 ,314.368,314.356,314.344,314.332, 314.319,314.306,314.293,314.279,314.265 ,314.251,314.236,314.221,314.205, 314.186,314.167,314.146,314.125,314.104 ,314.081,314.058,314.034,314.01,313.985 ,313.958,313.931,313.902,313.872, 313.824,313.79,312.504)
ORBIT_NUMBER = 5318
ORBITAL_ECCENTRICITY = 0.571
ORBITAL_INCLINATION = 86.74
ORBITAL_SEMIMAJOR_AXIS = 8691.24
PERIAPSIS_ALTITUDE = 337.61
PERIAPSIS_ARGUMENT_ANGLE = 142.76
PERIAPSIS_TIME = 2008-02-22T04:34:22.000Z
SPACECRAFT_ORIENTATION = (0.0,-1.0,0.0)
^MEX_ORIENTATION_DESC = "MEX_ORIENTATION_DESC.TXT"
SPACECRAFT_POINTING_MODE = ACROSSTRACK
^MEX_POINTING_DESC = "MEX_POINTING_DESC.TXT"
RIGHT_ASCENSION = -1e+32
DECLINATION = -1e+32
OFFSET_ANGLE = -0.25
SPACECRAFT_SOLAR_DISTANCE = 2.44475e+08
TARGET_NAME = MARS
/* CAMERA DATA ELEMENTS */
DETECTOR_TEMPERATURE = 17.351
FOCAL_PLANE_TEMPERATURE = 7.5638
INST_CMPRS_NAME = "DISCRETE COSINE TRANSFORMATION (DCT)"
INST_CMPRS_RATIO = 11.1189
INST_CMPRS_QUALITY = 0
INST_CMPRS_QUANTZ_TBL_ID = 0
INSTRUMENT_TEMPERATURE = 11.0301
LENS_TEMPERATURE = 8.1755
MACROPIXEL_SIZE = 2
MISSING_FRAMES = 1
PIXEL_SUBSAMPLING_FLAG = N
SIGNAL_CHAIN_ID = 1
/* RADIOMETRIC DATA ELEMENTS */
BANDWIDTH = 180.0
CENTER_FILTER_WAVELENGTH = 677.0
RADIANCE_OFFSET = 2.79474
RADIANCE_SCALING_FACTOR = 0.0203852
REFLECTANCE_SCALING_FACTOR = 0.000635661
MEX:REFLECTANCE_OFFSET = 0.087147
/* IMAGE OBJECT DEFINITIONS */
OBJECT = IMAGE
  INTERCHANGE_FORMAT = BINARY
  LINES = 60331
  LINE_SAMPLES = 5770
  SAMPLE_TYPE = UNSIGNED_INTEGER
  SAMPLE_BITS = 8
  BANDS = 1
  BAND_STORAGE_TYPE = BAND_SEQUENTIAL
  MAXIMUM = 255
  MEAN = 99.6376
  MINIMUM = 1
  STANDARD_DEVIATION = 48.1729
END_OBJECT = IMAGE
/* MAP OBJECT DEFINITIONS */
OBJECT = IMAGE_MAP_PROJECTION
  ^DATA_SET_MAP_PROJECTION_CATALOG= "DSMAP.CAT"
  A_AXIS_RADIUS = 3396.0
  B_AXIS_RADIUS = 3396.0
  C_AXIS_RADIUS = 3396.0
  CENTER_LATITUDE = 0.0
  CENTER_LONGITUDE = 313.0
  COORDINATE_SYSTEM_NAME = PLANETOGRAPHIC
  COORDINATE_SYSTEM_TYPE = "BODY-FIXED ROTATING"
  EASTERNMOST_LONGITUDE = 314.554
  FIRST_STANDARD_PARALLEL = "N/A"
  LINE_FIRST_PIXEL = 1
  LINE_LAST_PIXEL = 60331
  LINE_PROJECTION_OFFSET = 132566.25
  MAP_PROJECTION_ROTATION = 0.0
  MAP_PROJECTION_TYPE = SINUSOIDAL
  MAP_RESOLUTION = 2370.85521546667
  MAP_SCALE = 0.025
  MAXIMUM_LATITUDE = 55.9592
  MINIMUM_LATITUDE = 30.4586
  POSITIVE_LONGITUDE_DIRECTION = EAST
  REFERENCE_LATITUDE = "N/A"
  REFERENCE_LONGITUDE = "N/A"
  SAMPLE_FIRST_PIXEL = 1
  SAMPLE_LAST_PIXEL = 5770
  SAMPLE_PROJECTION_OFFSET = 2537.75
  SECOND_STANDARD_PARALLEL = "N/A"
  WESTERNMOST_LONGITUDE = 311.085
END_OBJECT = IMAGE_MAP_PROJECTION
/* The JPEG2000 image data file associated with this label. */
OBJECT = COMPRESSED_FILE
  FILE_NAME = "H5318_0000_S13.JP2"
  RECORD_TYPE = UNDEFINED
  FILE_RECORDS = UNK
  ENCODING_TYPE = "JP2"
  INTERCHANGE_FORMAT = BINARY
  UNCOMPRESSED_FILE_NAME = "H5318_0000_S13.IMG"
  REQUIRED_STORAGE_BYTES = "348138720"
  ^DESCRIPTION = "JP2INFO.TXT"
END_OBJECT = COMPRESSED_FILE
END
