PDS_VERSION_ID = PDS3
/* FILE DATA ELEMENTS */
RECORD_TYPE = STREAM
/* POINTERS TO DATA OBJECTS */
^COMPRESSED_FILE = "H5320_0000_S23.JP2"
/* IDENTIFICATION DATA ELEMENTS */
DATA_SET_ID = "MEX-M-HRSC-5-REFDR-MAPPROJECTED-V3.0"
DATA_SET_NAME = "MARS EXPRESS HRSC MAP PROJECTED REFDR V3.0"
DETECTOR_ID = MEX_HRSC_S2
EVENT_TYPE = "MARS-REGIONAL-MAPPING-Te-Pf-Mw"
INSTRUMENT_HOST_ID = MEX
INSTRUMENT_HOST_NAME = "MARS EXPRESS"
INSTRUMENT_ID = HRSC
INSTRUMENT_NAME = "HIGH RESOLUTION STEREO CAMERA"
MISSION_NAME = "MARS EXPRESS"
MISSION_PHASE_NAME = ME_Phase_11
PROCESSING_LEVEL_ID = 3
PRODUCT_CREATION_TIME = 2016-05-14T01:01:03.000Z
PRODUCT_ID = "H5320_0000_S23.JP2"
RELEASE_ID = 0061
REVISION_ID = 0000
/* QUALITY DATA ELEMENTS */
DATA_QUALITY_ID = 1
DATA_QUALITY_DESC = "Data calculated based on original SPICE kernels"
/* TIME DATA ELEMENTS */
SPACECRAFT_CLOCK_START_COUNT = "1/0151783761.07280"
SPACECRAFT_CLOCK_STOP_COUNT = "1/0151784038.23828"
START_TIME = 2008-02-22T18:10:46.510Z
STOP_TIME = 2008-02-22T18:14:00.171Z
/* ORBITAL DATA ELEMENTS */
ASCENDING_NODE_LONGITUDE = 117.51
MAXIMUM_RESOLUTION = 29.9
FOOTPRINT_POINT_LATITUDE = (57.9201,57.9086,57.8908,57.8756, 57.8594,57.8376,57.5316,57.1145,56.8365 ,56.5582,56.2796,56.0014,55.7228, 55.4434,55.1642,54.8852,54.606,54.3268, 54.0473,53.7672,53.4884,53.0689,52.7891 ,52.5095,52.2294,51.9496,51.6685, 51.4288,51.1949,50.9603,50.6082,50.3735 ,50.0214,49.7866,49.4343,49.082,48.8472 ,48.6124,48.2602,47.9081,47.6734, 47.4388,47.2034,46.9693,46.7347,46.5001 ,46.1483,45.9137,45.6791,45.4449, 45.2035,45.211,45.222,45.2292,45.2349, 45.3586,45.5937,45.9464,46.2993,46.5346 ,46.7696,47.0052,47.2409,47.4762, 47.8289,48.1831,48.4187,48.7721,49.0078 ,49.3615,49.715,49.9506,50.1862,50.54, 50.8936,51.1293,51.365,51.6008,52.0029, 52.4245,52.7057,52.987,53.2681,53.5491, 53.8301,53.9709,54.3921,54.6727,54.9538 ,55.3746,55.6552,55.9354,56.2161, 56.4962,56.9164,57.1966,57.4766,57.7563 ,58.0365,57.9201)
FOOTPRINT_POINT_LONGITUDE = (113.343,112.986,112.476,112.069, 111.661,111.152,111.144,111.224,111.276 ,111.327,111.377,111.425,111.473,111.52 ,111.566,111.611,111.654,111.697, 111.739,111.781,111.82,111.879,111.917, 111.954,111.991,112.026,112.062,112.091 ,112.119,112.146,112.187,112.213, 112.252,112.277,112.315,112.351,112.374 ,112.397,112.431,112.464,112.485, 112.506,112.527,112.547,112.567,112.587 ,112.616,112.634,112.653,112.67,112.841 ,113.131,113.572,113.878,114.15,114.442 ,114.435,114.424,114.412,114.405, 114.397,114.389,114.381,114.373,114.36, 114.348,114.339,114.326,114.317,114.303 ,114.289,114.28,114.27,114.255,114.24, 114.229,114.219,114.208,114.189,114.169 ,114.155,114.141,114.127,114.112, 114.097,114.089,114.066,114.05,114.034, 114.009,113.992,113.974,113.956,113.938 ,113.91,113.891,113.871,113.851,113.831 ,113.343)
ORBIT_NUMBER = 5320
ORBITAL_ECCENTRICITY = 0.572
ORBITAL_INCLINATION = 86.73
ORBITAL_SEMIMAJOR_AXIS = 8699.36
PERIAPSIS_ALTITUDE = 337.28
PERIAPSIS_ARGUMENT_ANGLE = 142.38
PERIAPSIS_TIME = 2008-02-22T18:15:26.000Z
SPACECRAFT_ORIENTATION = (0.0,-1.0,0.0)
^MEX_ORIENTATION_DESC = "MEX_ORIENTATION_DESC.TXT"
SPACECRAFT_POINTING_MODE = NADIR
^MEX_POINTING_DESC = "MEX_POINTING_DESC.TXT"
RIGHT_ASCENSION = -1e+32
DECLINATION = -1e+32
OFFSET_ANGLE = -1e+32
SPACECRAFT_SOLAR_DISTANCE = 2.4454e+08
TARGET_NAME = MARS
/* CAMERA DATA ELEMENTS */
DETECTOR_TEMPERATURE = 18.7783
FOCAL_PLANE_TEMPERATURE = 8.9911
INST_CMPRS_NAME = "DISCRETE COSINE TRANSFORMATION (DCT)"
INST_CMPRS_RATIO = 13.5263
INST_CMPRS_QUALITY = 0
INST_CMPRS_QUANTZ_TBL_ID = 0
INSTRUMENT_TEMPERATURE = 11.6418
LENS_TEMPERATURE = 8.9911
MACROPIXEL_SIZE = 2
MISSING_FRAMES = 0
PIXEL_SUBSAMPLING_FLAG = N
SIGNAL_CHAIN_ID = 1
/* RADIOMETRIC DATA ELEMENTS */
BANDWIDTH = 178.0
CENTER_FILTER_WAVELENGTH = 679.0
RADIANCE_OFFSET = 3.91624
RADIANCE_SCALING_FACTOR = 0.0128735
REFLECTANCE_SCALING_FACTOR = 0.000407684
MEX:REFLECTANCE_OFFSET = 0.124022
/* IMAGE OBJECT DEFINITIONS */
OBJECT = IMAGE
  INTERCHANGE_FORMAT = BINARY
  LINES = 30480
  LINE_SAMPLES = 4881
  SAMPLE_TYPE = UNSIGNED_INTEGER
  SAMPLE_BITS = 8
  BANDS = 1
  BAND_STORAGE_TYPE = BAND_SEQUENTIAL
  MAXIMUM = 255
  MEAN = 93.3508
  MINIMUM = 1
  STANDARD_DEVIATION = 48.9256
END_OBJECT = IMAGE
/* MAP OBJECT DEFINITIONS */
OBJECT = IMAGE_MAP_PROJECTION
  ^DATA_SET_MAP_PROJECTION_CATALOG= "DSMAP.CAT"
  A_AXIS_RADIUS = 3396.0
  B_AXIS_RADIUS = 3396.0
  C_AXIS_RADIUS = 3396.0
  CENTER_LATITUDE = 0.0
  CENTER_LONGITUDE = 113.0
  COORDINATE_SYSTEM_NAME = PLANETOGRAPHIC
  COORDINATE_SYSTEM_TYPE = "BODY-FIXED ROTATING"
  EASTERNMOST_LONGITUDE = 114.442
  FIRST_STANDARD_PARALLEL = "N/A"
  LINE_FIRST_PIXEL = 1
  LINE_LAST_PIXEL = 30480
  LINE_PROJECTION_OFFSET = 137574.75
  MAP_PROJECTION_ROTATION = 0.0
  MAP_PROJECTION_TYPE = SINUSOIDAL
  MAP_RESOLUTION = 2370.85521546667
  MAP_SCALE = 0.025
  MAXIMUM_LATITUDE = 58.0365
  MINIMUM_LATITUDE = 45.2035
  POSITIVE_LONGITUDE_DIRECTION = EAST
  REFERENCE_LATITUDE = "N/A"
  REFERENCE_LONGITUDE = "N/A"
  SAMPLE_FIRST_PIXEL = 1
  SAMPLE_LAST_PIXEL = 4881
  SAMPLE_PROJECTION_OFFSET = 2448.75
  SECOND_STANDARD_PARALLEL = "N/A"
  WESTERNMOST_LONGITUDE = 111.144
END_OBJECT = IMAGE_MAP_PROJECTION
/* The JPEG2000 image data file associated with this label. */
OBJECT = COMPRESSED_FILE
  FILE_NAME = "H5320_0000_S23.JP2"
  RECORD_TYPE = UNDEFINED
  FILE_RECORDS = UNK
  ENCODING_TYPE = "JP2"
  INTERCHANGE_FORMAT = BINARY
  UNCOMPRESSED_FILE_NAME = "H5320_0000_S23.IMG"
  REQUIRED_STORAGE_BYTES = "148797285"
  ^DESCRIPTION = "JP2INFO.TXT"
END_OBJECT = COMPRESSED_FILE
END
