PDS_VERSION_ID = PDS3
/* FILE DATA ELEMENTS */
RECORD_TYPE = STREAM
/* POINTERS TO DATA OBJECTS */
^COMPRESSED_FILE = "H5321_0000_P13.JP2"
/* IDENTIFICATION DATA ELEMENTS */
DATA_SET_ID = "MEX-M-HRSC-5-REFDR-MAPPROJECTED-V3.0"
DATA_SET_NAME = "MARS EXPRESS HRSC MAP PROJECTED REFDR V3.0"
DETECTOR_ID = MEX_HRSC_P1
EVENT_TYPE = "MARS-REGIONAL-MAPPING-Te-Gl-Pf"
INSTRUMENT_HOST_ID = MEX
INSTRUMENT_HOST_NAME = "MARS EXPRESS"
INSTRUMENT_ID = HRSC
INSTRUMENT_NAME = "HIGH RESOLUTION STEREO CAMERA"
MISSION_NAME = "MARS EXPRESS"
MISSION_PHASE_NAME = ME_Phase_11
PROCESSING_LEVEL_ID = 3
PRODUCT_CREATION_TIME = 2016-05-14T01:01:03.000Z
PRODUCT_ID = "H5321_0000_P13.JP2"
RELEASE_ID = 0061
REVISION_ID = 0000
/* QUALITY DATA ELEMENTS */
DATA_QUALITY_ID = 2
DATA_QUALITY_DESC = "Data calculated based on photogrammetrically improved orbit and attitude data"
/* TIME DATA ELEMENTS */
SPACECRAFT_CLOCK_START_COUNT = "1/0151808573.07296"
SPACECRAFT_CLOCK_STOP_COUNT = "1/0151808905.46836"
START_TIME = 2008-02-23T01:03:08.674Z
STOP_TIME = 2008-02-23T01:07:35.142Z
/* ORBITAL DATA ELEMENTS */
ASCENDING_NODE_LONGITUDE = 117.49
MAXIMUM_RESOLUTION = 27.8
FOOTPRINT_POINT_LATITUDE = (47.3998,47.3952,47.3898,47.3796,47.372 ,47.3625,46.9623,46.6241,46.285,45.9455 ,45.4354,45.0953,44.7552,44.4136, 44.0714,43.5574,43.2145,42.6994,42.3557 ,42.012,41.6641,41.3223,40.9768,40.6306 ,40.2847,39.9383,39.5915,39.2451, 38.8979,38.5506,38.2031,37.8593,37.3545 ,37.0173,36.5055,36.1659,35.8271,35.491 ,35.1581,34.819,34.48,33.9714,33.6303, 33.2836,32.9348,32.5837,32.2321,31.7045 ,31.1781,30.8259,30.4743,30.123,30.1094 ,30.1108,30.1126,30.1134,30.2903, 30.8181,31.1708,31.519,31.6961,32.046, 32.3995,32.9278,33.2803,33.6275,33.9677 ,34.3082,34.6469,34.9865,35.4902, 35.8291,36.3354,36.6746,37.0192,37.5259 ,37.8638,38.2068,38.7292,39.0775, 39.4253,39.9466,40.4662,40.8137,41.1574 ,41.5055,42.1945,42.7123,43.0583, 43.4026,43.9188,44.262,44.7757,45.1171, 45.6293,45.9695,46.4805,46.8209,47.1605 ,47.3998)
FOOTPRINT_POINT_LONGITUDE = (14.4316,14.1457,13.8604,13.4159, 13.1325,12.8138,12.6883,12.7171,12.7451 ,12.7723,12.8118,12.8376,12.8629, 12.8871,12.9105,12.9446,12.9666,12.9986 ,13.0192,13.0394,13.0575,13.0776, 13.0959,13.1135,13.1308,13.1474,13.1636 ,13.1796,13.1948,13.2096,13.224,13.237, 13.2566,13.2689,13.2845,13.2951,13.3056 ,13.317,13.3293,13.3388,13.348,13.3612, 13.3689,13.3772,13.3858,13.3933,13.4002 ,13.4099,13.4194,13.4248,13.4301, 13.4353,13.7726,13.9889,14.2464,14.5317 ,14.8342,14.8293,14.8252,14.8244, 14.8217,14.8194,14.8145,14.8082,14.8036 ,14.8004,14.7964,14.7919,14.7886, 14.7844,14.7822,14.7782,14.7732,14.7684 ,14.7592,14.7527,14.748,14.743,14.7358, 14.7307,14.7255,14.7175,14.7102,14.7039 ,14.7004,14.6929,14.6826,14.6729, 14.6653,14.6586,14.6478,14.6409,14.6306 ,14.6239,14.6129,14.606,14.594,14.5855, 14.577,14.4316)
ORBIT_NUMBER = 5321
ORBITAL_ECCENTRICITY = 0.571
ORBITAL_INCLINATION = 86.73
ORBITAL_SEMIMAJOR_AXIS = 8694.13
PERIAPSIS_ALTITUDE = 338.0
PERIAPSIS_ARGUMENT_ANGLE = 142.2
PERIAPSIS_TIME = 2008-02-23T01:05:58.000Z
SPACECRAFT_ORIENTATION = (0.0,-1.0,0.0)
^MEX_ORIENTATION_DESC = "MEX_ORIENTATION_DESC.TXT"
SPACECRAFT_POINTING_MODE = ACROSSTRACK
^MEX_POINTING_DESC = "MEX_POINTING_DESC.TXT"
RIGHT_ASCENSION = -1e+32
DECLINATION = -1e+32
OFFSET_ANGLE = 0.15
SPACECRAFT_SOLAR_DISTANCE = 2.44572e+08
TARGET_NAME = MARS
/* CAMERA DATA ELEMENTS */
DETECTOR_TEMPERATURE = 17.5549
FOCAL_PLANE_TEMPERATURE = 8.5833
INST_CMPRS_NAME = "DISCRETE COSINE TRANSFORMATION (DCT)"
INST_CMPRS_RATIO = 12.7201
INST_CMPRS_QUALITY = 0
INST_CMPRS_QUANTZ_TBL_ID = 0
INSTRUMENT_TEMPERATURE = 11.8457
LENS_TEMPERATURE = 8.9911
MACROPIXEL_SIZE = 2
MISSING_FRAMES = 0
PIXEL_SUBSAMPLING_FLAG = N
SIGNAL_CHAIN_ID = 3
/* RADIOMETRIC DATA ELEMENTS */
BANDWIDTH = 174.0
CENTER_FILTER_WAVELENGTH = 675.0
RADIANCE_OFFSET = 3.53113
RADIANCE_SCALING_FACTOR = 0.023609
REFLECTANCE_SCALING_FACTOR = 0.000759588
MEX:REFLECTANCE_OFFSET = 0.113609
/* IMAGE OBJECT DEFINITIONS */
OBJECT = IMAGE
  INTERCHANGE_FORMAT = BINARY
  LINES = 40898
  LINE_SAMPLES = 3916
  SAMPLE_TYPE = UNSIGNED_INTEGER
  SAMPLE_BITS = 8
  BANDS = 1
  BAND_STORAGE_TYPE = BAND_SEQUENTIAL
  MAXIMUM = 255
  MEAN = 143.106
  MINIMUM = 1
  STANDARD_DEVIATION = 34.567
END_OBJECT = IMAGE
/* MAP OBJECT DEFINITIONS */
OBJECT = IMAGE_MAP_PROJECTION
  ^DATA_SET_MAP_PROJECTION_CATALOG= "DSMAP.CAT"
  A_AXIS_RADIUS = 3396.0
  B_AXIS_RADIUS = 3396.0
  C_AXIS_RADIUS = 3396.0
  CENTER_LATITUDE = 0.0
  CENTER_LONGITUDE = 14.0
  COORDINATE_SYSTEM_NAME = PLANETOGRAPHIC
  COORDINATE_SYSTEM_TYPE = "BODY-FIXED ROTATING"
  EASTERNMOST_LONGITUDE = 14.8342
  FIRST_STANDARD_PARALLEL = "N/A"
  LINE_FIRST_PIXEL = 1
  LINE_LAST_PIXEL = 40898
  LINE_PROJECTION_OFFSET = 112299.75
  MAP_PROJECTION_ROTATION = 0.0
  MAP_PROJECTION_TYPE = SINUSOIDAL
  MAP_RESOLUTION = 2370.85521546667
  MAP_SCALE = 0.025
  MAXIMUM_LATITUDE = 47.3998
  MINIMUM_LATITUDE = 30.1094
  POSITIVE_LONGITUDE_DIRECTION = EAST
  REFERENCE_LATITUDE = "N/A"
  REFERENCE_LONGITUDE = "N/A"
  SAMPLE_FIRST_PIXEL = 1
  SAMPLE_LAST_PIXEL = 3916
  SAMPLE_PROJECTION_OFFSET = 2125.75
  SECOND_STANDARD_PARALLEL = "N/A"
  WESTERNMOST_LONGITUDE = 12.6883
END_OBJECT = IMAGE_MAP_PROJECTION
/* The JPEG2000 image data file associated with this label. */
OBJECT = COMPRESSED_FILE
  FILE_NAME = "H5321_0000_P13.JP2"
  RECORD_TYPE = UNDEFINED
  FILE_RECORDS = UNK
  ENCODING_TYPE = "JP2"
  INTERCHANGE_FORMAT = BINARY
  UNCOMPRESSED_FILE_NAME = "H5321_0000_P13.IMG"
  REQUIRED_STORAGE_BYTES = "160180064"
  ^DESCRIPTION = "JP2INFO.TXT"
END_OBJECT = COMPRESSED_FILE
END
