PDS_VERSION_ID = PDS3
/* FILE DATA ELEMENTS */
RECORD_TYPE = STREAM
/* POINTERS TO DATA OBJECTS */
^COMPRESSED_FILE = "H5325_0000_S23.JP2"
/* IDENTIFICATION DATA ELEMENTS */
DATA_SET_ID = "MEX-M-HRSC-5-REFDR-MAPPROJECTED-V3.0"
DATA_SET_NAME = "MARS EXPRESS HRSC MAP PROJECTED REFDR V3.0"
DETECTOR_ID = MEX_HRSC_S2
EVENT_TYPE = "MARS-REGIONAL-MAPPING-Pf-Ot-Ts"
INSTRUMENT_HOST_ID = MEX
INSTRUMENT_HOST_NAME = "MARS EXPRESS"
INSTRUMENT_ID = HRSC
INSTRUMENT_NAME = "HIGH RESOLUTION STEREO CAMERA"
MISSION_NAME = "MARS EXPRESS"
MISSION_PHASE_NAME = ME_Phase_11
PROCESSING_LEVEL_ID = 3
PRODUCT_CREATION_TIME = 2016-05-14T01:01:03.000Z
PRODUCT_ID = "H5325_0000_S23.JP2"
RELEASE_ID = 0061
REVISION_ID = 0000
/* QUALITY DATA ELEMENTS */
DATA_QUALITY_ID = 2
DATA_QUALITY_DESC = "Data calculated based on photogrammetrically improved orbit and attitude data"
/* TIME DATA ELEMENTS */
SPACECRAFT_CLOCK_START_COUNT = "1/0151906974.09044"
SPACECRAFT_CLOCK_STOP_COUNT = "1/0151907258.24035"
START_TIME = 2008-02-24T04:24:13.949Z
STOP_TIME = 2008-02-24T04:27:40.174Z
/* ORBITAL DATA ELEMENTS */
ASCENDING_NODE_LONGITUDE = 117.41
MAXIMUM_RESOLUTION = 29.4
FOOTPRINT_POINT_LATITUDE = (55.7317,55.7128,55.6982,55.6829,55.667 ,55.6503,55.6317,55.4375,55.1276, 54.8177,54.3526,53.8873,53.4213,52.9561 ,52.6456,52.3347,52.0433,51.7823, 51.3921,51.1318,50.8716,50.611,50.2209, 49.9605,49.7004,49.4401,49.0499,48.7893 ,48.5292,48.2689,47.8784,47.6184, 47.2284,46.9681,46.7073,46.4473,46.1877 ,45.9277,45.5387,45.2798,44.8919, 44.6317,44.3727,44.1133,43.8545,43.5956 ,43.3368,43.0777,42.8187,42.4315, 42.1731,42.1654,42.1754,42.1845,42.1956 ,42.2095,42.2168,42.4755,42.7346, 42.9936,43.3822,43.6414,43.9017,44.2914 ,44.6813,45.0715,45.3319,45.5899, 45.8504,46.1098,46.3711,46.6313,47.023, 47.2842,47.676,48.0658,48.326,48.5882, 48.8497,49.2417,49.5025,49.7642,50.0251 ,50.417,50.6779,50.9398,51.2008,51.4624 ,51.7236,52.1146,52.5612,52.8732, 53.1847,53.6523,54.1202,54.4317,54.7432 ,55.2104,55.5218,55.7317)
FOOTPRINT_POINT_LONGITUDE = (334.336,333.825,333.455,333.088, 332.723,332.36,331.975,331.975,332.019, 332.062,332.125,332.185,332.243,332.298 ,332.334,332.37,332.402,332.43,332.471, 332.497,332.524,332.549,332.586,332.611 ,332.634,332.658,332.691,332.713, 332.735,332.756,332.787,332.807,332.836 ,332.855,332.873,332.892,332.909, 332.926,332.952,332.968,332.991,333.007 ,333.022,333.036,333.051,333.065, 333.078,333.092,333.105,333.124,333.136 ,333.357,333.61,333.865,334.169,334.573 ,334.79,334.785,334.781,334.777,334.771 ,334.766,334.762,334.755,334.748, 334.741,334.736,334.73,334.725,334.719, 334.714,334.709,334.701,334.695,334.687 ,334.677,334.67,334.665,334.659,334.649 ,334.642,334.636,334.628,334.618,334.61 ,334.603,334.595,334.588,334.58,334.567 ,334.553,334.542,334.532,334.515, 334.498,334.487,334.475,334.456,334.443 ,334.336)
ORBIT_NUMBER = 5325
ORBITAL_ECCENTRICITY = 0.571
ORBITAL_INCLINATION = 86.74
ORBITAL_SEMIMAJOR_AXIS = 8688.61
PERIAPSIS_ALTITUDE = 338.32
PERIAPSIS_ARGUMENT_ANGLE = 141.5
PERIAPSIS_TIME = 2008-02-24T04:28:06.000Z
SPACECRAFT_ORIENTATION = (0.0,-1.0,0.0)
^MEX_ORIENTATION_DESC = "MEX_ORIENTATION_DESC.TXT"
SPACECRAFT_POINTING_MODE = ACROSSTRACK
^MEX_POINTING_DESC = "MEX_POINTING_DESC.TXT"
RIGHT_ASCENSION = -1e+32
DECLINATION = -1e+32
OFFSET_ANGLE = 0.4
SPACECRAFT_SOLAR_DISTANCE = 2.44701e+08
TARGET_NAME = MARS
/* CAMERA DATA ELEMENTS */
DETECTOR_TEMPERATURE = 18.5744
FOCAL_PLANE_TEMPERATURE = 8.3794
INST_CMPRS_NAME = "DISCRETE COSINE TRANSFORMATION (DCT)"
INST_CMPRS_RATIO = 13.3736
INST_CMPRS_QUALITY = 0
INST_CMPRS_QUANTZ_TBL_ID = 0
INSTRUMENT_TEMPERATURE = 10.8262
LENS_TEMPERATURE = 8.5833
MACROPIXEL_SIZE = 2
MISSING_FRAMES = 0
PIXEL_SUBSAMPLING_FLAG = N
SIGNAL_CHAIN_ID = 1
/* RADIOMETRIC DATA ELEMENTS */
BANDWIDTH = 178.0
CENTER_FILTER_WAVELENGTH = 679.0
RADIANCE_OFFSET = 2.88839
RADIANCE_SCALING_FACTOR = 0.01372
REFLECTANCE_SCALING_FACTOR = 0.000435066
MEX:REFLECTANCE_OFFSET = 0.0915914
/* IMAGE OBJECT DEFINITIONS */
OBJECT = IMAGE
  INTERCHANGE_FORMAT = BINARY
  LINES = 32412
  LINE_SAMPLES = 4223
  SAMPLE_TYPE = UNSIGNED_INTEGER
  SAMPLE_BITS = 8
  BANDS = 1
  BAND_STORAGE_TYPE = BAND_SEQUENTIAL
  MAXIMUM = 255
  MEAN = 74.2818
  MINIMUM = 1
  STANDARD_DEVIATION = 34.8537
END_OBJECT = IMAGE
/* MAP OBJECT DEFINITIONS */
OBJECT = IMAGE_MAP_PROJECTION
  ^DATA_SET_MAP_PROJECTION_CATALOG= "DSMAP.CAT"
  A_AXIS_RADIUS = 3396.0
  B_AXIS_RADIUS = 3396.0
  C_AXIS_RADIUS = 3396.0
  CENTER_LATITUDE = 0.0
  CENTER_LONGITUDE = 334.0
  COORDINATE_SYSTEM_NAME = PLANETOGRAPHIC
  COORDINATE_SYSTEM_TYPE = "BODY-FIXED ROTATING"
  EASTERNMOST_LONGITUDE = 334.79
  FIRST_STANDARD_PARALLEL = "N/A"
  LINE_FIRST_PIXEL = 1
  LINE_LAST_PIXEL = 32412
  LINE_PROJECTION_OFFSET = 132317.75
  MAP_PROJECTION_ROTATION = 0.0
  MAP_PROJECTION_TYPE = SINUSOIDAL
  MAP_RESOLUTION = 2370.85521546667
  MAP_SCALE = 0.025
  MAXIMUM_LATITUDE = 55.7317
  MINIMUM_LATITUDE = 42.1654
  POSITIVE_LONGITUDE_DIRECTION = EAST
  REFERENCE_LATITUDE = "N/A"
  REFERENCE_LONGITUDE = "N/A"
  SAMPLE_FIRST_PIXEL = 1
  SAMPLE_LAST_PIXEL = 4223
  SAMPLE_PROJECTION_OFFSET = 2801.25
  SECOND_STANDARD_PARALLEL = "N/A"
  WESTERNMOST_LONGITUDE = 331.975
END_OBJECT = IMAGE_MAP_PROJECTION
/* The JPEG2000 image data file associated with this label. */
OBJECT = COMPRESSED_FILE
  FILE_NAME = "H5325_0000_S23.JP2"
  RECORD_TYPE = UNDEFINED
  FILE_RECORDS = UNK
  ENCODING_TYPE = "JP2"
  INTERCHANGE_FORMAT = BINARY
  UNCOMPRESSED_FILE_NAME = "H5325_0000_S23.IMG"
  REQUIRED_STORAGE_BYTES = "136901214"
  ^DESCRIPTION = "JP2INFO.TXT"
END_OBJECT = COMPRESSED_FILE
END
