PDS_VERSION_ID = PDS3
/* FILE DATA ELEMENTS */
RECORD_TYPE = STREAM
/* POINTERS TO DATA OBJECTS */
^COMPRESSED_FILE = "H5328_0000_P23.JP2"
/* IDENTIFICATION DATA ELEMENTS */
DATA_SET_ID = "MEX-M-HRSC-5-REFDR-MAPPROJECTED-V3.0"
DATA_SET_NAME = "MARS EXPRESS HRSC MAP PROJECTED REFDR V3.0"
DETECTOR_ID = MEX_HRSC_P2
EVENT_TYPE = "MARS-REGIONAL-MAPPING-Im-Fl-Gl"
INSTRUMENT_HOST_ID = MEX
INSTRUMENT_HOST_NAME = "MARS EXPRESS"
INSTRUMENT_ID = HRSC
INSTRUMENT_NAME = "HIGH RESOLUTION STEREO CAMERA"
MISSION_NAME = "MARS EXPRESS"
MISSION_PHASE_NAME = ME_Phase_11
PROCESSING_LEVEL_ID = 3
PRODUCT_CREATION_TIME = 2016-05-14T01:01:03.000Z
PRODUCT_ID = "H5328_0000_P23.JP2"
RELEASE_ID = 0061
REVISION_ID = 0000
/* QUALITY DATA ELEMENTS */
DATA_QUALITY_ID = 2
DATA_QUALITY_DESC = "Data calculated based on photogrammetrically improved orbit and attitude data"
/* TIME DATA ELEMENTS */
SPACECRAFT_CLOCK_START_COUNT = "1/0151980893.07281"
SPACECRAFT_CLOCK_STOP_COUNT = "1/0151981273.46036"
START_TIME = 2008-02-25T00:55:58.903Z
STOP_TIME = 2008-02-25T01:01:04.768Z
/* ORBITAL DATA ELEMENTS */
ASCENDING_NODE_LONGITUDE = 117.34
MAXIMUM_RESOLUTION = 27.9
FOOTPRINT_POINT_LATITUDE = (54.9048,54.8859,54.8604,54.9093, 54.4455,53.9804,53.2826,52.8168,52.3502 ,52.1169,51.6701,51.2822,50.8911, 50.5027,50.1096,49.7195,49.3249,48.9331 ,48.3464,47.9548,47.5628,47.1705, 46.7783,46.3864,45.9937,45.406,44.8179, 44.2298,43.6413,43.2475,42.8585,42.2694 ,41.6825,41.2909,40.8945,40.5183, 40.1383,39.763,39.201,38.823,38.2592, 37.8833,37.4982,37.1081,36.7226,36.3314 ,35.9439,35.5587,35.1704,34.9671, 34.9738,34.9797,35.1753,35.5627,35.952, 36.5336,36.9228,37.5069,37.8945,38.2726 ,38.6493,39.0257,39.4053,39.9699, 40.3496,40.9195,41.3084,41.8948,42.2911 ,42.6841,43.2739,43.8632,44.2561, 44.6487,45.0422,45.4343,45.8289,46.2221 ,46.8108,47.2035,47.5984,47.993,48.386, 48.7788,49.1725,49.7624,50.3513,50.7436 ,51.3322,51.726,52.1704,52.4047,52.6387 ,53.1069,53.5744,53.8091,54.0435, 54.5102,54.977,54.9048)
FOOTPRINT_POINT_LONGITUDE = (32.6862,32.0903,31.3834,30.8839, 30.9579,31.0301,31.1333,31.1992,31.2633 ,31.2944,31.3547,31.4005,31.4479, 31.4912,31.5375,31.5795,31.6243,31.665, 31.723,31.7605,31.7972,31.833,31.8676, 31.9008,31.9338,31.9803,32.0249,32.0676 ,32.1088,32.1364,32.1595,32.1971, 32.2315,32.254,32.2834,32.3018,32.3225, 32.3393,32.3628,32.3804,32.4037,32.4187 ,32.4337,32.4497,32.4621,32.4781, 32.4912,32.5025,32.5155,32.6938,33.1644 ,33.7902,33.9905,33.983,33.976,33.9638, 33.956,33.9437,33.9356,33.9276,33.9186, 33.9091,33.9008,33.8856,33.8765,33.8625 ,33.8538,33.8369,33.8278,33.8168, 33.7997,33.7817,33.7693,33.7564,33.7435 ,33.7296,33.7166,33.7025,33.6802, 33.6649,33.6504,33.6354,33.6192,33.6025 ,33.5858,33.5597,33.5322,33.5132, 33.4839,33.4645,33.4418,33.4293,33.4166 ,33.3906,33.3637,33.3504,33.3368, 33.3079,33.2783,32.6862)
ORBIT_NUMBER = 5328
ORBITAL_ECCENTRICITY = 0.571
ORBITAL_INCLINATION = 86.73
ORBITAL_SEMIMAJOR_AXIS = 8694.25
PERIAPSIS_ALTITUDE = 338.6
PERIAPSIS_ARGUMENT_ANGLE = 140.98
PERIAPSIS_TIME = 2008-02-25T00:59:43.000Z
SPACECRAFT_ORIENTATION = (0.0,-1.0,0.0)
^MEX_ORIENTATION_DESC = "MEX_ORIENTATION_DESC.TXT"
SPACECRAFT_POINTING_MODE = ACROSSTRACK
^MEX_POINTING_DESC = "MEX_POINTING_DESC.TXT"
RIGHT_ASCENSION = -1e+32
DECLINATION = -1e+32
OFFSET_ANGLE = -0.1
SPACECRAFT_SOLAR_DISTANCE = 2.44796e+08
TARGET_NAME = MARS
/* CAMERA DATA ELEMENTS */
DETECTOR_TEMPERATURE = 18.1666
FOCAL_PLANE_TEMPERATURE = 7.7677
INST_CMPRS_NAME = "DISCRETE COSINE TRANSFORMATION (DCT)"
INST_CMPRS_RATIO = 7.10065
INST_CMPRS_QUALITY = 0
INST_CMPRS_QUANTZ_TBL_ID = 0
INSTRUMENT_TEMPERATURE = 11.0301
LENS_TEMPERATURE = 8.1755
MACROPIXEL_SIZE = 2
MISSING_FRAMES = 0
PIXEL_SUBSAMPLING_FLAG = N
SIGNAL_CHAIN_ID = 3
/* RADIOMETRIC DATA ELEMENTS */
BANDWIDTH = 177.0
CENTER_FILTER_WAVELENGTH = 676.5
RADIANCE_OFFSET = 3.61626
RADIANCE_SCALING_FACTOR = 0.0250041
REFLECTANCE_SCALING_FACTOR = 0.000794468
MEX:REFLECTANCE_OFFSET = 0.114901
/* IMAGE OBJECT DEFINITIONS */
OBJECT = IMAGE
  INTERCHANGE_FORMAT = BINARY
  LINES = 47456
  LINE_SAMPLES = 4852
  SAMPLE_TYPE = UNSIGNED_INTEGER
  SAMPLE_BITS = 8
  BANDS = 1
  BAND_STORAGE_TYPE = BAND_SEQUENTIAL
  MAXIMUM = 255
  MEAN = 120.357
  MINIMUM = 1
  STANDARD_DEVIATION = 38.0215
END_OBJECT = IMAGE
/* MAP OBJECT DEFINITIONS */
OBJECT = IMAGE_MAP_PROJECTION
  ^DATA_SET_MAP_PROJECTION_CATALOG= "DSMAP.CAT"
  A_AXIS_RADIUS = 3396.0
  B_AXIS_RADIUS = 3396.0
  C_AXIS_RADIUS = 3396.0
  CENTER_LATITUDE = 0.0
  CENTER_LONGITUDE = 33.0
  COORDINATE_SYSTEM_NAME = PLANETOGRAPHIC
  COORDINATE_SYSTEM_TYPE = "BODY-FIXED ROTATING"
  EASTERNMOST_LONGITUDE = 33.9905
  FIRST_STANDARD_PARALLEL = "N/A"
  LINE_FIRST_PIXEL = 1
  LINE_LAST_PIXEL = 47456
  LINE_PROJECTION_OFFSET = 130361.75
  MAP_PROJECTION_ROTATION = 0.0
  MAP_PROJECTION_TYPE = SINUSOIDAL
  MAP_RESOLUTION = 2370.85521546667
  MAP_SCALE = 0.025
  MAXIMUM_LATITUDE = 54.977
  MINIMUM_LATITUDE = 34.9671
  POSITIVE_LONGITUDE_DIRECTION = EAST
  REFERENCE_LATITUDE = "N/A"
  REFERENCE_LONGITUDE = "N/A"
  SAMPLE_FIRST_PIXEL = 1
  SAMPLE_LAST_PIXEL = 4852
  SAMPLE_PROJECTION_OFFSET = 2880.75
  SECOND_STANDARD_PARALLEL = "N/A"
  WESTERNMOST_LONGITUDE = 30.8839
END_OBJECT = IMAGE_MAP_PROJECTION
/* The JPEG2000 image data file associated with this label. */
OBJECT = COMPRESSED_FILE
  FILE_NAME = "H5328_0000_P23.JP2"
  RECORD_TYPE = UNDEFINED
  FILE_RECORDS = UNK
  ENCODING_TYPE = "JP2"
  INTERCHANGE_FORMAT = BINARY
  UNCOMPRESSED_FILE_NAME = "H5328_0000_P23.IMG"
  REQUIRED_STORAGE_BYTES = "230280772"
  ^DESCRIPTION = "JP2INFO.TXT"
END_OBJECT = COMPRESSED_FILE
END
