PDS_VERSION_ID = PDS3
/* FILE DATA ELEMENTS */
RECORD_TYPE = STREAM
/* POINTERS TO DATA OBJECTS */
^COMPRESSED_FILE = "H5329_0000_GR3.JP2"
/* IDENTIFICATION DATA ELEMENTS */
DATA_SET_ID = "MEX-M-HRSC-5-REFDR-MAPPROJECTED-V3.0"
DATA_SET_NAME = "MARS EXPRESS HRSC MAP PROJECTED REFDR V3.0"
DETECTOR_ID = MEX_HRSC_GREEN
EVENT_TYPE = "MARS-REGIONAL-MAPPING-Vo-Te-Fl"
INSTRUMENT_HOST_ID = MEX
INSTRUMENT_HOST_NAME = "MARS EXPRESS"
INSTRUMENT_ID = HRSC
INSTRUMENT_NAME = "HIGH RESOLUTION STEREO CAMERA"
MISSION_NAME = "MARS EXPRESS"
MISSION_PHASE_NAME = ME_Phase_11
PROCESSING_LEVEL_ID = 3
PRODUCT_CREATION_TIME = 2016-05-14T01:01:03.000Z
PRODUCT_ID = "H5329_0000_GR3.JP2"
RELEASE_ID = 0061
REVISION_ID = 0000
/* QUALITY DATA ELEMENTS */
DATA_QUALITY_ID = 2
DATA_QUALITY_DESC = "Data calculated based on photogrammetrically improved orbit and attitude data"
/* TIME DATA ELEMENTS */
SPACECRAFT_CLOCK_START_COUNT = "1/0152005521.07278"
SPACECRAFT_CLOCK_STOP_COUNT = "1/0152005868.47059"
START_TIME = 2008-02-25T07:45:57.733Z
STOP_TIME = 2008-02-25T07:50:34.864Z
/* ORBITAL DATA ELEMENTS */
ASCENDING_NODE_LONGITUDE = 117.32
MAXIMUM_RESOLUTION = 54.2
FOOTPRINT_POINT_LATITUDE = (55.627,55.6045,55.5749,55.5328,55.1413 ,54.749,54.356,53.9624,53.568,53.173, 52.7773,52.381,51.9841,51.5866,51.1889, 50.7908,50.3919,49.857,49.5213,49.1856, 48.8494,48.5132,48.176,47.6699,47.3323, 46.9942,46.6559,46.318,45.9788,45.6395, 45.3008,44.9618,44.6227,44.2813,43.7717 ,43.2609,42.7495,42.4086,41.8962, 41.5544,41.2129,40.8711,40.5291,40.1869 ,39.8447,39.5072,39.1757,38.844,38.3466 ,38.0151,37.7882,37.8011,37.8109, 38.1431,38.4753,38.8074,39.1397,39.6378 ,40.1511,40.4938,40.8367,41.3508, 41.6932,42.2066,42.549,42.891,43.2331, 43.5746,43.9158,44.2569,44.598,45.109, 45.4496,45.7898,46.1292,46.6389,46.9795 ,47.3185,47.827,48.1656,48.5038,48.8417 ,49.1792,49.5163,49.8536,50.1905, 50.5788,50.9799,51.3804,51.7801,52.1785 ,52.5775,52.9761,53.3731,53.9684, 54.3643,54.7598,55.1547,55.549,55.627)
FOOTPRINT_POINT_LONGITUDE = (292.553,291.927,291.212,290.676, 290.743,290.809,290.873,290.934,290.994 ,291.053,291.109,291.164,291.217, 291.269,291.321,291.372,291.42,291.483, 291.52,291.557,291.592,291.628,291.661, 291.71,291.741,291.772,291.802,291.833, 291.861,291.888,291.917,291.945,291.973 ,291.994,292.033,292.068,292.101, 292.123,292.153,292.173,292.193,292.212 ,292.23,292.247,292.264,292.281,292.296 ,292.31,292.332,292.346,292.647,293.274 ,293.848,293.84,293.833,293.826,293.818 ,293.806,293.794,293.786,293.777, 293.764,293.755,293.742,293.732,293.723 ,293.712,293.703,293.694,293.684, 293.673,293.658,293.647,293.636,293.626 ,293.609,293.594,293.583,293.563, 293.551,293.537,293.524,293.511,293.497 ,293.482,293.467,293.45,293.432,293.413 ,293.393,293.377,293.356,293.334, 293.314,293.281,293.259,293.236,293.212 ,293.187,292.553)
ORBIT_NUMBER = 5329
ORBITAL_ECCENTRICITY = 0.571
ORBITAL_INCLINATION = 86.73
ORBITAL_SEMIMAJOR_AXIS = 8692.22
PERIAPSIS_ALTITUDE = 338.57
PERIAPSIS_ARGUMENT_ANGLE = 140.81
PERIAPSIS_TIME = 2008-02-25T07:50:19.000Z
SPACECRAFT_ORIENTATION = (0.0,-1.0,0.0)
^MEX_ORIENTATION_DESC = "MEX_ORIENTATION_DESC.TXT"
SPACECRAFT_POINTING_MODE = ACROSSTRACK
^MEX_POINTING_DESC = "MEX_POINTING_DESC.TXT"
RIGHT_ASCENSION = -1e+32
DECLINATION = -1e+32
OFFSET_ANGLE = -0.1
SPACECRAFT_SOLAR_DISTANCE = 2.44827e+08
TARGET_NAME = MARS
/* CAMERA DATA ELEMENTS */
DETECTOR_TEMPERATURE = 18.1666
FOCAL_PLANE_TEMPERATURE = 8.3794
INST_CMPRS_NAME = "DISCRETE COSINE TRANSFORMATION (DCT)"
INST_CMPRS_RATIO = 12.645
INST_CMPRS_QUALITY = 0
INST_CMPRS_QUANTZ_TBL_ID = 0
INSTRUMENT_TEMPERATURE = 11.0301
LENS_TEMPERATURE = 8.5833
MACROPIXEL_SIZE = 4
MISSING_FRAMES = 0
PIXEL_SUBSAMPLING_FLAG = N
SIGNAL_CHAIN_ID = 2
/* RADIOMETRIC DATA ELEMENTS */
BANDWIDTH = 88.0
CENTER_FILTER_WAVELENGTH = 538.0
RADIANCE_OFFSET = 1.13333
RADIANCE_SCALING_FACTOR = 0.00752132
REFLECTANCE_SCALING_FACTOR = 0.000388153
MEX:REFLECTANCE_OFFSET = 0.0584876
/* IMAGE OBJECT DEFINITIONS */
OBJECT = IMAGE
  INTERCHANGE_FORMAT = BINARY
  LINES = 21164
  LINE_SAMPLES = 2385
  SAMPLE_TYPE = UNSIGNED_INTEGER
  SAMPLE_BITS = 8
  BANDS = 1
  BAND_STORAGE_TYPE = BAND_SEQUENTIAL
  MAXIMUM = 255
  MEAN = 116.932
  MINIMUM = 1
  STANDARD_DEVIATION = 39.4022
END_OBJECT = IMAGE
/* MAP OBJECT DEFINITIONS */
OBJECT = IMAGE_MAP_PROJECTION
  ^DATA_SET_MAP_PROJECTION_CATALOG= "DSMAP.CAT"
  A_AXIS_RADIUS = 3396.0
  B_AXIS_RADIUS = 3396.0
  C_AXIS_RADIUS = 3396.0
  CENTER_LATITUDE = 0.0
  CENTER_LONGITUDE = 293.0
  COORDINATE_SYSTEM_NAME = PLANETOGRAPHIC
  COORDINATE_SYSTEM_TYPE = "BODY-FIXED ROTATING"
  EASTERNMOST_LONGITUDE = 293.848
  FIRST_STANDARD_PARALLEL = "N/A"
  LINE_FIRST_PIXEL = 1
  LINE_LAST_PIXEL = 21164
  LINE_PROJECTION_OFFSET = 65960.125
  MAP_PROJECTION_ROTATION = 0.0
  MAP_PROJECTION_TYPE = SINUSOIDAL
  MAP_RESOLUTION = 1185.42760773333
  MAP_SCALE = 0.05
  MAXIMUM_LATITUDE = 55.627
  MINIMUM_LATITUDE = 37.7882
  POSITIVE_LONGITUDE_DIRECTION = EAST
  REFERENCE_LATITUDE = "N/A"
  REFERENCE_LONGITUDE = "N/A"
  SAMPLE_FIRST_PIXEL = 1
  SAMPLE_LAST_PIXEL = 2385
  SAMPLE_PROJECTION_OFFSET = 1570.125
  SECOND_STANDARD_PARALLEL = "N/A"
  WESTERNMOST_LONGITUDE = 290.676
END_OBJECT = IMAGE_MAP_PROJECTION
/* The JPEG2000 image data file associated with this label. */
OBJECT = COMPRESSED_FILE
  FILE_NAME = "H5329_0000_GR3.JP2"
  RECORD_TYPE = UNDEFINED
  FILE_RECORDS = UNK
  ENCODING_TYPE = "JP2"
  INTERCHANGE_FORMAT = BINARY
  UNCOMPRESSED_FILE_NAME = "H5329_0000_GR3.IMG"
  REQUIRED_STORAGE_BYTES = "50495220"
  ^DESCRIPTION = "JP2INFO.TXT"
END_OBJECT = COMPRESSED_FILE
END
