PDS_VERSION_ID = PDS3
/* FILE DATA ELEMENTS */
RECORD_TYPE = STREAM
/* POINTERS TO DATA OBJECTS */
^COMPRESSED_FILE = "H5332_0000_GR3.JP2"
/* IDENTIFICATION DATA ELEMENTS */
DATA_SET_ID = "MEX-M-HRSC-5-REFDR-MAPPROJECTED-V3.0"
DATA_SET_NAME = "MARS EXPRESS HRSC MAP PROJECTED REFDR V3.0"
DETECTOR_ID = MEX_HRSC_GREEN
EVENT_TYPE = "MARS-REGIONAL-MAPPING-Im-Fl-La"
INSTRUMENT_HOST_ID = MEX
INSTRUMENT_HOST_NAME = "MARS EXPRESS"
INSTRUMENT_ID = HRSC
INSTRUMENT_NAME = "HIGH RESOLUTION STEREO CAMERA"
MISSION_NAME = "MARS EXPRESS"
MISSION_PHASE_NAME = ME_Phase_11
PROCESSING_LEVEL_ID = 3
PRODUCT_CREATION_TIME = 2016-05-14T01:01:03.000Z
PRODUCT_ID = "H5332_0000_GR3.JP2"
RELEASE_ID = 0061
REVISION_ID = 0000
/* QUALITY DATA ELEMENTS */
DATA_QUALITY_ID = 1
DATA_QUALITY_DESC = "Data calculated based on original SPICE kernels"
/* TIME DATA ELEMENTS */
SPACECRAFT_CLOCK_START_COUNT = "1/0152079769.07571"
SPACECRAFT_CLOCK_STOP_COUNT = "1/0152080161.04660"
START_TIME = 2008-02-26T04:23:18.138Z
STOP_TIME = 2008-02-26T04:28:25.863Z
/* ORBITAL DATA ELEMENTS */
ASCENDING_NODE_LONGITUDE = 117.27
MAXIMUM_RESOLUTION = 55.5
FOOTPRINT_POINT_LATITUDE = (33.6705,33.6668,33.6617,33.4727, 33.1238,32.6005,32.2519,31.9032,31.5549 ,31.0325,30.6845,30.3366,29.9889, 29.6414,29.2942,28.9471,28.4205,28.0742 ,27.7278,27.3812,27.0359,26.5179, 26.1288,25.5124,25.1015,24.6907,24.2814 ,23.8722,23.4635,23.0556,22.6465, 22.2389,21.8323,21.4257,21.0205,20.6174 ,20.2135,19.8007,19.3867,18.9733, 18.3399,17.9176,17.2731,16.8422,16.1851 ,15.7455,15.2983,14.8499,14.3957, 14.0828,14.0802,14.0755,14.0725,14.3001 ,14.5293,14.9812,15.4302,16.0956, 16.7553,17.1871,17.8341,18.2569,18.6795 ,19.0997,19.5138,19.9286,20.5411, 20.9465,21.5557,21.9622,22.3694,22.7775 ,23.1858,23.5948,24.0043,24.4142, 24.8248,25.2357,25.6472,26.0592,26.4605 ,26.8063,27.3255,27.6719,28.0189, 28.3657,28.7132,29.2407,29.5886,29.9364 ,30.4587,30.8069,31.3288,31.8532, 32.2023,32.5514,32.901,33.2504,33.6, 33.6705)
FOOTPRINT_POINT_LONGITUDE = (353.78,353.345,352.925,352.608,352.616 ,352.626,352.632,352.638,352.644, 352.652,352.656,352.661,352.665,352.668 ,352.672,352.675,352.68,352.682,352.684 ,352.685,352.687,352.688,352.689,352.69 ,352.69,352.688,352.688,352.687,352.686 ,352.684,352.68,352.676,352.674,352.669 ,352.666,352.665,352.662,352.657, 352.651,352.646,352.637,352.63,352.62, 352.613,352.601,352.593,352.584,352.575 ,352.565,352.791,353.214,353.762, 354.029,354.237,354.235,354.231,354.229 ,354.223,354.218,354.214,354.208, 354.205,354.204,354.198,354.195,354.191 ,354.186,354.183,354.178,354.175, 354.172,354.168,354.165,354.162,354.158 ,354.155,354.151,354.147,354.143, 354.139,354.135,354.132,354.126,354.123 ,354.119,354.116,354.111,354.107, 354.103,354.1,354.094,354.091,354.088, 354.079,354.074,354.07,354.066,354.061, 354.057,353.78)
ORBIT_NUMBER = 5332
ORBITAL_ECCENTRICITY = 0.571
ORBITAL_INCLINATION = 86.74
ORBITAL_SEMIMAJOR_AXIS = 8687.97
PERIAPSIS_ALTITUDE = 339.12
PERIAPSIS_ARGUMENT_ANGLE = 140.25
PERIAPSIS_TIME = 2008-02-26T04:21:50.000Z
SPACECRAFT_ORIENTATION = (0.0,-1.0,0.0)
^MEX_ORIENTATION_DESC = "MEX_ORIENTATION_DESC.TXT"
SPACECRAFT_POINTING_MODE = ACROSSTRACK
^MEX_POINTING_DESC = "MEX_POINTING_DESC.TXT"
RIGHT_ASCENSION = -1e+32
DECLINATION = -1e+32
OFFSET_ANGLE = 0.14
SPACECRAFT_SOLAR_DISTANCE = 2.44921e+08
TARGET_NAME = MARS
/* CAMERA DATA ELEMENTS */
DETECTOR_TEMPERATURE = 18.1666
FOCAL_PLANE_TEMPERATURE = 8.1755
INST_CMPRS_NAME = "DISCRETE COSINE TRANSFORMATION (DCT)"
INST_CMPRS_RATIO = 14.4649
INST_CMPRS_QUALITY = 0
INST_CMPRS_QUANTZ_TBL_ID = 0
INSTRUMENT_TEMPERATURE = 11.234
LENS_TEMPERATURE = 8.5833
MACROPIXEL_SIZE = 4
MISSING_FRAMES = 1
PIXEL_SUBSAMPLING_FLAG = N
SIGNAL_CHAIN_ID = 2
/* RADIOMETRIC DATA ELEMENTS */
BANDWIDTH = 88.0
CENTER_FILTER_WAVELENGTH = 538.0
RADIANCE_OFFSET = 1.69127
RADIANCE_SCALING_FACTOR = 0.00499142
REFLECTANCE_SCALING_FACTOR = 0.000257791
MEX:REFLECTANCE_OFFSET = 0.0873487
/* IMAGE OBJECT DEFINITIONS */
OBJECT = IMAGE
  INTERCHANGE_FORMAT = BINARY
  LINES = 23219
  LINE_SAMPLES = 2029
  SAMPLE_TYPE = UNSIGNED_INTEGER
  SAMPLE_BITS = 8
  BANDS = 1
  BAND_STORAGE_TYPE = BAND_SEQUENTIAL
  MAXIMUM = 255
  MEAN = 94.4747
  MINIMUM = 1
  STANDARD_DEVIATION = 29.0566
END_OBJECT = IMAGE
/* MAP OBJECT DEFINITIONS */
OBJECT = IMAGE_MAP_PROJECTION
  ^DATA_SET_MAP_PROJECTION_CATALOG= "DSMAP.CAT"
  A_AXIS_RADIUS = 3396.0
  B_AXIS_RADIUS = 3396.0
  C_AXIS_RADIUS = 3396.0
  CENTER_LATITUDE = 0.0
  CENTER_LONGITUDE = 353.0
  COORDINATE_SYSTEM_NAME = PLANETOGRAPHIC
  COORDINATE_SYSTEM_TYPE = "BODY-FIXED ROTATING"
  EASTERNMOST_LONGITUDE = 354.237
  FIRST_STANDARD_PARALLEL = "N/A"
  LINE_FIRST_PIXEL = 1
  LINE_LAST_PIXEL = 23219
  LINE_PROJECTION_OFFSET = 39906.125
  MAP_PROJECTION_ROTATION = 0.0
  MAP_PROJECTION_TYPE = SINUSOIDAL
  MAP_RESOLUTION = 1185.42760773333
  MAP_SCALE = 0.05
  MAXIMUM_LATITUDE = 33.6705
  MINIMUM_LATITUDE = 14.0725
  POSITIVE_LONGITUDE_DIRECTION = EAST
  REFERENCE_LATITUDE = "N/A"
  REFERENCE_LONGITUDE = "N/A"
  SAMPLE_FIRST_PIXEL = 1
  SAMPLE_LAST_PIXEL = 2029
  SAMPLE_PROJECTION_OFFSET = 550.125
  SECOND_STANDARD_PARALLEL = "N/A"
  WESTERNMOST_LONGITUDE = 352.565
END_OBJECT = IMAGE_MAP_PROJECTION
/* The JPEG2000 image data file associated with this label. */
OBJECT = COMPRESSED_FILE
  FILE_NAME = "H5332_0000_GR3.JP2"
  RECORD_TYPE = UNDEFINED
  FILE_RECORDS = UNK
  ENCODING_TYPE = "JP2"
  INTERCHANGE_FORMAT = BINARY
  UNCOMPRESSED_FILE_NAME = "H5332_0000_GR3.IMG"
  REQUIRED_STORAGE_BYTES = "47131641"
  ^DESCRIPTION = "JP2INFO.TXT"
END_OBJECT = COMPRESSED_FILE
END
