PDS_VERSION_ID = PDS3
/* FILE DATA ELEMENTS */
RECORD_TYPE = STREAM
/* POINTERS TO DATA OBJECTS */
^COMPRESSED_FILE = "H5335_0000_ND3.JP2"
/* IDENTIFICATION DATA ELEMENTS */
DATA_SET_ID = "MEX-M-HRSC-5-REFDR-MAPPROJECTED-V3.0"
DATA_SET_NAME = "MARS EXPRESS HRSC MAP PROJECTED REFDR V3.0"
DETECTOR_ID = MEX_HRSC_NADIR
EVENT_TYPE = "MARS-REGIONAL-MAPPING-Vo-Te-Pf"
INSTRUMENT_HOST_ID = MEX
INSTRUMENT_HOST_NAME = "MARS EXPRESS"
INSTRUMENT_ID = HRSC
INSTRUMENT_NAME = "HIGH RESOLUTION STEREO CAMERA"
MISSION_NAME = "MARS EXPRESS"
MISSION_PHASE_NAME = ME_Phase_11
PROCESSING_LEVEL_ID = 3
PRODUCT_CREATION_TIME = 2016-05-14T01:01:03.000Z
PRODUCT_ID = "H5335_0000_ND3.JP2"
RELEASE_ID = 0061
REVISION_ID = 0000
/* QUALITY DATA ELEMENTS */
DATA_QUALITY_ID = 2
DATA_QUALITY_DESC = "Data calculated based on photogrammetrically improved orbit and attitude data"
/* TIME DATA ELEMENTS */
SPACECRAFT_CLOCK_START_COUNT = "1/0152153389.07281"
SPACECRAFT_CLOCK_STOP_COUNT = "1/0152153660.54422"
START_TIME = 2008-02-27T00:50:28.015Z
STOP_TIME = 2008-02-27T00:53:52.002Z
/* ORBITAL DATA ELEMENTS */
ASCENDING_NODE_LONGITUDE = 117.2
MAXIMUM_RESOLUTION = 13.5
FOOTPRINT_POINT_LATITUDE = (51.8221,51.8016,51.7781,51.3206, 51.0609,50.801,50.5408,50.2805,50.0201, 49.7594,49.4986,49.2376,48.9764,48.7151 ,48.4536,48.192,47.9302,47.5373,47.2752 ,47.0129,46.6194,46.3568,46.0942, 45.8314,45.5685,45.174,44.9109,44.6477, 44.3844,44.121,43.8575,43.594,43.3304, 42.9349,42.6711,42.4073,42.1435,41.8796 ,41.6156,41.3517,41.0877,40.8236, 40.4276,40.0314,39.7674,39.5033,39.2392 ,38.9751,38.711,38.5896,38.6012,38.7396 ,39.0043,39.2689,39.5337,39.9307, 40.3279,40.5927,40.8575,41.1222,41.3868 ,41.6515,42.0482,42.3129,42.5773,42.842 ,43.1064,43.3708,43.6351,43.8995, 44.1637,44.4278,44.692,44.956,45.3519, 45.6157,45.8794,46.1431,46.4067,46.6703 ,46.9336,47.1969,47.46,47.7231,47.986, 48.2488,48.5115,48.774,49.0364,49.2987, 49.5608,49.8228,50.0846,50.3463,50.6078 ,50.8692,51.1303,51.3914,51.6819, 51.8221)
FOOTPRINT_POINT_LONGITUDE = (52.0591,51.4794,50.8966,50.6391, 50.6724,50.7054,50.7376,50.7691,50.8, 50.8307,50.8617,50.8905,50.9213,50.9467 ,50.9755,51.0014,51.0281,51.0711, 51.0941,51.118,51.1579,51.1801,51.2049, 51.2271,51.2491,51.2809,51.3001,51.3212 ,51.3416,51.363,51.3844,51.4006,51.4193 ,51.4458,51.4626,51.48,51.4975,51.5141, 51.5288,51.5463,51.5592,51.5769,51.5994 ,51.6205,51.6352,51.654,51.6678,51.6803 ,51.6933,52.3021,52.8698,53.215,53.208, 53.2008,53.1944,53.1827,53.1726,53.166, 53.1589,53.1514,53.1432,53.1349,53.1211 ,53.1136,53.1033,53.0964,53.0875,53.078 ,53.0689,53.0599,53.0503,53.0402,53.031 ,53.0206,53.0056,52.995,52.9846,52.9744 ,52.9644,52.9541,52.9431,52.9315, 52.9201,52.9088,52.8972,52.8854,52.8733 ,52.8611,52.8482,52.8358,52.8229, 52.8098,52.7964,52.7828,52.7691,52.7551 ,52.7409,52.7263,52.71,52.0591)
ORBIT_NUMBER = 5335
ORBITAL_ECCENTRICITY = 0.571
ORBITAL_INCLINATION = 86.74
ORBITAL_SEMIMAJOR_AXIS = 8693.34
PERIAPSIS_ALTITUDE = 339.05
PERIAPSIS_ARGUMENT_ANGLE = 139.76
PERIAPSIS_TIME = 2008-02-27T00:53:28.000Z
SPACECRAFT_ORIENTATION = (0.0,-1.0,0.0)
^MEX_ORIENTATION_DESC = "MEX_ORIENTATION_DESC.TXT"
SPACECRAFT_POINTING_MODE = ACROSSTRACK
^MEX_POINTING_DESC = "MEX_POINTING_DESC.TXT"
RIGHT_ASCENSION = -1e+32
DECLINATION = -1e+32
OFFSET_ANGLE = -0.269
SPACECRAFT_SOLAR_DISTANCE = 2.45014e+08
TARGET_NAME = MARS
/* CAMERA DATA ELEMENTS */
DETECTOR_TEMPERATURE = 17.9627
FOCAL_PLANE_TEMPERATURE = 7.9716
INST_CMPRS_NAME = "DISCRETE COSINE TRANSFORMATION (DCT)"
INST_CMPRS_RATIO = 6.87842
INST_CMPRS_QUALITY = 0
INST_CMPRS_QUANTZ_TBL_ID = 0
INSTRUMENT_TEMPERATURE = 10.8262
LENS_TEMPERATURE = 8.5833
MACROPIXEL_SIZE = 1
MISSING_FRAMES = 0
PIXEL_SUBSAMPLING_FLAG = N
SIGNAL_CHAIN_ID = 0
/* RADIOMETRIC DATA ELEMENTS */
BANDWIDTH = 177.0
CENTER_FILTER_WAVELENGTH = 677.5
RADIANCE_OFFSET = 3.40271
RADIANCE_SCALING_FACTOR = 0.0241572
REFLECTANCE_SCALING_FACTOR = 0.000770391
MEX:REFLECTANCE_OFFSET = 0.108515
/* IMAGE OBJECT DEFINITIONS */
OBJECT = IMAGE
  INTERCHANGE_FORMAT = BINARY
  LINES = 62908
  LINE_SAMPLES = 8687
  SAMPLE_TYPE = UNSIGNED_INTEGER
  SAMPLE_BITS = 8
  BANDS = 1
  BAND_STORAGE_TYPE = BAND_SEQUENTIAL
  MAXIMUM = 255
  MEAN = 138.061
  MINIMUM = 1
  STANDARD_DEVIATION = 24.8462
END_OBJECT = IMAGE
/* MAP OBJECT DEFINITIONS */
OBJECT = IMAGE_MAP_PROJECTION
  ^DATA_SET_MAP_PROJECTION_CATALOG= "DSMAP.CAT"
  A_AXIS_RADIUS = 3396.0
  B_AXIS_RADIUS = 3396.0
  C_AXIS_RADIUS = 3396.0
  CENTER_LATITUDE = 0.0
  CENTER_LONGITUDE = 52.0
  COORDINATE_SYSTEM_NAME = PLANETOGRAPHIC
  COORDINATE_SYSTEM_TYPE = "BODY-FIXED ROTATING"
  EASTERNMOST_LONGITUDE = 53.215
  FIRST_STANDARD_PARALLEL = "N/A"
  LINE_FIRST_PIXEL = 1
  LINE_LAST_PIXEL = 62908
  LINE_PROJECTION_OFFSET = 245825.0
  MAP_PROJECTION_ROTATION = 0.0
  MAP_PROJECTION_TYPE = SINUSOIDAL
  MAP_RESOLUTION = 4741.71043093333
  MAP_SCALE = 0.0125
  MAXIMUM_LATITUDE = 51.8221
  MINIMUM_LATITUDE = 38.5896
  POSITIVE_LONGITUDE_DIRECTION = EAST
  REFERENCE_LATITUDE = "N/A"
  REFERENCE_LONGITUDE = "N/A"
  SAMPLE_FIRST_PIXEL = 1
  SAMPLE_LAST_PIXEL = 8687
  SAMPLE_PROJECTION_OFFSET = 4155.0
  SECOND_STANDARD_PARALLEL = "N/A"
  WESTERNMOST_LONGITUDE = 50.6391
END_OBJECT = IMAGE_MAP_PROJECTION
/* The JPEG2000 image data file associated with this label. */
OBJECT = COMPRESSED_FILE
  FILE_NAME = "H5335_0000_ND3.JP2"
  RECORD_TYPE = UNDEFINED
  FILE_RECORDS = UNK
  ENCODING_TYPE = "JP2"
  INTERCHANGE_FORMAT = BINARY
  UNCOMPRESSED_FILE_NAME = "H5335_0000_ND3.IMG"
  REQUIRED_STORAGE_BYTES = "546516544"
  ^DESCRIPTION = "JP2INFO.TXT"
END_OBJECT = COMPRESSED_FILE
END
