PDS_VERSION_ID = PDS3
/* FILE DATA ELEMENTS */
RECORD_TYPE = STREAM
/* POINTERS TO DATA OBJECTS */
^COMPRESSED_FILE = "H5336_0000_ND3.JP2"
/* IDENTIFICATION DATA ELEMENTS */
DATA_SET_ID = "MEX-M-HRSC-5-REFDR-MAPPROJECTED-V3.0"
DATA_SET_NAME = "MARS EXPRESS HRSC MAP PROJECTED REFDR V3.0"
DETECTOR_ID = MEX_HRSC_NADIR
EVENT_TYPE = "MARS-REGIONAL-MAPPING-Lc-Pf"
INSTRUMENT_HOST_ID = MEX
INSTRUMENT_HOST_NAME = "MARS EXPRESS"
INSTRUMENT_ID = HRSC
INSTRUMENT_NAME = "HIGH RESOLUTION STEREO CAMERA"
MISSION_NAME = "MARS EXPRESS"
MISSION_PHASE_NAME = ME_Phase_11
PROCESSING_LEVEL_ID = 3
PRODUCT_CREATION_TIME = 2016-05-14T01:01:03.000Z
PRODUCT_ID = "H5336_0000_ND3.JP2"
RELEASE_ID = 0061
REVISION_ID = 0000
/* QUALITY DATA ELEMENTS */
DATA_QUALITY_ID = 2
DATA_QUALITY_DESC = "Data calculated based on photogrammetrically improved orbit and attitude data"
/* TIME DATA ELEMENTS */
SPACECRAFT_CLOCK_START_COUNT = "1/0152177960.08248"
SPACECRAFT_CLOCK_STOP_COUNT = "1/0152178427.48494"
START_TIME = 2008-02-27T07:40:01.903Z
STOP_TIME = 2008-02-27T07:46:35.896Z
/* ORBITAL DATA ELEMENTS */
ASCENDING_NODE_LONGITUDE = 117.18
MAXIMUM_RESOLUTION = 13.7
FOOTPRINT_POINT_LATITUDE = (55.6729,55.63,55.0527,54.4742,53.8944, 53.3134,52.7313,52.148,51.3126,50.3306, 49.8386,49.346,48.8529,48.3592,47.865, 47.3703,46.8752,46.3796,45.8836,45.3873 ,44.8906,44.3937,43.8964,43.3989, 42.9012,42.4033,41.9052,41.407,40.9087, 40.1611,39.6627,39.1643,38.6659,38.1676 ,37.6693,37.1712,36.6732,36.1754, 35.6778,35.1804,34.6833,34.1865,33.69, 33.1939,32.6981,32.2028,31.7078,31.2133 ,30.7193,30.2181,30.2271,30.7213, 31.2161,31.7114,32.2072,32.7034,33.2, 33.697,34.1944,34.6921,35.1901,35.6884, 36.187,36.6857,37.1847,37.6838,38.1831, 38.6825,39.182,39.6816,40.4309,40.9305, 41.43,41.9295,42.4289,42.9282,43.4273, 43.9262,44.4249,44.9234,45.4216,45.9196 ,46.4172,46.9145,47.4114,47.908,48.4041 ,48.8997,49.3949,49.8896,50.3837, 51.3704,52.207,52.7933,53.3787,53.9631, 54.5464,55.1286,55.7097,55.6729)
FOOTPRINT_POINT_LONGITUDE = (311.013,310.04,310.14,310.236,310.329, 310.417,310.502,310.583,310.693,310.813 ,310.87,310.925,310.978,311.029,311.078 ,311.126,311.171,311.215,311.257, 311.298,311.337,311.375,311.411,311.445 ,311.479,311.511,311.541,311.571, 311.599,311.639,311.664,311.688,311.711 ,311.733,311.754,311.774,311.793, 311.811,311.828,311.844,311.859,311.873 ,311.886,311.899,311.911,311.922, 311.932,311.941,311.95,312.495,313.425, 313.416,313.408,313.399,313.391,313.382 ,313.372,313.363,313.353,313.343, 313.333,313.322,313.312,313.301,313.289 ,313.278,313.266,313.253,313.241, 313.228,313.208,313.194,313.179,313.165 ,313.15,313.134,313.118,313.101,313.084 ,313.067,313.049,313.03,313.011,312.991 ,312.971,312.95,312.928,312.906,312.883 ,312.859,312.835,312.784,312.738, 312.704,312.669,312.633,312.595,312.555 ,312.514,311.013)
ORBIT_NUMBER = 5336
ORBITAL_ECCENTRICITY = 0.571
ORBITAL_INCLINATION = 86.74
ORBITAL_SEMIMAJOR_AXIS = 8686.09
PERIAPSIS_ALTITUDE = 339.5
PERIAPSIS_ARGUMENT_ANGLE = 139.59
PERIAPSIS_TIME = 2008-02-27T07:44:00.000Z
SPACECRAFT_ORIENTATION = (0.0,-1.0,0.0)
^MEX_ORIENTATION_DESC = "MEX_ORIENTATION_DESC.TXT"
SPACECRAFT_POINTING_MODE = ACROSSTRACK
^MEX_POINTING_DESC = "MEX_POINTING_DESC.TXT"
RIGHT_ASCENSION = -1e+32
DECLINATION = -1e+32
OFFSET_ANGLE = -0.2
SPACECRAFT_SOLAR_DISTANCE = 2.45045e+08
TARGET_NAME = MARS
/* CAMERA DATA ELEMENTS */
DETECTOR_TEMPERATURE = 18.1666
FOCAL_PLANE_TEMPERATURE = 8.5833
INST_CMPRS_NAME = "DISCRETE COSINE TRANSFORMATION (DCT)"
INST_CMPRS_RATIO = 6.59252
INST_CMPRS_QUALITY = 0
INST_CMPRS_QUANTZ_TBL_ID = 0
INSTRUMENT_TEMPERATURE = 11.0301
LENS_TEMPERATURE = 8.9911
MACROPIXEL_SIZE = 1
MISSING_FRAMES = 0
PIXEL_SUBSAMPLING_FLAG = N
SIGNAL_CHAIN_ID = 0
/* RADIOMETRIC DATA ELEMENTS */
BANDWIDTH = 177.0
CENTER_FILTER_WAVELENGTH = 677.5
RADIANCE_OFFSET = 2.05336
RADIANCE_SCALING_FACTOR = 0.0190956
REFLECTANCE_SCALING_FACTOR = 0.000609129
MEX:REFLECTANCE_OFFSET = 0.0654997
/* IMAGE OBJECT DEFINITIONS */
OBJECT = IMAGE
  INTERCHANGE_FORMAT = BINARY
  LINES = 120987
  LINE_SAMPLES = 11127
  SAMPLE_TYPE = UNSIGNED_INTEGER
  SAMPLE_BITS = 8
  BANDS = 1
  BAND_STORAGE_TYPE = BAND_SEQUENTIAL
  MAXIMUM = 255
  MEAN = 122.348
  MINIMUM = 1
  STANDARD_DEVIATION = 55.4208
END_OBJECT = IMAGE
/* MAP OBJECT DEFINITIONS */
OBJECT = IMAGE_MAP_PROJECTION
  ^DATA_SET_MAP_PROJECTION_CATALOG= "DSMAP.CAT"
  A_AXIS_RADIUS = 3396.0
  B_AXIS_RADIUS = 3396.0
  C_AXIS_RADIUS = 3396.0
  CENTER_LATITUDE = 0.0
  CENTER_LONGITUDE = 312.0
  COORDINATE_SYSTEM_NAME = PLANETOGRAPHIC
  COORDINATE_SYSTEM_TYPE = "BODY-FIXED ROTATING"
  EASTERNMOST_LONGITUDE = 313.425
  FIRST_STANDARD_PARALLEL = "N/A"
  LINE_FIRST_PIXEL = 1
  LINE_LAST_PIXEL = 120987
  LINE_PROJECTION_OFFSET = 264243.0
  MAP_PROJECTION_ROTATION = 0.0
  MAP_PROJECTION_TYPE = SINUSOIDAL
  MAP_RESOLUTION = 4741.71043093333
  MAP_SCALE = 0.0125
  MAXIMUM_LATITUDE = 55.7097
  MINIMUM_LATITUDE = 30.2181
  POSITIVE_LONGITUDE_DIRECTION = EAST
  REFERENCE_LATITUDE = "N/A"
  REFERENCE_LONGITUDE = "N/A"
  SAMPLE_FIRST_PIXEL = 1
  SAMPLE_LAST_PIXEL = 11127
  SAMPLE_PROJECTION_OFFSET = 5239.0
  SECOND_STANDARD_PARALLEL = "N/A"
  WESTERNMOST_LONGITUDE = 310.04
END_OBJECT = IMAGE_MAP_PROJECTION
/* The JPEG2000 image data file associated with this label. */
OBJECT = COMPRESSED_FILE
  FILE_NAME = "H5336_0000_ND3.JP2"
  RECORD_TYPE = UNDEFINED
  FILE_RECORDS = UNK
  ENCODING_TYPE = "JP2"
  INTERCHANGE_FORMAT = BINARY
  UNCOMPRESSED_FILE_NAME = "H5336_0000_ND3.IMG"
  REQUIRED_STORAGE_BYTES = "1346255730"
  ^DESCRIPTION = "JP2INFO.TXT"
END_OBJECT = COMPRESSED_FILE
END
