PDS_VERSION_ID = PDS3
/* FILE DATA ELEMENTS */
RECORD_TYPE = STREAM
/* POINTERS TO DATA OBJECTS */
^COMPRESSED_FILE = "H5337_0000_ND3.JP2"
/* IDENTIFICATION DATA ELEMENTS */
DATA_SET_ID = "MEX-M-HRSC-5-REFDR-MAPPROJECTED-V3.0"
DATA_SET_NAME = "MARS EXPRESS HRSC MAP PROJECTED REFDR V3.0"
DETECTOR_ID = MEX_HRSC_NADIR
EVENT_TYPE = "MARS-REGIONAL-MAPPING-Vo-Te-Mw"
INSTRUMENT_HOST_ID = MEX
INSTRUMENT_HOST_NAME = "MARS EXPRESS"
INSTRUMENT_ID = HRSC
INSTRUMENT_NAME = "HIGH RESOLUTION STEREO CAMERA"
MISSION_NAME = "MARS EXPRESS"
MISSION_PHASE_NAME = ME_Phase_11
PROCESSING_LEVEL_ID = 3
PRODUCT_CREATION_TIME = 2016-05-14T01:01:03.000Z
PRODUCT_ID = "H5337_0000_ND3.JP2"
RELEASE_ID = 0061
REVISION_ID = 0000
/* QUALITY DATA ELEMENTS */
DATA_QUALITY_ID = 1
DATA_QUALITY_DESC = "Data calculated based on original SPICE kernels"
/* TIME DATA ELEMENTS */
SPACECRAFT_CLOCK_START_COUNT = "1/0152203026.09067"
SPACECRAFT_CLOCK_STOP_COUNT = "1/0152203363.30956"
START_TIME = 2008-02-27T14:37:42.528Z
STOP_TIME = 2008-02-27T14:41:51.548Z
/* ORBITAL DATA ELEMENTS */
ASCENDING_NODE_LONGITUDE = 117.16
MAXIMUM_RESOLUTION = 14.8
FOOTPRINT_POINT_LATITUDE = (27.8611,27.8591,27.8563,27.5519, 27.2335,26.9155,26.5977,26.2802,25.9631 ,25.6463,25.3298,25.0137,24.698,24.3825 ,24.0674,23.7528,23.4385,23.1245, 22.8109,22.4977,22.1849,21.8726,21.5606 ,21.2491,20.9379,20.6272,20.317,20.0071 ,19.6977,19.3888,19.0803,18.7722, 18.4646,18.1575,17.8509,17.5448,17.2391 ,16.9339,16.6292,16.3251,16.0214, 15.7182,15.4156,15.1135,14.8119,14.2103 ,13.6108,13.0135,12.4184,12.4036, 12.3996,12.3957,12.3899,12.986,13.5843, 14.1847,14.7872,15.0893,15.3919,15.695, 15.9986,16.3028,16.6074,16.9125,17.2181 ,17.5242,17.8308,18.1379,18.4454, 18.7534,19.0619,19.3708,19.6802,19.99, 20.3002,20.6109,20.9221,21.2336,21.5456 ,21.858,22.1708,22.484,22.7976,23.1115, 23.4259,23.7406,24.0558,24.3712,24.6871 ,25.0033,25.3198,25.6367,25.9539, 26.2714,26.5893,26.9075,27.226,27.5448, 27.8515,27.8611)
FOOTPRINT_POINT_LONGITUDE = (213.608,213.151,212.702,212.703, 212.702,212.702,212.702,212.701,212.7, 212.699,212.697,212.696,212.694,212.692 ,212.69,212.687,212.684,212.682,212.679 ,212.675,212.672,212.668,212.664, 212.661,212.657,212.652,212.648,212.643 ,212.639,212.633,212.628,212.623, 212.618,212.612,212.606,212.6,212.594, 212.588,212.582,212.575,212.568,212.562 ,212.554,212.547,212.54,212.524,212.509 ,212.493,212.476,212.917,213.379, 213.773,214.286,214.282,214.277,214.272 ,214.267,214.265,214.262,214.26,214.258 ,214.256,214.254,214.252,214.25,214.247 ,214.245,214.243,214.241,214.239, 214.238,214.236,214.234,214.23,214.228, 214.225,214.224,214.222,214.221,214.218 ,214.215,214.214,214.212,214.209, 214.206,214.205,214.204,214.202,214.201 ,214.199,214.196,214.193,214.192, 214.189,214.187,214.186,214.184,214.182 ,214.18,213.608)
ORBIT_NUMBER = 5337
ORBITAL_ECCENTRICITY = 0.571
ORBITAL_INCLINATION = 86.75
ORBITAL_SEMIMAJOR_AXIS = 8687.51
PERIAPSIS_ALTITUDE = 339.17
PERIAPSIS_ARGUMENT_ANGLE = 139.38
PERIAPSIS_TIME = 2008-02-27T14:34:26.000Z
SPACECRAFT_ORIENTATION = (0.0,-1.0,0.0)
^MEX_ORIENTATION_DESC = "MEX_ORIENTATION_DESC.TXT"
SPACECRAFT_POINTING_MODE = ACROSSTRACK
^MEX_POINTING_DESC = "MEX_POINTING_DESC.TXT"
RIGHT_ASCENSION = -1e+32
DECLINATION = -1e+32
OFFSET_ANGLE = 0.45
SPACECRAFT_SOLAR_DISTANCE = 2.45075e+08
TARGET_NAME = MARS
/* CAMERA DATA ELEMENTS */
DETECTOR_TEMPERATURE = 18.3705
FOCAL_PLANE_TEMPERATURE = 8.3794
INST_CMPRS_NAME = "DISCRETE COSINE TRANSFORMATION (DCT)"
INST_CMPRS_RATIO = 6.25277
INST_CMPRS_QUALITY = 0
INST_CMPRS_QUANTZ_TBL_ID = 0
INSTRUMENT_TEMPERATURE = 11.0301
LENS_TEMPERATURE = 8.7872
MACROPIXEL_SIZE = 1
MISSING_FRAMES = 0
PIXEL_SUBSAMPLING_FLAG = N
SIGNAL_CHAIN_ID = 0
/* RADIOMETRIC DATA ELEMENTS */
BANDWIDTH = 177.0
CENTER_FILTER_WAVELENGTH = 677.5
RADIANCE_OFFSET = 5.33873
RADIANCE_SCALING_FACTOR = 0.0218565
REFLECTANCE_SCALING_FACTOR = 0.000697371
MEX:REFLECTANCE_OFFSET = 0.170342
/* IMAGE OBJECT DEFINITIONS */
OBJECT = IMAGE
  INTERCHANGE_FORMAT = BINARY
  LINES = 73364
  LINE_SAMPLES = 8710
  SAMPLE_TYPE = UNSIGNED_INTEGER
  SAMPLE_BITS = 8
  BANDS = 1
  BAND_STORAGE_TYPE = BAND_SEQUENTIAL
  MAXIMUM = 255
  MEAN = 140.32
  MINIMUM = 1
  STANDARD_DEVIATION = 26.3548
END_OBJECT = IMAGE
/* MAP OBJECT DEFINITIONS */
OBJECT = IMAGE_MAP_PROJECTION
  ^DATA_SET_MAP_PROJECTION_CATALOG= "DSMAP.CAT"
  A_AXIS_RADIUS = 3396.0
  B_AXIS_RADIUS = 3396.0
  C_AXIS_RADIUS = 3396.0
  CENTER_LATITUDE = 0.0
  CENTER_LONGITUDE = 213.0
  COORDINATE_SYSTEM_NAME = PLANETOGRAPHIC
  COORDINATE_SYSTEM_TYPE = "BODY-FIXED ROTATING"
  EASTERNMOST_LONGITUDE = 214.286
  FIRST_STANDARD_PARALLEL = "N/A"
  LINE_FIRST_PIXEL = 1
  LINE_LAST_PIXEL = 73364
  LINE_PROJECTION_OFFSET = 132111.0
  MAP_PROJECTION_ROTATION = 0.0
  MAP_PROJECTION_TYPE = SINUSOIDAL
  MAP_RESOLUTION = 4741.71043093333
  MAP_SCALE = 0.0125
  MAXIMUM_LATITUDE = 27.8611
  MINIMUM_LATITUDE = 12.3899
  POSITIVE_LONGITUDE_DIRECTION = EAST
  REFERENCE_LATITUDE = "N/A"
  REFERENCE_LONGITUDE = "N/A"
  SAMPLE_FIRST_PIXEL = 1
  SAMPLE_LAST_PIXEL = 8710
  SAMPLE_PROJECTION_OFFSET = 2501.0
  SECOND_STANDARD_PARALLEL = "N/A"
  WESTERNMOST_LONGITUDE = 212.476
END_OBJECT = IMAGE_MAP_PROJECTION
/* The JPEG2000 image data file associated with this label. */
OBJECT = COMPRESSED_FILE
  FILE_NAME = "H5337_0000_ND3.JP2"
  RECORD_TYPE = UNDEFINED
  FILE_RECORDS = UNK
  ENCODING_TYPE = "JP2"
  INTERCHANGE_FORMAT = BINARY
  UNCOMPRESSED_FILE_NAME = "H5337_0000_ND3.IMG"
  REQUIRED_STORAGE_BYTES = "639035280"
  ^DESCRIPTION = "JP2INFO.TXT"
END_OBJECT = COMPRESSED_FILE
END
