PDS_VERSION_ID = PDS3
/* FILE DATA ELEMENTS */
RECORD_TYPE = STREAM
/* POINTERS TO DATA OBJECTS */
^COMPRESSED_FILE = "H5337_0000_RE3.JP2"
/* IDENTIFICATION DATA ELEMENTS */
DATA_SET_ID = "MEX-M-HRSC-5-REFDR-MAPPROJECTED-V3.0"
DATA_SET_NAME = "MARS EXPRESS HRSC MAP PROJECTED REFDR V3.0"
DETECTOR_ID = MEX_HRSC_RED
EVENT_TYPE = "MARS-REGIONAL-MAPPING-Vo-Te-Mw"
INSTRUMENT_HOST_ID = MEX
INSTRUMENT_HOST_NAME = "MARS EXPRESS"
INSTRUMENT_ID = HRSC
INSTRUMENT_NAME = "HIGH RESOLUTION STEREO CAMERA"
MISSION_NAME = "MARS EXPRESS"
MISSION_PHASE_NAME = ME_Phase_11
PROCESSING_LEVEL_ID = 3
PRODUCT_CREATION_TIME = 2016-05-14T01:01:03.000Z
PRODUCT_ID = "H5337_0000_RE3.JP2"
RELEASE_ID = 0061
REVISION_ID = 0000
/* QUALITY DATA ELEMENTS */
DATA_QUALITY_ID = 1
DATA_QUALITY_DESC = "Data calculated based on original SPICE kernels"
/* TIME DATA ELEMENTS */
SPACECRAFT_CLOCK_START_COUNT = "1/0152203026.09067"
SPACECRAFT_CLOCK_STOP_COUNT = "1/0152203363.30956"
START_TIME = 2008-02-27T14:38:11.464Z
STOP_TIME = 2008-02-27T14:42:35.142Z
/* ORBITAL DATA ELEMENTS */
ASCENDING_NODE_LONGITUDE = 117.16
MAXIMUM_RESOLUTION = 127.9
FOOTPRINT_POINT_LATITUDE = (27.8384,27.8285,27.8183,27.3637,26.879 ,26.5558,26.2342,25.9134,25.4332,25.114 ,24.7971,24.4779,24.1604,23.8457, 23.5318,23.2158,22.8996,22.431,22.1184, 21.806,21.4953,21.1836,20.8742,20.5647, 20.2567,19.7944,19.4875,19.1822,18.8754 ,18.5715,18.2679,17.9647,17.6633, 17.3618,17.0616,16.7619,16.4628,16.1649 ,15.8677,15.5722,15.2776,14.8358, 14.5432,14.2508,13.9589,13.6676,13.3773 ,13.0878,12.7991,12.5112,12.4251, 12.4271,12.4283,12.4305,12.5791,12.8679 ,13.1569,13.4464,13.7369,14.028,14.3205 ,14.6135,14.9073,15.2018,15.4968, 15.7935,16.2414,16.5402,16.8396,17.1397 ,17.4405,17.7417,18.0443,18.3478, 18.6518,18.9576,19.264,19.5705,19.8752, 20.3369,20.6441,20.9546,21.2651,21.579, 21.8891,22.3574,22.6718,23.1418,23.4564 ,23.7732,24.2504,24.5707,25.0483, 25.3652,25.8478,26.328,26.8103,27.1347, 27.6218,27.8384)
FOOTPRINT_POINT_LONGITUDE = (213.76,213.313,212.871,212.694,212.692 ,212.691,212.69,212.688,212.686,212.683 ,212.681,212.678,212.676,212.673, 212.669,212.666,212.662,212.656,212.652 ,212.648,212.644,212.639,212.634, 212.629,212.624,212.616,212.611,212.605 ,212.599,212.593,212.587,212.58,212.574 ,212.567,212.56,212.553,212.546,212.538 ,212.531,212.523,212.515,212.503, 212.495,212.486,212.478,212.469,212.461 ,212.452,212.443,212.434,212.751, 213.254,213.543,213.96,214.355,214.351, 214.348,214.344,214.341,214.337,214.334 ,214.33,214.327,214.323,214.32,214.316, 214.313,214.31,214.307,214.303,214.3, 214.297,214.294,214.291,214.288,214.286 ,214.283,214.281,214.276,214.272, 214.268,214.265,214.263,214.262,214.258 ,214.253,214.251,214.245,214.242,214.24 ,214.237,214.236,214.231,214.227, 214.224,214.219,214.214,214.213,214.209 ,213.76)
ORBIT_NUMBER = 5337
ORBITAL_ECCENTRICITY = 0.571
ORBITAL_INCLINATION = 86.75
ORBITAL_SEMIMAJOR_AXIS = 8687.51
PERIAPSIS_ALTITUDE = 339.17
PERIAPSIS_ARGUMENT_ANGLE = 139.38
PERIAPSIS_TIME = 2008-02-27T14:34:26.000Z
SPACECRAFT_ORIENTATION = (0.0,-1.0,0.0)
^MEX_ORIENTATION_DESC = "MEX_ORIENTATION_DESC.TXT"
SPACECRAFT_POINTING_MODE = ACROSSTRACK
^MEX_POINTING_DESC = "MEX_POINTING_DESC.TXT"
RIGHT_ASCENSION = -1e+32
DECLINATION = -1e+32
OFFSET_ANGLE = 0.45
SPACECRAFT_SOLAR_DISTANCE = 2.45075e+08
TARGET_NAME = MARS
/* CAMERA DATA ELEMENTS */
DETECTOR_TEMPERATURE = 18.3705
FOCAL_PLANE_TEMPERATURE = 8.3794
INST_CMPRS_NAME = "DISCRETE COSINE TRANSFORMATION (DCT)"
INST_CMPRS_RATIO = 6.20889
INST_CMPRS_QUALITY = 0
INST_CMPRS_QUANTZ_TBL_ID = 0
INSTRUMENT_TEMPERATURE = 11.0301
LENS_TEMPERATURE = 8.7872
MACROPIXEL_SIZE = 8
MISSING_FRAMES = 0
PIXEL_SUBSAMPLING_FLAG = N
SIGNAL_CHAIN_ID = 2
/* RADIOMETRIC DATA ELEMENTS */
BANDWIDTH = 48.0
CENTER_FILTER_WAVELENGTH = 748.0
RADIANCE_OFFSET = 1.75901
RADIANCE_SCALING_FACTOR = 0.00536516
REFLECTANCE_SCALING_FACTOR = 0.000735376
MEX:REFLECTANCE_OFFSET = 0.241098
/* IMAGE OBJECT DEFINITIONS */
OBJECT = IMAGE
  INTERCHANGE_FORMAT = BINARY
  LINES = 9171
  LINE_SAMPLES = 1089
  SAMPLE_TYPE = UNSIGNED_INTEGER
  SAMPLE_BITS = 8
  BANDS = 1
  BAND_STORAGE_TYPE = BAND_SEQUENTIAL
  MAXIMUM = 255
  MEAN = 140.135
  MINIMUM = 1
  STANDARD_DEVIATION = 27.9177
END_OBJECT = IMAGE
/* MAP OBJECT DEFINITIONS */
OBJECT = IMAGE_MAP_PROJECTION
  ^DATA_SET_MAP_PROJECTION_CATALOG= "DSMAP.CAT"
  A_AXIS_RADIUS = 3396.0
  B_AXIS_RADIUS = 3396.0
  C_AXIS_RADIUS = 3396.0
  CENTER_LATITUDE = 0.0
  CENTER_LONGITUDE = 213.0
  COORDINATE_SYSTEM_NAME = PLANETOGRAPHIC
  COORDINATE_SYSTEM_TYPE = "BODY-FIXED ROTATING"
  EASTERNMOST_LONGITUDE = 214.355
  FIRST_STANDARD_PARALLEL = "N/A"
  LINE_FIRST_PIXEL = 1
  LINE_LAST_PIXEL = 9171
  LINE_PROJECTION_OFFSET = 16513.4375
  MAP_PROJECTION_ROTATION = 0.0
  MAP_PROJECTION_TYPE = SINUSOIDAL
  MAP_RESOLUTION = 592.713803866667
  MAP_SCALE = 0.1
  MAXIMUM_LATITUDE = 27.8384
  MINIMUM_LATITUDE = 12.4251
  POSITIVE_LONGITUDE_DIRECTION = EAST
  REFERENCE_LATITUDE = "N/A"
  REFERENCE_LONGITUDE = "N/A"
  SAMPLE_FIRST_PIXEL = 1
  SAMPLE_LAST_PIXEL = 1089
  SAMPLE_PROJECTION_OFFSET = 312.1875
  SECOND_STANDARD_PARALLEL = "N/A"
  WESTERNMOST_LONGITUDE = 212.434
END_OBJECT = IMAGE_MAP_PROJECTION
/* The JPEG2000 image data file associated with this label. */
OBJECT = COMPRESSED_FILE
  FILE_NAME = "H5337_0000_RE3.JP2"
  RECORD_TYPE = UNDEFINED
  FILE_RECORDS = UNK
  ENCODING_TYPE = "JP2"
  INTERCHANGE_FORMAT = BINARY
  UNCOMPRESSED_FILE_NAME = "H5337_0000_RE3.IMG"
  REQUIRED_STORAGE_BYTES = "10005732"
  ^DESCRIPTION = "JP2INFO.TXT"
END_OBJECT = COMPRESSED_FILE
END
