PDS_VERSION_ID = PDS3
/* FILE DATA ELEMENTS */
RECORD_TYPE = STREAM
/* POINTERS TO DATA OBJECTS */
^COMPRESSED_FILE = "H5337_0000_S23.JP2"
/* IDENTIFICATION DATA ELEMENTS */
DATA_SET_ID = "MEX-M-HRSC-5-REFDR-MAPPROJECTED-V3.0"
DATA_SET_NAME = "MARS EXPRESS HRSC MAP PROJECTED REFDR V3.0"
DETECTOR_ID = MEX_HRSC_S2
EVENT_TYPE = "MARS-REGIONAL-MAPPING-Vo-Te-Mw"
INSTRUMENT_HOST_ID = MEX
INSTRUMENT_HOST_NAME = "MARS EXPRESS"
INSTRUMENT_ID = HRSC
INSTRUMENT_NAME = "HIGH RESOLUTION STEREO CAMERA"
MISSION_NAME = "MARS EXPRESS"
MISSION_PHASE_NAME = ME_Phase_11
PROCESSING_LEVEL_ID = 3
PRODUCT_CREATION_TIME = 2016-05-14T01:01:03.000Z
PRODUCT_ID = "H5337_0000_S23.JP2"
RELEASE_ID = 0061
REVISION_ID = 0000
/* QUALITY DATA ELEMENTS */
DATA_QUALITY_ID = 1
DATA_QUALITY_DESC = "Data calculated based on original SPICE kernels"
/* TIME DATA ELEMENTS */
SPACECRAFT_CLOCK_START_COUNT = "1/0152203026.09067"
SPACECRAFT_CLOCK_STOP_COUNT = "1/0152203363.30956"
START_TIME = 2008-02-27T14:38:17.664Z
STOP_TIME = 2008-02-27T14:42:45.282Z
/* ORBITAL DATA ELEMENTS */
ASCENDING_NODE_LONGITUDE = 117.16
MAXIMUM_RESOLUTION = 32.8
FOOTPRINT_POINT_LATITUDE = (27.839,27.833,27.8269,27.8208,27.8146, 27.6907,27.3629,26.8718,26.3828,25.8952 ,25.5718,25.2493,24.7664,24.4454,23.966 ,23.4912,23.1731,22.8541,22.5386, 22.0651,21.7503,21.4374,21.1233,20.8118 ,20.3455,20.0341,19.7248,19.2632, 18.9543,18.4958,18.1897,17.8858,17.5832 ,17.1298,16.8292,16.3786,16.08,15.7824, 15.4857,15.1912,14.8961,14.6028,14.31, 13.8715,13.5802,13.2899,13.0005,12.712, 12.4246,12.424,12.4255,12.4275,12.4295, 12.433,12.4366,12.8708,13.1596,13.5947, 13.8851,14.1776,14.4707,14.7648,15.0595 ,15.3545,15.8004,16.2501,16.5493, 16.8506,17.1515,17.4537,17.7563,18.2129 ,18.5181,18.8244,19.2872,19.5957,19.9, 20.2105,20.6754,21.1458,21.4606,21.9309 ,22.2443,22.5626,22.8762,23.1944, 23.5118,23.834,24.1541,24.4753,24.9585, 25.2796,25.6019,25.929,26.4156,26.9047, 27.2337,27.5609,27.8892,27.839)
FOOTPRINT_POINT_LONGITUDE = (213.794,213.558,213.324,213.091, 212.859,212.676,212.675,212.674,212.672 ,212.669,212.667,212.665,212.661, 212.658,212.653,212.648,212.644,212.64, 212.636,212.63,212.625,212.62,212.615, 212.61,212.602,212.597,212.591,212.582, 212.576,212.566,212.56,212.553,212.546, 212.535,212.528,212.516,212.509,212.501 ,212.493,212.484,212.476,212.467, 212.458,212.445,212.436,212.427,212.418 ,212.408,212.399,212.607,212.911, 213.216,213.542,213.966,214.295,214.374 ,214.37,214.364,214.36,214.356,214.353, 214.349,214.345,214.341,214.336,214.332 ,214.328,214.325,214.321,214.318, 214.314,214.31,214.306,214.303,214.299, 214.296,214.291,214.288,214.282,214.279 ,214.277,214.271,214.267,214.266, 214.261,214.258,214.255,214.253,214.25, 214.248,214.244,214.24,214.236,214.235, 214.23,214.226,214.224,214.221,214.218, 213.794)
ORBIT_NUMBER = 5337
ORBITAL_ECCENTRICITY = 0.571
ORBITAL_INCLINATION = 86.75
ORBITAL_SEMIMAJOR_AXIS = 8687.51
PERIAPSIS_ALTITUDE = 339.17
PERIAPSIS_ARGUMENT_ANGLE = 139.38
PERIAPSIS_TIME = 2008-02-27T14:34:26.000Z
SPACECRAFT_ORIENTATION = (0.0,-1.0,0.0)
^MEX_ORIENTATION_DESC = "MEX_ORIENTATION_DESC.TXT"
SPACECRAFT_POINTING_MODE = ACROSSTRACK
^MEX_POINTING_DESC = "MEX_POINTING_DESC.TXT"
RIGHT_ASCENSION = -1e+32
DECLINATION = -1e+32
OFFSET_ANGLE = 0.45
SPACECRAFT_SOLAR_DISTANCE = 2.45075e+08
TARGET_NAME = MARS
/* CAMERA DATA ELEMENTS */
DETECTOR_TEMPERATURE = 18.3705
FOCAL_PLANE_TEMPERATURE = 8.3794
INST_CMPRS_NAME = "DISCRETE COSINE TRANSFORMATION (DCT)"
INST_CMPRS_RATIO = 7.43698
INST_CMPRS_QUALITY = 0
INST_CMPRS_QUANTZ_TBL_ID = 0
INSTRUMENT_TEMPERATURE = 11.0301
LENS_TEMPERATURE = 8.7872
MACROPIXEL_SIZE = 2
MISSING_FRAMES = 0
PIXEL_SUBSAMPLING_FLAG = N
SIGNAL_CHAIN_ID = 1
/* RADIOMETRIC DATA ELEMENTS */
BANDWIDTH = 178.0
CENTER_FILTER_WAVELENGTH = 679.0
RADIANCE_OFFSET = 6.16232
RADIANCE_SCALING_FACTOR = 0.019649
REFLECTANCE_SCALING_FACTOR = 0.000624984
MEX:REFLECTANCE_OFFSET = 0.196008
/* IMAGE OBJECT DEFINITIONS */
OBJECT = IMAGE
  INTERCHANGE_FORMAT = BINARY
  LINES = 36682
  LINE_SAMPLES = 4355
  SAMPLE_TYPE = UNSIGNED_INTEGER
  SAMPLE_BITS = 8
  BANDS = 1
  BAND_STORAGE_TYPE = BAND_SEQUENTIAL
  MAXIMUM = 255
  MEAN = 142.221
  MINIMUM = 1
  STANDARD_DEVIATION = 27.0495
END_OBJECT = IMAGE
/* MAP OBJECT DEFINITIONS */
OBJECT = IMAGE_MAP_PROJECTION
  ^DATA_SET_MAP_PROJECTION_CATALOG= "DSMAP.CAT"
  A_AXIS_RADIUS = 3396.0
  B_AXIS_RADIUS = 3396.0
  C_AXIS_RADIUS = 3396.0
  CENTER_LATITUDE = 0.0
  CENTER_LONGITUDE = 213.0
  COORDINATE_SYSTEM_NAME = PLANETOGRAPHIC
  COORDINATE_SYSTEM_TYPE = "BODY-FIXED ROTATING"
  EASTERNMOST_LONGITUDE = 214.374
  FIRST_STANDARD_PARALLEL = "N/A"
  LINE_FIRST_PIXEL = 1
  LINE_LAST_PIXEL = 36682
  LINE_PROJECTION_OFFSET = 66055.25
  MAP_PROJECTION_ROTATION = 0.0
  MAP_PROJECTION_TYPE = SINUSOIDAL
  MAP_RESOLUTION = 2370.85521546667
  MAP_SCALE = 0.025
  MAXIMUM_LATITUDE = 27.8892
  MINIMUM_LATITUDE = 12.424
  POSITIVE_LONGITUDE_DIRECTION = EAST
  REFERENCE_LATITUDE = "N/A"
  REFERENCE_LONGITUDE = "N/A"
  SAMPLE_FIRST_PIXEL = 1
  SAMPLE_LAST_PIXEL = 4355
  SAMPLE_PROJECTION_OFFSET = 1250.25
  SECOND_STANDARD_PARALLEL = "N/A"
  WESTERNMOST_LONGITUDE = 212.399
END_OBJECT = IMAGE_MAP_PROJECTION
/* The JPEG2000 image data file associated with this label. */
OBJECT = COMPRESSED_FILE
  FILE_NAME = "H5337_0000_S23.JP2"
  RECORD_TYPE = UNDEFINED
  FILE_RECORDS = UNK
  ENCODING_TYPE = "JP2"
  INTERCHANGE_FORMAT = BINARY
  UNCOMPRESSED_FILE_NAME = "H5337_0000_S23.IMG"
  REQUIRED_STORAGE_BYTES = "159776240"
  ^DESCRIPTION = "JP2INFO.TXT"
END_OBJECT = COMPRESSED_FILE
END
