PDS_VERSION_ID = PDS3
/* FILE DATA ELEMENTS */
RECORD_TYPE = STREAM
/* POINTERS TO DATA OBJECTS */
^COMPRESSED_FILE = "H5340_0000_ND3.JP2"
/* IDENTIFICATION DATA ELEMENTS */
DATA_SET_ID = "MEX-M-HRSC-5-REFDR-MAPPROJECTED-V3.0"
DATA_SET_NAME = "MARS EXPRESS HRSC MAP PROJECTED REFDR V3.0"
DETECTOR_ID = MEX_HRSC_NADIR
EVENT_TYPE = "MARS-REGIONAL-STEREO-Vo-Te-Gl"
INSTRUMENT_HOST_ID = MEX
INSTRUMENT_HOST_NAME = "MARS EXPRESS"
INSTRUMENT_ID = HRSC
INSTRUMENT_NAME = "HIGH RESOLUTION STEREO CAMERA"
MISSION_NAME = "MARS EXPRESS"
MISSION_PHASE_NAME = ME_Phase_11
PROCESSING_LEVEL_ID = 3
PRODUCT_CREATION_TIME = 2016-05-14T01:01:03.000Z
PRODUCT_ID = "H5340_0000_ND3.JP2"
RELEASE_ID = 0061
REVISION_ID = 0000
/* QUALITY DATA ELEMENTS */
DATA_QUALITY_ID = 2
DATA_QUALITY_DESC = "Data calculated based on photogrammetrically improved orbit and attitude data"
/* TIME DATA ELEMENTS */
SPACECRAFT_CLOCK_START_COUNT = "1/0152276661.07288"
SPACECRAFT_CLOCK_STOP_COUNT = "1/0152276982.01028"
START_TIME = 2008-02-28T11:04:56.506Z
STOP_TIME = 2008-02-28T11:09:09.517Z
/* ORBITAL DATA ELEMENTS */
ASCENDING_NODE_LONGITUDE = 117.1
MAXIMUM_RESOLUTION = 13.5
FOOTPRINT_POINT_LATITUDE = (45.9722,45.9573,45.938,45.6098,45.2815 ,44.953,44.6244,44.2957,43.9669,43.638, 43.3091,42.98,42.4864,42.1572,41.828, 41.4988,41.1695,40.6756,40.3463,40.017, 39.6877,39.3584,39.0292,38.7,38.3709, 38.0418,37.7127,37.3838,37.0549,36.7261 ,36.3974,36.0688,35.7403,35.412,35.0838 ,34.7557,34.4277,34.0999,33.7723, 33.4448,33.1175,32.7904,32.4635,32.1368 ,31.8103,31.484,30.8321,30.1812,29.5312 ,29.5352,29.5387,29.7037,30.3549, 30.6807,31.007,31.3334,31.6601,31.987, 32.3141,32.6414,32.9689,33.2966,33.6245 ,33.9526,34.2809,34.6093,34.9379, 35.2665,35.5954,35.9243,36.2534,36.5826 ,36.9119,37.2415,37.5708,37.9004, 38.2301,38.5598,38.8896,39.2195,39.5494 ,39.8793,40.2093,40.5393,41.0343, 41.3642,41.6942,42.0241,42.3539,42.6842 ,43.1789,43.5087,43.8385,44.1682, 44.4978,44.8274,45.1568,45.4861,45.8154 ,45.9722)
FOOTPRINT_POINT_LONGITUDE = (272.789,272.172,271.498,271.522, 271.545,271.568,271.59,271.612,271.633, 271.653,271.673,271.693,271.72,271.738, 271.755,271.771,271.788,271.811,271.826 ,271.84,271.854,271.868,271.881,271.894 ,271.906,271.918,271.929,271.94,271.951 ,271.961,271.97,271.98,271.989,271.998, 272.005,272.013,272.021,272.028,272.034 ,272.041,272.047,272.053,272.059, 272.064,272.069,272.073,272.082,272.089 ,272.095,272.623,273.068,273.549, 273.543,273.536,273.533,273.528,273.524 ,273.519,273.515,273.51,273.505,273.501 ,273.496,273.491,273.487,273.481, 273.477,273.472,273.466,273.46,273.454, 273.448,273.443,273.439,273.431,273.425 ,273.418,273.412,273.405,273.4,273.393, 273.387,273.38,273.373,273.362,273.355, 273.347,273.337,273.327,273.327,273.313 ,273.305,273.297,273.29,273.282,273.274 ,273.265,273.256,273.247,272.789)
ORBIT_NUMBER = 5340
ORBITAL_ECCENTRICITY = 0.571
ORBITAL_INCLINATION = 86.73
ORBITAL_SEMIMAJOR_AXIS = 8693.81
PERIAPSIS_ALTITUDE = 339.5
PERIAPSIS_ARGUMENT_ANGLE = 138.86
PERIAPSIS_TIME = 2008-02-28T11:06:11.000Z
SPACECRAFT_ORIENTATION = (0.0,-1.0,0.0)
^MEX_ORIENTATION_DESC = "MEX_ORIENTATION_DESC.TXT"
SPACECRAFT_POINTING_MODE = ACROSSTRACK
^MEX_POINTING_DESC = "MEX_POINTING_DESC.TXT"
RIGHT_ASCENSION = -1e+32
DECLINATION = -1e+32
OFFSET_ANGLE = 0.15
SPACECRAFT_SOLAR_DISTANCE = 2.45167e+08
TARGET_NAME = MARS
/* CAMERA DATA ELEMENTS */
DETECTOR_TEMPERATURE = 18.1666
FOCAL_PLANE_TEMPERATURE = 8.3794
INST_CMPRS_NAME = "DISCRETE COSINE TRANSFORMATION (DCT)"
INST_CMPRS_RATIO = 5.83516
INST_CMPRS_QUALITY = 0
INST_CMPRS_QUANTZ_TBL_ID = 0
INSTRUMENT_TEMPERATURE = 11.0301
LENS_TEMPERATURE = 8.3794
MACROPIXEL_SIZE = 1
MISSING_FRAMES = 0
PIXEL_SUBSAMPLING_FLAG = N
SIGNAL_CHAIN_ID = 0
/* RADIOMETRIC DATA ELEMENTS */
BANDWIDTH = 177.0
CENTER_FILTER_WAVELENGTH = 677.5
RADIANCE_OFFSET = 5.60167
RADIANCE_SCALING_FACTOR = 0.0197706
REFLECTANCE_SCALING_FACTOR = 0.000631287
MEX:REFLECTANCE_OFFSET = 0.178865
/* IMAGE OBJECT DEFINITIONS */
OBJECT = IMAGE
  INTERCHANGE_FORMAT = BINARY
  LINES = 78019
  LINE_SAMPLES = 7423
  SAMPLE_TYPE = UNSIGNED_INTEGER
  SAMPLE_BITS = 8
  BANDS = 1
  BAND_STORAGE_TYPE = BAND_SEQUENTIAL
  MAXIMUM = 255
  MEAN = 128.419
  MINIMUM = 1
  STANDARD_DEVIATION = 16.2049
END_OBJECT = IMAGE
/* MAP OBJECT DEFINITIONS */
OBJECT = IMAGE_MAP_PROJECTION
  ^DATA_SET_MAP_PROJECTION_CATALOG= "DSMAP.CAT"
  A_AXIS_RADIUS = 3396.0
  B_AXIS_RADIUS = 3396.0
  C_AXIS_RADIUS = 3396.0
  CENTER_LATITUDE = 0.0
  CENTER_LONGITUDE = 273.0
  COORDINATE_SYSTEM_NAME = PLANETOGRAPHIC
  COORDINATE_SYSTEM_TYPE = "BODY-FIXED ROTATING"
  EASTERNMOST_LONGITUDE = 273.549
  FIRST_STANDARD_PARALLEL = "N/A"
  LINE_FIRST_PIXEL = 1
  LINE_LAST_PIXEL = 78019
  LINE_PROJECTION_OFFSET = 218049.0
  MAP_PROJECTION_ROTATION = 0.0
  MAP_PROJECTION_TYPE = SINUSOIDAL
  MAP_RESOLUTION = 4741.71043093333
  MAP_SCALE = 0.0125
  MAXIMUM_LATITUDE = 45.9722
  MINIMUM_LATITUDE = 29.5312
  POSITIVE_LONGITUDE_DIRECTION = EAST
  REFERENCE_LATITUDE = "N/A"
  REFERENCE_LONGITUDE = "N/A"
  SAMPLE_FIRST_PIXEL = 1
  SAMPLE_LAST_PIXEL = 7423
  SAMPLE_PROJECTION_OFFSET = 4958.0
  SECOND_STANDARD_PARALLEL = "N/A"
  WESTERNMOST_LONGITUDE = 271.498
END_OBJECT = IMAGE_MAP_PROJECTION
/* The JPEG2000 image data file associated with this label. */
OBJECT = COMPRESSED_FILE
  FILE_NAME = "H5340_0000_ND3.JP2"
  RECORD_TYPE = UNDEFINED
  FILE_RECORDS = UNK
  ENCODING_TYPE = "JP2"
  INTERCHANGE_FORMAT = BINARY
  UNCOMPRESSED_FILE_NAME = "H5340_0000_ND3.IMG"
  REQUIRED_STORAGE_BYTES = "579164729"
  ^DESCRIPTION = "JP2INFO.TXT"
END_OBJECT = COMPRESSED_FILE
END
