PDS_VERSION_ID = PDS3
/* FILE DATA ELEMENTS */
RECORD_TYPE = STREAM
/* POINTERS TO DATA OBJECTS */
^COMPRESSED_FILE = "H5342_0000_P13.JP2"
/* IDENTIFICATION DATA ELEMENTS */
DATA_SET_ID = "MEX-M-HRSC-5-REFDR-MAPPROJECTED-V3.0"
DATA_SET_NAME = "MARS EXPRESS HRSC MAP PROJECTED REFDR V3.0"
DETECTOR_ID = MEX_HRSC_P1
EVENT_TYPE = "MARS-REGIONAL-MAPPING-Te-Gl-Ot"
INSTRUMENT_HOST_ID = MEX
INSTRUMENT_HOST_NAME = "MARS EXPRESS"
INSTRUMENT_ID = HRSC
INSTRUMENT_NAME = "HIGH RESOLUTION STEREO CAMERA"
MISSION_NAME = "MARS EXPRESS"
MISSION_PHASE_NAME = ME_Phase_11
PROCESSING_LEVEL_ID = 3
PRODUCT_CREATION_TIME = 2016-05-14T01:01:03.000Z
PRODUCT_ID = "H5342_0000_P13.JP2"
RELEASE_ID = 0061
REVISION_ID = 0000
/* QUALITY DATA ELEMENTS */
DATA_QUALITY_ID = 2
DATA_QUALITY_DESC = "Data calculated based on photogrammetrically improved orbit and attitude data"
/* TIME DATA ELEMENTS */
SPACECRAFT_CLOCK_START_COUNT = "1/0152325955.08418"
SPACECRAFT_CLOCK_STOP_COUNT = "1/0152326457.14624"
START_TIME = 2008-02-29T00:46:09.653Z
STOP_TIME = 2008-02-29T00:53:04.549Z
/* ORBITAL DATA ELEMENTS */
ASCENDING_NODE_LONGITUDE = 117.06
MAXIMUM_RESOLUTION = 28
FOOTPRINT_POINT_LATITUDE = (44.2167,44.2074,43.8984,43.1486, 42.6488,42.1461,41.3925,40.6374,40.1344 ,39.6308,39.1264,38.3692,37.8637, 37.3591,36.8531,36.0942,35.5873,35.081, 34.573,33.8129,33.3068,32.8079,32.2978, 31.5409,30.7758,30.2678,29.5093,28.9979 ,28.4936,27.7459,27.2404,26.3604, 25.7604,25.1566,24.556,23.9559,23.3563, 22.756,21.8554,21.2598,20.6615,20.0496, 19.4388,18.8146,18.1896,17.8702,17.5515 ,17.2065,17.2022,17.1957,17.1905, 17.5068,17.8277,18.1485,18.7764,19.4014 ,20.0159,20.6278,21.2267,21.8269, 22.4256,23.3234,23.9252,24.8295,25.4283 ,26.0381,26.641,27.2187,27.7185,28.2282 ,28.7275,29.2312,29.7407,30.2589, 30.7607,31.2634,31.7672,32.2854,32.7865 ,33.2962,34.056,34.5636,35.072,35.5786, 36.0864,36.5929,37.3524,37.8588,38.6184 ,39.124,39.6292,40.134,40.6389,41.1433, 41.8988,42.4017,42.9043,43.6565,44.1575 ,44.2167)
FOOTPRINT_POINT_LONGITUDE = (72.5491,72.0446,71.5977,71.642,71.6702 ,71.6964,71.7341,71.7691,71.7914, 71.8126,71.8327,71.8608,71.8784,71.8953 ,71.911,71.933,71.9463,71.959,71.9704, 71.9867,71.9968,72.0086,72.0158,72.0282 ,72.036,72.041,72.0484,72.0505,72.0543, 72.0617,72.0633,72.0629,72.0636,72.062, 72.0605,72.0583,72.0552,72.0508,72.0424 ,72.0372,72.0302,72.0228,72.0146, 72.0059,71.9963,71.9912,71.9861,72.2276 ,72.6002,73.0062,73.3667,73.5904, 73.5877,73.5851,73.5803,73.5767,73.5705 ,73.5666,73.5618,73.5561,73.5518, 73.5462,73.5409,73.5324,73.5299,73.5201 ,73.5153,73.5105,73.5105,73.5036, 73.5042,73.5017,73.4951,73.4822,73.4811 ,73.4794,73.4768,73.4633,73.4626, 73.4552,73.4473,73.441,73.4338,73.4277, 73.4203,73.4137,73.4031,73.3956,73.3833 ,73.3752,73.3668,73.3581,73.3489, 73.3393,73.3246,73.3145,73.3039,73.2881 ,73.2767,72.5491)
ORBIT_NUMBER = 5342
ORBITAL_ECCENTRICITY = 0.571
ORBITAL_INCLINATION = 86.75
ORBITAL_SEMIMAJOR_AXIS = 8691.88
PERIAPSIS_ALTITUDE = 339.31
PERIAPSIS_ARGUMENT_ANGLE = 138.51
PERIAPSIS_TIME = 2008-02-29T00:47:12.000Z
SPACECRAFT_ORIENTATION = (0.0,-1.0,0.0)
^MEX_ORIENTATION_DESC = "MEX_ORIENTATION_DESC.TXT"
SPACECRAFT_POINTING_MODE = ACROSSTRACK
^MEX_POINTING_DESC = "MEX_POINTING_DESC.TXT"
RIGHT_ASCENSION = -1e+32
DECLINATION = -1e+32
OFFSET_ANGLE = 0.2
SPACECRAFT_SOLAR_DISTANCE = 2.45227e+08
TARGET_NAME = MARS
/* CAMERA DATA ELEMENTS */
DETECTOR_TEMPERATURE = 17.1471
FOCAL_PLANE_TEMPERATURE = 7.5638
INST_CMPRS_NAME = "DISCRETE COSINE TRANSFORMATION (DCT)"
INST_CMPRS_RATIO = 10.1797
INST_CMPRS_QUALITY = 0
INST_CMPRS_QUANTZ_TBL_ID = 0
INSTRUMENT_TEMPERATURE = 11.234
LENS_TEMPERATURE = 8.3794
MACROPIXEL_SIZE = 2
MISSING_FRAMES = 0
PIXEL_SUBSAMPLING_FLAG = N
SIGNAL_CHAIN_ID = 3
/* RADIOMETRIC DATA ELEMENTS */
BANDWIDTH = 174.0
CENTER_FILTER_WAVELENGTH = 675.0
RADIANCE_OFFSET = 3.10408
RADIANCE_SCALING_FACTOR = 0.0258674
REFLECTANCE_SCALING_FACTOR = 0.000836709
MEX:REFLECTANCE_OFFSET = 0.100405
/* IMAGE OBJECT DEFINITIONS */
OBJECT = IMAGE
  INTERCHANGE_FORMAT = BINARY
  LINES = 63994
  LINE_SAMPLES = 3944
  SAMPLE_TYPE = UNSIGNED_INTEGER
  SAMPLE_BITS = 8
  BANDS = 1
  BAND_STORAGE_TYPE = BAND_SEQUENTIAL
  MAXIMUM = 255
  MEAN = 136.49
  MINIMUM = 1
  STANDARD_DEVIATION = 51.9989
END_OBJECT = IMAGE
/* MAP OBJECT DEFINITIONS */
OBJECT = IMAGE_MAP_PROJECTION
  ^DATA_SET_MAP_PROJECTION_CATALOG= "DSMAP.CAT"
  A_AXIS_RADIUS = 3396.0
  B_AXIS_RADIUS = 3396.0
  C_AXIS_RADIUS = 3396.0
  CENTER_LATITUDE = 0.0
  CENTER_LONGITUDE = 73.0
  COORDINATE_SYSTEM_NAME = PLANETOGRAPHIC
  COORDINATE_SYSTEM_TYPE = "BODY-FIXED ROTATING"
  EASTERNMOST_LONGITUDE = 73.5904
  FIRST_STANDARD_PARALLEL = "N/A"
  LINE_FIRST_PIXEL = 1
  LINE_LAST_PIXEL = 63994
  LINE_PROJECTION_OFFSET = 104773.25
  MAP_PROJECTION_ROTATION = 0.0
  MAP_PROJECTION_TYPE = SINUSOIDAL
  MAP_RESOLUTION = 2370.85521546667
  MAP_SCALE = 0.025
  MAXIMUM_LATITUDE = 44.2167
  MINIMUM_LATITUDE = 17.1905
  POSITIVE_LONGITUDE_DIRECTION = EAST
  REFERENCE_LATITUDE = "N/A"
  REFERENCE_LONGITUDE = "N/A"
  SAMPLE_FIRST_PIXEL = 1
  SAMPLE_LAST_PIXEL = 3944
  SAMPLE_PROJECTION_OFFSET = 2434.25
  SECOND_STANDARD_PARALLEL = "N/A"
  WESTERNMOST_LONGITUDE = 71.5977
END_OBJECT = IMAGE_MAP_PROJECTION
/* The JPEG2000 image data file associated with this label. */
OBJECT = COMPRESSED_FILE
  FILE_NAME = "H5342_0000_P13.JP2"
  RECORD_TYPE = UNDEFINED
  FILE_RECORDS = UNK
  ENCODING_TYPE = "JP2"
  INTERCHANGE_FORMAT = BINARY
  UNCOMPRESSED_FILE_NAME = "H5342_0000_P13.IMG"
  REQUIRED_STORAGE_BYTES = "252416000"
  ^DESCRIPTION = "JP2INFO.TXT"
END_OBJECT = COMPRESSED_FILE
END
