PDS_VERSION_ID = PDS3
/* FILE DATA ELEMENTS */
RECORD_TYPE = STREAM
/* POINTERS TO DATA OBJECTS */
^COMPRESSED_FILE = "H5344_0000_IR3.JP2"
/* IDENTIFICATION DATA ELEMENTS */
DATA_SET_ID = "MEX-M-HRSC-5-REFDR-MAPPROJECTED-V3.0"
DATA_SET_NAME = "MARS EXPRESS HRSC MAP PROJECTED REFDR V3.0"
DETECTOR_ID = MEX_HRSC_IR
EVENT_TYPE = "MARS-REGIONAL-MAPPING-Vo-Te"
INSTRUMENT_HOST_ID = MEX
INSTRUMENT_HOST_NAME = "MARS EXPRESS"
INSTRUMENT_ID = HRSC
INSTRUMENT_NAME = "HIGH RESOLUTION STEREO CAMERA"
MISSION_NAME = "MARS EXPRESS"
MISSION_PHASE_NAME = ME_Phase_11
PROCESSING_LEVEL_ID = 3
PRODUCT_CREATION_TIME = 2016-05-14T01:01:03.000Z
PRODUCT_ID = "H5344_0000_IR3.JP2"
RELEASE_ID = 0061
REVISION_ID = 0000
/* QUALITY DATA ELEMENTS */
DATA_QUALITY_ID = 2
DATA_QUALITY_DESC = "Data calculated based on photogrammetrically improved orbit and attitude data"
/* TIME DATA ELEMENTS */
SPACECRAFT_CLOCK_START_COUNT = "1/0152375128.08248"
SPACECRAFT_CLOCK_STOP_COUNT = "1/0152375334.49150"
START_TIME = 2008-02-29T14:25:37.665Z
STOP_TIME = 2008-02-29T14:28:00.720Z
/* ORBITAL DATA ELEMENTS */
ASCENDING_NODE_LONGITUDE = 117.02
MAXIMUM_RESOLUTION = 56.6
FOOTPRINT_POINT_LATITUDE = (50.0391,50.0274,50.0157,50.0057,49.992 ,49.826,49.6468,49.467,49.197,48.927, 48.747,48.4764,48.2961,48.1152,47.934, 47.7529,47.5717,47.3902,47.1181,46.9365 ,46.7546,46.4816,46.2996,46.1174,45.844 ,45.6618,45.3879,45.2051,44.9313, 44.7484,44.5653,44.382,44.1987,43.9236, 43.7401,43.5565,43.2806,43.0966,42.9128 ,42.7285,42.4522,42.2676,42.083,41.8989 ,41.7142,41.5294,41.3445,41.0672, 40.7895,40.7855,40.7959,40.8003,40.8066 ,40.8116,41.0009,41.186,41.3715,41.6496 ,41.835,42.02,42.2053,42.4828,42.7593, 43.0362,43.2209,43.4055,43.5899,43.7735 ,43.9573,44.2332,44.4172,44.6008, 44.8761,45.0597,45.243,45.5177,45.7004, 45.8835,46.0665,46.2493,46.5234,46.7057 ,46.8882,47.0706,47.2526,47.4348, 47.6167,47.7981,47.9797,48.2521,48.4335 ,48.6146,48.8861,49.067,49.2478,49.4284 ,49.6089,49.7893,49.9694,50.0391)
FOOTPRINT_POINT_LONGITUDE = (232.357,231.93,231.557,231.273,230.917 ,230.696,230.715,230.734,230.762, 230.789,230.807,230.833,230.851,230.868 ,230.884,230.901,230.917,230.933, 230.957,230.972,230.988,231.01,231.025, 231.039,231.061,231.075,231.096,231.11, 231.13,231.143,231.156,231.169,231.181, 231.2,231.212,231.224,231.241,231.253, 231.264,231.275,231.292,231.303,231.313 ,231.324,231.334,231.344,231.354, 231.368,231.382,231.645,232.024,232.214 ,232.506,232.783,232.943,232.939, 232.935,232.928,232.923,232.919,232.914 ,232.907,232.9,232.893,232.888,232.883, 232.878,232.873,232.868,232.861,232.855 ,232.85,232.842,232.837,232.831,232.823 ,232.818,232.812,232.806,232.8,232.792, 232.786,232.78,232.773,232.767,232.761, 232.755,232.748,232.742,232.732,232.725 ,232.719,232.709,232.702,232.695, 232.688,232.681,232.673,232.666, 232.357)
ORBIT_NUMBER = 5344
ORBITAL_ECCENTRICITY = 0.571
ORBITAL_INCLINATION = 86.74
ORBITAL_SEMIMAJOR_AXIS = 8690.47
PERIAPSIS_ALTITUDE = 339.6
PERIAPSIS_ARGUMENT_ANGLE = 138.13
PERIAPSIS_TIME = 2008-02-29T14:28:10.000Z
SPACECRAFT_ORIENTATION = (0.0,-1.0,0.0)
^MEX_ORIENTATION_DESC = "MEX_ORIENTATION_DESC.TXT"
SPACECRAFT_POINTING_MODE = NADIR
^MEX_POINTING_DESC = "MEX_POINTING_DESC.TXT"
RIGHT_ASCENSION = -1e+32
DECLINATION = -1e+32
OFFSET_ANGLE = -1e+32
SPACECRAFT_SOLAR_DISTANCE = 2.45287e+08
TARGET_NAME = MARS
/* CAMERA DATA ELEMENTS */
DETECTOR_TEMPERATURE = 17.351
FOCAL_PLANE_TEMPERATURE = 8.3794
INST_CMPRS_NAME = "DISCRETE COSINE TRANSFORMATION (DCT)"
INST_CMPRS_RATIO = 9.95183
INST_CMPRS_QUALITY = 0
INST_CMPRS_QUANTZ_TBL_ID = 0
INSTRUMENT_TEMPERATURE = 11.234
LENS_TEMPERATURE = 8.5833
MACROPIXEL_SIZE = 4
MISSING_FRAMES = 0
PIXEL_SUBSAMPLING_FLAG = N
SIGNAL_CHAIN_ID = 2
/* RADIOMETRIC DATA ELEMENTS */
BANDWIDTH = 81.0
CENTER_FILTER_WAVELENGTH = 955.5
RADIANCE_OFFSET = 0.99321
RADIANCE_SCALING_FACTOR = 0.00737257
REFLECTANCE_SCALING_FACTOR = 0.000956964
MEX:REFLECTANCE_OFFSET = 0.128919
/* IMAGE OBJECT DEFINITIONS */
OBJECT = IMAGE
  INTERCHANGE_FORMAT = BINARY
  LINES = 10915
  LINE_SAMPLES = 1863
  SAMPLE_TYPE = UNSIGNED_INTEGER
  SAMPLE_BITS = 8
  BANDS = 1
  BAND_STORAGE_TYPE = BAND_SEQUENTIAL
  MAXIMUM = 255
  MEAN = 154.389
  MINIMUM = 1
  STANDARD_DEVIATION = 19.3423
END_OBJECT = IMAGE
/* MAP OBJECT DEFINITIONS */
OBJECT = IMAGE_MAP_PROJECTION
  ^DATA_SET_MAP_PROJECTION_CATALOG= "DSMAP.CAT"
  A_AXIS_RADIUS = 3396.0
  B_AXIS_RADIUS = 3396.0
  C_AXIS_RADIUS = 3396.0
  CENTER_LATITUDE = 0.0
  CENTER_LONGITUDE = 232.0
  COORDINATE_SYSTEM_NAME = PLANETOGRAPHIC
  COORDINATE_SYSTEM_TYPE = "BODY-FIXED ROTATING"
  EASTERNMOST_LONGITUDE = 232.943
  FIRST_STANDARD_PARALLEL = "N/A"
  LINE_FIRST_PIXEL = 1
  LINE_LAST_PIXEL = 10915
  LINE_PROJECTION_OFFSET = 59255.125
  MAP_PROJECTION_ROTATION = 0.0
  MAP_PROJECTION_TYPE = SINUSOIDAL
  MAP_RESOLUTION = 1185.42760773333
  MAP_SCALE = 0.05
  MAXIMUM_LATITUDE = 50.0391
  MINIMUM_LATITUDE = 40.7855
  POSITIVE_LONGITUDE_DIRECTION = EAST
  REFERENCE_LATITUDE = "N/A"
  REFERENCE_LONGITUDE = "N/A"
  SAMPLE_FIRST_PIXEL = 1
  SAMPLE_LAST_PIXEL = 1863
  SAMPLE_PROJECTION_OFFSET = 990.625
  SECOND_STANDARD_PARALLEL = "N/A"
  WESTERNMOST_LONGITUDE = 230.696
END_OBJECT = IMAGE_MAP_PROJECTION
/* The JPEG2000 image data file associated with this label. */
OBJECT = COMPRESSED_FILE
  FILE_NAME = "H5344_0000_IR3.JP2"
  RECORD_TYPE = UNDEFINED
  FILE_RECORDS = UNK
  ENCODING_TYPE = "JP2"
  INTERCHANGE_FORMAT = BINARY
  UNCOMPRESSED_FILE_NAME = "H5344_0000_IR3.IMG"
  REQUIRED_STORAGE_BYTES = "20353275"
  ^DESCRIPTION = "JP2INFO.TXT"
END_OBJECT = COMPRESSED_FILE
END
