PDS_VERSION_ID = PDS3
/* FILE DATA ELEMENTS */
RECORD_TYPE = STREAM
/* POINTERS TO DATA OBJECTS */
^COMPRESSED_FILE = "H5350_0007_SR3.JP2"
/* IDENTIFICATION DATA ELEMENTS */
DATA_SET_ID = "MEX-M-HRSC-5-REFDR-MAPPROJECTED-V3.0"
DATA_SET_NAME = "MARS EXPRESS HRSC MAP PROJECTED REFDR V3.0"
DETECTOR_ID = MEX_HRSC_SRC
EVENT_TYPE = "MARS-REGIONAL-MAPPING-Im-Fl-La"
INSTRUMENT_HOST_ID = MEX
INSTRUMENT_HOST_NAME = "MARS EXPRESS"
INSTRUMENT_ID = HRSC
INSTRUMENT_NAME = "HIGH RESOLUTION STEREO CAMERA"
MISSION_NAME = "MARS EXPRESS"
MISSION_PHASE_NAME = ME_Phase_11
PROCESSING_LEVEL_ID = 3
PRODUCT_CREATION_TIME = 2016-05-14T01:01:03.000Z
PRODUCT_ID = "H5350_0007_SR3.JP2"
RELEASE_ID = 0061
REVISION_ID = 0000
/* QUALITY DATA ELEMENTS */
DATA_QUALITY_ID = 1
DATA_QUALITY_DESC = "Data calculated based on original SPICE kernels"
/* TIME DATA ELEMENTS */
SPACECRAFT_CLOCK_START_COUNT = "1/0152523194.09072"
SPACECRAFT_CLOCK_STOP_COUNT = "1/0152523644.26501"
IMAGE_TIME = 2008-03-02T07:36:57.804Z
START_TIME = 2008-03-02T07:36:57.801Z
STOP_TIME = 2008-03-02T07:36:57.806Z
/* ORBITAL DATA ELEMENTS */
ASCENDING_NODE_LONGITUDE = 116.9
MAXIMUM_RESOLUTION = 3.977
FOOTPRINT_POINT_LATITUDE = (21.3741,21.3774,21.3796,21.3816, 21.3846,21.3868,21.39,21.3946,21.3967, 21.3988,21.4018,21.4061,21.4087,21.4109 ,21.4129,21.4154,21.419,21.4218,21.425, 21.4269,21.4298,21.4332,21.4355,21.4387 ,21.4408,21.4408,21.4408,21.4408, 21.4408,21.4408,21.4408,21.4408,21.4408 ,21.4408,21.4408,21.4408,21.4408, 21.4408,21.4408,21.4408,21.4408,21.4408 ,21.4408,21.4408,21.4408,21.4408, 21.4408,21.4408,21.4408,21.4408,21.438, 21.4339,21.4297,21.4264,21.4232,21.4202 ,21.4175,21.4136,21.4111,21.4082, 21.4056,21.4036,21.4009,21.3991,21.3943 ,21.3912,21.3868,21.3839,21.3815, 21.3795,21.3772,21.3751,21.3731,21.3731 ,21.3731,21.3731,21.3731,21.3731, 21.3731,21.3731,21.3731,21.3731,21.3731 ,21.3731,21.3731,21.3731,21.3731, 21.3731,21.3731,21.3731,21.3731,21.3731 ,21.3731,21.3731,21.3731,21.3731, 21.3731,21.3731,21.3731,21.3741)
FOOTPRINT_POINT_LONGITUDE = (352.019,352.019,352.019,352.019, 352.019,352.019,352.019,352.019,352.019 ,352.019,352.019,352.019,352.019, 352.019,352.019,352.019,352.019,352.019 ,352.019,352.018,352.018,352.018, 352.018,352.018,352.019,352.021,352.025 ,352.028,352.031,352.034,352.037,352.04 ,352.042,352.045,352.047,352.05,352.053 ,352.057,352.06,352.063,352.066,352.068 ,352.071,352.074,352.077,352.08,352.083 ,352.086,352.089,352.092,352.092, 352.092,352.092,352.092,352.092,352.092 ,352.092,352.092,352.092,352.092, 352.092,352.092,352.092,352.092,352.092 ,352.092,352.092,352.092,352.092, 352.092,352.092,352.092,352.092,352.089 ,352.085,352.083,352.08,352.078,352.075 ,352.073,352.07,352.068,352.066,352.062 ,352.059,352.057,352.054,352.051, 352.049,352.046,352.044,352.041,352.038 ,352.035,352.033,352.029,352.026, 352.024,352.02,352.019)
ORBIT_NUMBER = 5350
ORBITAL_ECCENTRICITY = 0.571
ORBITAL_INCLINATION = 86.74
ORBITAL_SEMIMAJOR_AXIS = 8682.63
PERIAPSIS_ALTITUDE = 340.98
PERIAPSIS_ARGUMENT_ANGLE = 137.08
PERIAPSIS_TIME = 2008-03-02T07:31:23.000Z
SPACECRAFT_ORIENTATION = (0.0,-1.0,0.0)
^MEX_ORIENTATION_DESC = "MEX_ORIENTATION_DESC.TXT"
SPACECRAFT_POINTING_MODE = NADIR
^MEX_POINTING_DESC = "MEX_POINTING_DESC.TXT"
RIGHT_ASCENSION = -1e+32
DECLINATION = -1e+32
OFFSET_ANGLE = -1e+32
SPACECRAFT_SOLAR_DISTANCE = 2.45464e+08
TARGET_NAME = MARS
/* CAMERA DATA ELEMENTS */
BUFFER_MODE_ID = BUFFER_8
EXPOSURE_DURATION = 5.04
INST_CMPRS_NAME = NONE
INST_CMPRS_RATIO = 1.0
INST_CMPRS_QUALITY = -2147483648
INST_CMPRS_QUANTZ_TBL_ID = -2147483648
INSTRUMENT_TEMPERATURE = 11.2121
MISSING_FRAMES = 0
START_BIT = 0
/* RADIOMETRIC DATA ELEMENTS */
BANDWIDTH = 250.0
CENTER_FILTER_WAVELENGTH = 600.0
RADIANCE_OFFSET = -9.99e+31
RADIANCE_SCALING_FACTOR = -9.99e+31
REFLECTANCE_SCALING_FACTOR = -9.99e+31
MEX:REFLECTANCE_OFFSET = -9.99e+31
/* IMAGE OBJECT DEFINITIONS */
OBJECT = IMAGE
  INTERCHANGE_FORMAT = BINARY
  LINES = 848
  LINE_SAMPLES = 857
  SAMPLE_TYPE = UNSIGNED_INTEGER
  SAMPLE_BITS = 8
  BANDS = 1
  BAND_STORAGE_TYPE = BAND_SEQUENTIAL
  MAXIMUM = 254
  MEAN = 150.088
  MINIMUM = 1
  STANDARD_DEVIATION = 31.1103
END_OBJECT = IMAGE
/* MAP OBJECT DEFINITIONS */
OBJECT = IMAGE_MAP_PROJECTION
  ^DATA_SET_MAP_PROJECTION_CATALOG= "DSMAP.CAT"
  A_AXIS_RADIUS = 3396.19
  B_AXIS_RADIUS = 3396.19
  C_AXIS_RADIUS = 3396.19
  CENTER_LATITUDE = 0.0
  CENTER_LONGITUDE = 352.0
  COORDINATE_SYSTEM_NAME = PLANETOGRAPHIC
  COORDINATE_SYSTEM_TYPE = "BODY-FIXED ROTATING"
  EASTERNMOST_LONGITUDE = 352.092
  FIRST_STANDARD_PARALLEL = "N/A"
  LINE_FIRST_PIXEL = 1
  LINE_LAST_PIXEL = 848
  LINE_PROJECTION_OFFSET = 254131.0
  MAP_PROJECTION_ROTATION = 0.0
  MAP_PROJECTION_TYPE = SINUSOIDAL
  MAP_RESOLUTION = 11854.9393024378
  MAP_SCALE = 0.005
  MAXIMUM_LATITUDE = 21.4408
  MINIMUM_LATITUDE = 21.3731
  POSITIVE_LONGITUDE_DIRECTION = EAST
  REFERENCE_LATITUDE = "N/A"
  REFERENCE_LONGITUDE = "N/A"
  SAMPLE_FIRST_PIXEL = 1
  SAMPLE_LAST_PIXEL = 857
  SAMPLE_PROJECTION_OFFSET = -182.0
  SECOND_STANDARD_PARALLEL = "N/A"
  WESTERNMOST_LONGITUDE = 352.018
END_OBJECT = IMAGE_MAP_PROJECTION
/* The JPEG2000 image data file associated with this label. */
OBJECT = COMPRESSED_FILE
  FILE_NAME = "H5350_0007_SR3.JP2"
  RECORD_TYPE = UNDEFINED
  FILE_RECORDS = UNK
  ENCODING_TYPE = "JP2"
  INTERCHANGE_FORMAT = BINARY
  UNCOMPRESSED_FILE_NAME = "H5350_0007_SR3.IMG"
  REQUIRED_STORAGE_BYTES = "744733"
  ^DESCRIPTION = "JP2INFO.TXT"
END_OBJECT = COMPRESSED_FILE
END
