PDS_VERSION_ID = PDS3
/* FILE DATA ELEMENTS */
RECORD_TYPE = STREAM
/* POINTERS TO DATA OBJECTS */
^COMPRESSED_FILE = "H5353_0000_P13.JP2"
/* IDENTIFICATION DATA ELEMENTS */
DATA_SET_ID = "MEX-M-HRSC-5-REFDR-MAPPROJECTED-V3.0"
DATA_SET_NAME = "MARS EXPRESS HRSC MAP PROJECTED REFDR V3.0"
DETECTOR_ID = MEX_HRSC_P1
EVENT_TYPE = "MARS-REGIONAL-MAPPING-Gl-Pf-Mw"
INSTRUMENT_HOST_ID = MEX
INSTRUMENT_HOST_NAME = "MARS EXPRESS"
INSTRUMENT_ID = HRSC
INSTRUMENT_NAME = "HIGH RESOLUTION STEREO CAMERA"
MISSION_NAME = "MARS EXPRESS"
MISSION_PHASE_NAME = ME_Phase_11
PROCESSING_LEVEL_ID = 3
PRODUCT_CREATION_TIME = 2016-05-14T01:01:03.000Z
PRODUCT_ID = "H5353_0000_P13.JP2"
RELEASE_ID = 0061
REVISION_ID = 0000
/* QUALITY DATA ELEMENTS */
DATA_QUALITY_ID = 2
DATA_QUALITY_DESC = "Data calculated based on photogrammetrically improved orbit and attitude data"
/* TIME DATA ELEMENTS */
SPACECRAFT_CLOCK_START_COUNT = "1/0152596654.09065"
SPACECRAFT_CLOCK_STOP_COUNT = "1/0152596939.08942"
START_TIME = 2008-03-03T03:57:52.423Z
STOP_TIME = 2008-03-03T04:01:29.188Z
/* ORBITAL DATA ELEMENTS */
ASCENDING_NODE_LONGITUDE = 116.83
MAXIMUM_RESOLUTION = 28.9
FOOTPRINT_POINT_LATITUDE = (61.4704,61.4539,61.4182,61.3946, 61.3692,61.2451,60.9551,60.6646,60.3733 ,59.9431,59.658,59.3725,58.9451,58.5255 ,58.2454,57.9641,57.5424,57.2606,56.978 ,56.6951,56.4116,56.1277,55.8434, 55.5592,55.2737,54.9881,54.7019,54.2717 ,53.9849,53.6973,53.4091,53.1207, 52.7015,52.4591,52.2164,51.9732,51.73, 51.365,51.1209,50.8766,50.5106,50.1432, 49.8979,49.5299,49.2848,49.0389,48.793, 48.5466,48.1772,47.8077,47.831,47.8428, 47.8564,47.8759,48.1253,48.4951,48.7425 ,48.9897,49.2365,49.6066,49.9762, 50.3449,50.5906,50.8363,51.0814,51.3268 ,51.5713,51.8159,52.0603,52.3045, 52.5485,52.7924,53.0681,53.3584,53.6478 ,53.9373,54.2263,54.6593,54.9475, 55.2351,55.6659,55.9527,56.239,56.6676, 57.0952,57.3799,57.6639,57.9477,58.2311 ,58.5139,58.7963,59.0782,59.5096, 59.7978,60.0856,60.3728,60.6673,60.9611 ,61.2543,61.4704)
FOOTPRINT_POINT_LONGITUDE = (50.6126,50.2057,49.4202,48.9546, 48.4889,47.6767,47.7569,47.8354,47.912, 48.0221,48.0928,48.162,48.2625,48.3574, 48.4192,48.4792,48.5677,48.6252,48.6811 ,48.736,48.7897,48.8423,48.8938,48.9448 ,48.994,49.0424,49.0896,49.1586,49.2038 ,49.2477,49.2905,49.3327,49.3921, 49.4257,49.4587,49.4909,49.5226,49.5696 ,49.5998,49.6295,49.6737,49.7161, 49.7437,49.7844,49.8113,49.8374,49.8631 ,49.8881,49.9253,49.9617,50.5333, 50.8359,51.2092,51.8,51.788,51.7718, 51.7602,51.7484,51.7365,51.7183,51.6997 ,51.6808,51.668,51.6548,51.6416,51.628, 51.6145,51.6005,51.5864,51.5721,51.5575 ,51.5426,51.5257,51.5074,51.4891, 51.4702,51.451,51.4214,51.4012,51.3808, 51.3493,51.3278,51.3059,51.2724,51.2379 ,51.2142,51.1903,51.1658,51.1407, 51.1153,51.0894,51.0629,51.0212,50.9928 ,50.9637,50.9341,50.9028,50.8711, 50.8387,50.6126)
ORBIT_NUMBER = 5353
ORBITAL_ECCENTRICITY = 0.571
ORBITAL_INCLINATION = 86.74
ORBITAL_SEMIMAJOR_AXIS = 8687.68
PERIAPSIS_ALTITUDE = 340.98
PERIAPSIS_ARGUMENT_ANGLE = 136.59
PERIAPSIS_TIME = 2008-03-03T04:02:59.000Z
SPACECRAFT_ORIENTATION = (0.0,-1.0,0.0)
^MEX_ORIENTATION_DESC = "MEX_ORIENTATION_DESC.TXT"
SPACECRAFT_POINTING_MODE = ACROSSTRACK
^MEX_POINTING_DESC = "MEX_POINTING_DESC.TXT"
RIGHT_ASCENSION = -1e+32
DECLINATION = -1e+32
OFFSET_ANGLE = -0.2
SPACECRAFT_SOLAR_DISTANCE = 2.45552e+08
TARGET_NAME = MARS
/* CAMERA DATA ELEMENTS */
DETECTOR_TEMPERATURE = 17.5549
FOCAL_PLANE_TEMPERATURE = 8.3794
INST_CMPRS_NAME = "DISCRETE COSINE TRANSFORMATION (DCT)"
INST_CMPRS_RATIO = 15.4917
INST_CMPRS_QUALITY = 0
INST_CMPRS_QUANTZ_TBL_ID = 0
INSTRUMENT_TEMPERATURE = 11.234
LENS_TEMPERATURE = 8.1755
MACROPIXEL_SIZE = 2
MISSING_FRAMES = 0
PIXEL_SUBSAMPLING_FLAG = N
SIGNAL_CHAIN_ID = 3
/* RADIOMETRIC DATA ELEMENTS */
BANDWIDTH = 174.0
CENTER_FILTER_WAVELENGTH = 675.0
RADIANCE_OFFSET = 2.91008
RADIANCE_SCALING_FACTOR = 0.0220633
REFLECTANCE_SCALING_FACTOR = 0.000715552
MEX:REFLECTANCE_OFFSET = 0.0943788
/* IMAGE OBJECT DEFINITIONS */
OBJECT = IMAGE
  INTERCHANGE_FORMAT = BINARY
  LINES = 32179
  LINE_SAMPLES = 5404
  SAMPLE_TYPE = UNSIGNED_INTEGER
  SAMPLE_BITS = 8
  BANDS = 1
  BAND_STORAGE_TYPE = BAND_SEQUENTIAL
  MAXIMUM = 255
  MEAN = 97.0905
  MINIMUM = 1
  STANDARD_DEVIATION = 55.311
END_OBJECT = IMAGE
/* MAP OBJECT DEFINITIONS */
OBJECT = IMAGE_MAP_PROJECTION
  ^DATA_SET_MAP_PROJECTION_CATALOG= "DSMAP.CAT"
  A_AXIS_RADIUS = 3396.0
  B_AXIS_RADIUS = 3396.0
  C_AXIS_RADIUS = 3396.0
  CENTER_LATITUDE = 0.0
  CENTER_LONGITUDE = 50.0
  COORDINATE_SYSTEM_NAME = PLANETOGRAPHIC
  COORDINATE_SYSTEM_TYPE = "BODY-FIXED ROTATING"
  EASTERNMOST_LONGITUDE = 51.8
  FIRST_STANDARD_PARALLEL = "N/A"
  LINE_FIRST_PIXEL = 1
  LINE_LAST_PIXEL = 32179
  LINE_PROJECTION_OFFSET = 145573.25
  MAP_PROJECTION_ROTATION = 0.0
  MAP_PROJECTION_TYPE = SINUSOIDAL
  MAP_RESOLUTION = 2370.85521546667
  MAP_SCALE = 0.025
  MAXIMUM_LATITUDE = 61.4704
  MINIMUM_LATITUDE = 47.8077
  POSITIVE_LONGITUDE_DIRECTION = EAST
  REFERENCE_LATITUDE = "N/A"
  REFERENCE_LONGITUDE = "N/A"
  SAMPLE_FIRST_PIXEL = 1
  SAMPLE_LAST_PIXEL = 5404
  SAMPLE_PROJECTION_OFFSET = 2548.25
  SECOND_STANDARD_PARALLEL = "N/A"
  WESTERNMOST_LONGITUDE = 47.6767
END_OBJECT = IMAGE_MAP_PROJECTION
/* The JPEG2000 image data file associated with this label. */
OBJECT = COMPRESSED_FILE
  FILE_NAME = "H5353_0000_P13.JP2"
  RECORD_TYPE = UNDEFINED
  FILE_RECORDS = UNK
  ENCODING_TYPE = "JP2"
  INTERCHANGE_FORMAT = BINARY
  UNCOMPRESSED_FILE_NAME = "H5353_0000_P13.IMG"
  REQUIRED_STORAGE_BYTES = "173922336"
  ^DESCRIPTION = "JP2INFO.TXT"
END_OBJECT = COMPRESSED_FILE
END
