PDS_VERSION_ID = PDS3
/* FILE DATA ELEMENTS */
RECORD_TYPE = STREAM
/* POINTERS TO DATA OBJECTS */
^COMPRESSED_FILE = "H5354_0000_IR3.JP2"
/* IDENTIFICATION DATA ELEMENTS */
DATA_SET_ID = "MEX-M-HRSC-5-REFDR-MAPPROJECTED-V3.0"
DATA_SET_NAME = "MARS EXPRESS HRSC MAP PROJECTED REFDR V3.0"
DETECTOR_ID = MEX_HRSC_IR
EVENT_TYPE = "MARS-REGIONAL-MAPPING-Im-Pf-Ts"
INSTRUMENT_HOST_ID = MEX
INSTRUMENT_HOST_NAME = "MARS EXPRESS"
INSTRUMENT_ID = HRSC
INSTRUMENT_NAME = "HIGH RESOLUTION STEREO CAMERA"
MISSION_NAME = "MARS EXPRESS"
MISSION_PHASE_NAME = ME_Phase_11
PROCESSING_LEVEL_ID = 3
PRODUCT_CREATION_TIME = 2016-05-14T01:01:03.000Z
PRODUCT_ID = "H5354_0000_IR3.JP2"
RELEASE_ID = 0061
REVISION_ID = 0000
/* QUALITY DATA ELEMENTS */
DATA_QUALITY_ID = 1
DATA_QUALITY_DESC = "Data calculated based on original SPICE kernels"
/* TIME DATA ELEMENTS */
SPACECRAFT_CLOCK_START_COUNT = "1/0152621198.09092"
SPACECRAFT_CLOCK_STOP_COUNT = "1/0152621483.06866"
START_TIME = 2008-03-03T10:46:50.593Z
STOP_TIME = 2008-03-03T10:50:24.004Z
/* ORBITAL DATA ELEMENTS */
ASCENDING_NODE_LONGITUDE = 116.82
MAXIMUM_RESOLUTION = 63.4
FOOTPRINT_POINT_LATITUDE = (66.7221,66.6844,66.6464,66.6143, 66.5704,66.2899,66.015,65.7417,65.4713, 65.2001,64.9298,64.6633,64.3961,64.1282 ,63.8658,63.6028,63.3392,63.0779, 62.8195,62.4305,62.1711,61.9172,61.663, 61.2793,60.9016,60.6512,60.4005,60.0241 ,59.7783,59.5324,59.2859,59.0389, 58.7931,58.431,57.9468,57.4612,57.2175, 56.9736,56.7293,56.4847,56.2397,55.9944 ,55.7485,55.5024,55.2559,55.009,54.7615 ,54.5142,54.1422,53.8941,53.7782, 53.8057,53.8227,53.9672,54.217,54.4664, 54.84,55.213,55.4613,55.7092,55.9568, 56.204,56.4509,56.6976,56.9436,57.1894, 57.4349,57.6801,57.9249,58.4132,58.9, 59.1476,59.3966,59.6452,59.8935,60.1414 ,60.3944,60.6481,60.9013,61.2741,61.668 ,61.9255,62.182,62.4411,62.7038,62.9658 ,63.227,63.4915,63.7585,64.0251,64.2908 ,64.5621,64.8331,65.1034,65.3777, 65.6532,65.9278,66.2056,66.4853, 66.7221)
FOOTPRINT_POINT_LONGITUDE = (309.877,308.953,308.147,307.535, 306.772,306.345,306.461,306.574,306.682 ,306.787,306.89,306.988,307.084,307.178 ,307.268,307.356,307.442,307.525, 307.606,307.723,307.799,307.872,307.943 ,308.047,308.146,308.211,308.273, 308.365,308.424,308.481,308.537,308.592 ,308.646,308.723,308.822,308.918, 308.965,309.01,309.055,309.099,309.143, 309.185,309.227,309.268,309.308,309.348 ,309.386,309.424,309.48,309.517,309.932 ,310.624,311.127,311.778,311.764,311.75 ,311.728,311.705,311.69,311.674,311.658 ,311.642,311.625,311.609,311.592, 311.574,311.557,311.539,311.521,311.484 ,311.445,311.425,311.405,311.384, 311.363,311.341,311.318,311.295,311.272 ,311.241,311.197,311.171,311.145, 311.118,311.09,311.061,311.033,311.002, 310.971,310.939,310.907,310.873,310.838 ,310.803,310.766,310.728,310.689, 310.649,310.607,309.877)
ORBIT_NUMBER = 5354
ORBITAL_ECCENTRICITY = 0.571
ORBITAL_INCLINATION = 86.74
ORBITAL_SEMIMAJOR_AXIS = 8680.84
PERIAPSIS_ALTITUDE = 341.38
PERIAPSIS_ARGUMENT_ANGLE = 136.42
PERIAPSIS_TIME = 2008-03-03T10:53:31.000Z
SPACECRAFT_ORIENTATION = (0.0,-1.0,0.0)
^MEX_ORIENTATION_DESC = "MEX_ORIENTATION_DESC.TXT"
SPACECRAFT_POINTING_MODE = NADIR
^MEX_POINTING_DESC = "MEX_POINTING_DESC.TXT"
RIGHT_ASCENSION = -1e+32
DECLINATION = -1e+32
OFFSET_ANGLE = -1e+32
SPACECRAFT_SOLAR_DISTANCE = 2.4558e+08
TARGET_NAME = MARS
/* CAMERA DATA ELEMENTS */
DETECTOR_TEMPERATURE = 17.351
FOCAL_PLANE_TEMPERATURE = 8.1755
INST_CMPRS_NAME = "DISCRETE COSINE TRANSFORMATION (DCT)"
INST_CMPRS_RATIO = 19.9336
INST_CMPRS_QUALITY = 0
INST_CMPRS_QUANTZ_TBL_ID = 0
INSTRUMENT_TEMPERATURE = 11.0301
LENS_TEMPERATURE = 8.7872
MACROPIXEL_SIZE = 4
MISSING_FRAMES = 0
PIXEL_SUBSAMPLING_FLAG = N
SIGNAL_CHAIN_ID = 2
/* RADIOMETRIC DATA ELEMENTS */
BANDWIDTH = 81.0
CENTER_FILTER_WAVELENGTH = 955.5
RADIANCE_OFFSET = 0.54983
RADIANCE_SCALING_FACTOR = 0.00785076
REFLECTANCE_SCALING_FACTOR = 0.00102146
MEX:REFLECTANCE_OFFSET = 0.0715385
/* IMAGE OBJECT DEFINITIONS */
OBJECT = IMAGE
  INTERCHANGE_FORMAT = BINARY
  LINES = 15245
  LINE_SAMPLES = 2923
  SAMPLE_TYPE = UNSIGNED_INTEGER
  SAMPLE_BITS = 8
  BANDS = 1
  BAND_STORAGE_TYPE = BAND_SEQUENTIAL
  MAXIMUM = 255
  MEAN = 105.243
  MINIMUM = 1
  STANDARD_DEVIATION = 43.8741
END_OBJECT = IMAGE
/* MAP OBJECT DEFINITIONS */
OBJECT = IMAGE_MAP_PROJECTION
  ^DATA_SET_MAP_PROJECTION_CATALOG= "DSMAP.CAT"
  A_AXIS_RADIUS = 3396.0
  B_AXIS_RADIUS = 3396.0
  C_AXIS_RADIUS = 3396.0
  CENTER_LATITUDE = 0.0
  CENTER_LONGITUDE = 310.0
  COORDINATE_SYSTEM_NAME = PLANETOGRAPHIC
  COORDINATE_SYSTEM_TYPE = "BODY-FIXED ROTATING"
  EASTERNMOST_LONGITUDE = 311.778
  FIRST_STANDARD_PARALLEL = "N/A"
  LINE_FIRST_PIXEL = 1
  LINE_LAST_PIXEL = 15245
  LINE_PROJECTION_OFFSET = 79004.375
  MAP_PROJECTION_ROTATION = 0.0
  MAP_PROJECTION_TYPE = SINUSOIDAL
  MAP_RESOLUTION = 1185.42760773333
  MAP_SCALE = 0.05
  MAXIMUM_LATITUDE = 66.7221
  MINIMUM_LATITUDE = 53.7782
  POSITIVE_LONGITUDE_DIRECTION = EAST
  REFERENCE_LATITUDE = "N/A"
  REFERENCE_LONGITUDE = "N/A"
  SAMPLE_FIRST_PIXEL = 1
  SAMPLE_LAST_PIXEL = 2923
  SAMPLE_PROJECTION_OFFSET = 1697.125
  SECOND_STANDARD_PARALLEL = "N/A"
  WESTERNMOST_LONGITUDE = 306.345
END_OBJECT = IMAGE_MAP_PROJECTION
/* The JPEG2000 image data file associated with this label. */
OBJECT = COMPRESSED_FILE
  FILE_NAME = "H5354_0000_IR3.JP2"
  RECORD_TYPE = UNDEFINED
  FILE_RECORDS = UNK
  ENCODING_TYPE = "JP2"
  INTERCHANGE_FORMAT = BINARY
  UNCOMPRESSED_FILE_NAME = "H5354_0000_IR3.IMG"
  REQUIRED_STORAGE_BYTES = "44584519"
  ^DESCRIPTION = "JP2INFO.TXT"
END_OBJECT = COMPRESSED_FILE
END
