PDS_VERSION_ID = PDS3
/* FILE DATA ELEMENTS */
RECORD_TYPE = STREAM
/* POINTERS TO DATA OBJECTS */
^COMPRESSED_FILE = "H5356_0000_RE3.JP2"
/* IDENTIFICATION DATA ELEMENTS */
DATA_SET_ID = "MEX-M-HRSC-5-REFDR-MAPPROJECTED-V3.0"
DATA_SET_NAME = "MARS EXPRESS HRSC MAP PROJECTED REFDR V3.0"
DETECTOR_ID = MEX_HRSC_RED
EVENT_TYPE = "MARS-REGIONAL-MAPPING-Te-Pf-Mw"
INSTRUMENT_HOST_ID = MEX
INSTRUMENT_HOST_NAME = "MARS EXPRESS"
INSTRUMENT_ID = HRSC
INSTRUMENT_NAME = "HIGH RESOLUTION STEREO CAMERA"
MISSION_NAME = "MARS EXPRESS"
MISSION_PHASE_NAME = ME_Phase_11
PROCESSING_LEVEL_ID = 3
PRODUCT_CREATION_TIME = 2016-05-14T01:01:03.000Z
PRODUCT_ID = "H5356_0000_RE3.JP2"
RELEASE_ID = 0061
REVISION_ID = 0000
/* QUALITY DATA ELEMENTS */
DATA_QUALITY_ID = 1
DATA_QUALITY_DESC = "Data calculated based on original SPICE kernels"
/* TIME DATA ELEMENTS */
SPACECRAFT_CLOCK_START_COUNT = "1/0152670578.09050"
SPACECRAFT_CLOCK_STOP_COUNT = "1/0152670845.56068"
START_TIME = 2008-03-04T00:30:50.784Z
STOP_TIME = 2008-03-04T00:34:02.563Z
/* ORBITAL DATA ELEMENTS */
ASCENDING_NODE_LONGITUDE = 116.78
MAXIMUM_RESOLUTION = 58.1
FOOTPRINT_POINT_LATITUDE = (60.1151,60.1029,60.0854,60.0615, 60.0482,60.0309,60.015,59.8229,59.5389, 59.1129,58.6865,58.4021,58.1175,57.833, 57.5482,57.2632,56.9785,56.5583,56.3192 ,55.9608,55.6023,55.3633,55.0044, 54.7655,54.5262,54.2871,54.048,53.8087, 53.5694,53.2106,52.9714,52.6126,52.3735 ,52.1342,51.7752,51.4164,51.1772, 50.8183,50.5792,50.3401,49.9814,49.623, 49.3839,49.145,48.9062,48.5477,48.1899, 47.9513,47.7129,47.5688,47.5769,47.5863 ,47.5935,47.6009,47.6063,47.8492, 48.2079,48.4476,48.807,49.0465,49.2864, 49.5261,49.7657,50.0057,50.2455,50.4855 ,50.8457,51.0857,51.3259,51.6861, 51.9261,52.1663,52.4065,52.7668,53.0072 ,53.3679,53.608,53.9685,54.2088,54.4491 ,54.8096,55.05,55.4105,55.6511,56.0116, 56.2515,56.4917,56.7417,56.8851,57.1716 ,57.4581,57.7445,58.0311,58.3175, 58.6038,59.0331,59.3194,59.6054,59.8915 ,60.1151)
FOOTPRINT_POINT_LONGITUDE = (110.914,110.547,110.057,109.446, 109.129,108.739,108.397,108.367,108.431 ,108.523,108.611,108.669,108.725,108.78 ,108.833,108.886,108.937,109.01,109.051 ,109.11,109.168,109.205,109.261,109.296 ,109.332,109.366,109.4,109.433,109.466, 109.513,109.544,109.59,109.619,109.648, 109.691,109.732,109.759,109.798,109.824 ,109.849,109.886,109.922,109.945, 109.968,109.99,110.023,110.055,110.075, 110.096,110.36,110.629,110.965,111.234, 111.537,111.773,111.903,111.887,111.877 ,111.86,111.849,111.838,111.827,111.815 ,111.803,111.791,111.779,111.761, 111.748,111.735,111.716,111.702,111.689 ,111.675,111.654,111.639,111.617, 111.602,111.579,111.564,111.548,111.523 ,111.507,111.482,111.464,111.438,111.42 ,111.401,111.382,111.371,111.347, 111.324,111.3,111.276,111.25,111.225, 111.185,111.159,111.131,111.103, 110.914)
ORBIT_NUMBER = 5356
ORBITAL_ECCENTRICITY = 0.571
ORBITAL_INCLINATION = 86.74
ORBITAL_SEMIMAJOR_AXIS = 8688.82
PERIAPSIS_ALTITUDE = 340.98
PERIAPSIS_ARGUMENT_ANGLE = 136.04
PERIAPSIS_TIME = 2008-03-04T00:34:33.000Z
SPACECRAFT_ORIENTATION = (0.0,-1.0,0.0)
^MEX_ORIENTATION_DESC = "MEX_ORIENTATION_DESC.TXT"
SPACECRAFT_POINTING_MODE = NADIR
^MEX_POINTING_DESC = "MEX_POINTING_DESC.TXT"
RIGHT_ASCENSION = -1e+32
DECLINATION = -1e+32
OFFSET_ANGLE = -1e+32
SPACECRAFT_SOLAR_DISTANCE = 2.45638e+08
TARGET_NAME = MARS
/* CAMERA DATA ELEMENTS */
DETECTOR_TEMPERATURE = 18.3705
FOCAL_PLANE_TEMPERATURE = 8.3794
INST_CMPRS_NAME = "DISCRETE COSINE TRANSFORMATION (DCT)"
INST_CMPRS_RATIO = 28.8979
INST_CMPRS_QUALITY = 0
INST_CMPRS_QUANTZ_TBL_ID = 0
INSTRUMENT_TEMPERATURE = 12.8652
LENS_TEMPERATURE = 8.5833
MACROPIXEL_SIZE = 4
MISSING_FRAMES = 0
PIXEL_SUBSAMPLING_FLAG = N
SIGNAL_CHAIN_ID = 2
/* RADIOMETRIC DATA ELEMENTS */
BANDWIDTH = 48.0
CENTER_FILTER_WAVELENGTH = 748.0
RADIANCE_OFFSET = 1.10242
RADIANCE_SCALING_FACTOR = 0.00286094
REFLECTANCE_SCALING_FACTOR = 0.000393935
MEX:REFLECTANCE_OFFSET = 0.151796
/* IMAGE OBJECT DEFINITIONS */
OBJECT = IMAGE
  INTERCHANGE_FORMAT = BINARY
  LINES = 15005
  LINE_SAMPLES = 2346
  SAMPLE_TYPE = UNSIGNED_INTEGER
  SAMPLE_BITS = 8
  BANDS = 1
  BAND_STORAGE_TYPE = BAND_SEQUENTIAL
  MAXIMUM = 255
  MEAN = 80.8752
  MINIMUM = 1
  STANDARD_DEVIATION = 41.9007
END_OBJECT = IMAGE
/* MAP OBJECT DEFINITIONS */
OBJECT = IMAGE_MAP_PROJECTION
  ^DATA_SET_MAP_PROJECTION_CATALOG= "DSMAP.CAT"
  A_AXIS_RADIUS = 3396.0
  B_AXIS_RADIUS = 3396.0
  C_AXIS_RADIUS = 3396.0
  CENTER_LATITUDE = 0.0
  CENTER_LONGITUDE = 111.0
  COORDINATE_SYSTEM_NAME = PLANETOGRAPHIC
  COORDINATE_SYSTEM_TYPE = "BODY-FIXED ROTATING"
  EASTERNMOST_LONGITUDE = 111.903
  FIRST_STANDARD_PARALLEL = "N/A"
  LINE_FIRST_PIXEL = 1
  LINE_LAST_PIXEL = 15005
  LINE_PROJECTION_OFFSET = 71365.625
  MAP_PROJECTION_ROTATION = 0.0
  MAP_PROJECTION_TYPE = SINUSOIDAL
  MAP_RESOLUTION = 1185.42760773333
  MAP_SCALE = 0.05
  MAXIMUM_LATITUDE = 60.1151
  MINIMUM_LATITUDE = 47.5688
  POSITIVE_LONGITUDE_DIRECTION = EAST
  REFERENCE_LATITUDE = "N/A"
  REFERENCE_LONGITUDE = "N/A"
  SAMPLE_FIRST_PIXEL = 1
  SAMPLE_LAST_PIXEL = 2346
  SAMPLE_PROJECTION_OFFSET = 1617.375
  SECOND_STANDARD_PARALLEL = "N/A"
  WESTERNMOST_LONGITUDE = 108.367
END_OBJECT = IMAGE_MAP_PROJECTION
/* The JPEG2000 image data file associated with this label. */
OBJECT = COMPRESSED_FILE
  FILE_NAME = "H5356_0000_RE3.JP2"
  RECORD_TYPE = UNDEFINED
  FILE_RECORDS = UNK
  ENCODING_TYPE = "JP2"
  INTERCHANGE_FORMAT = BINARY
  UNCOMPRESSED_FILE_NAME = "H5356_0000_RE3.IMG"
  REQUIRED_STORAGE_BYTES = "35220498"
  ^DESCRIPTION = "JP2INFO.TXT"
END_OBJECT = COMPRESSED_FILE
END
