PDS_VERSION_ID = PDS3
/* FILE DATA ELEMENTS */
RECORD_TYPE = STREAM
/* POINTERS TO DATA OBJECTS */
^COMPRESSED_FILE = "H5357_0000_BL3.JP2"
/* IDENTIFICATION DATA ELEMENTS */
DATA_SET_ID = "MEX-M-HRSC-5-REFDR-MAPPROJECTED-V3.0"
DATA_SET_NAME = "MARS EXPRESS HRSC MAP PROJECTED REFDR V3.0"
DETECTOR_ID = MEX_HRSC_BLUE
EVENT_TYPE = "MARS-REGIONAL-MAPPING-Te-Gl-Pf"
INSTRUMENT_HOST_ID = MEX
INSTRUMENT_HOST_NAME = "MARS EXPRESS"
INSTRUMENT_ID = HRSC
INSTRUMENT_NAME = "HIGH RESOLUTION STEREO CAMERA"
MISSION_NAME = "MARS EXPRESS"
MISSION_PHASE_NAME = ME_Phase_11
PROCESSING_LEVEL_ID = 3
PRODUCT_CREATION_TIME = 2016-05-14T01:01:03.000Z
PRODUCT_ID = "H5357_0000_BL3.JP2"
RELEASE_ID = 0061
REVISION_ID = 0000
/* QUALITY DATA ELEMENTS */
DATA_QUALITY_ID = 2
DATA_QUALITY_DESC = "Data calculated based on photogrammetrically improved orbit and attitude data"
/* TIME DATA ELEMENTS */
SPACECRAFT_CLOCK_START_COUNT = "1/0152695424.08242"
SPACECRAFT_CLOCK_STOP_COUNT = "1/0152695718.62737"
START_TIME = 2008-03-04T07:24:24.348Z
STOP_TIME = 2008-03-04T07:28:11.635Z
/* ORBITAL DATA ELEMENTS */
ASCENDING_NODE_LONGITUDE = 116.76
MAXIMUM_RESOLUTION = 55.1
FOOTPRINT_POINT_LATITUDE = (47.0339,47.0207,47.0062,47.0088, 46.7147,46.4205,45.9793,45.685,45.2436, 44.9494,44.655,44.3607,44.0665,43.625, 43.1838,42.7429,42.4488,42.1549,41.8609 ,41.5672,41.2735,40.9799,40.6862, 40.3928,39.953,39.6597,39.3666,39.0736, 38.7809,38.4884,38.1959,37.9035,37.6112 ,37.3192,37.0274,36.7356,36.4441, 36.1527,35.8618,35.5706,35.2799,34.9893 ,34.699,34.4088,34.119,33.8294,33.5399, 33.2508,32.8176,32.3181,32.3236,32.3287 ,32.3334,32.6221,33.0561,33.3469, 33.6366,33.9253,34.215,34.5058,34.7982, 35.0883,35.524,35.9614,36.253,36.5454, 36.8386,37.131,37.4215,37.7141,38.0068, 38.2996,38.593,38.8861,39.1796,39.62, 39.9137,40.2077,40.5015,40.7954,41.0907 ,41.5318,41.8255,42.1199,42.562,43.0041 ,43.2989,43.5937,43.8886,44.1835, 44.4786,44.7736,45.0687,45.3637,45.6589 ,45.954,46.2488,46.544,46.8389,47.0339)
FOOTPRINT_POINT_LONGITUDE = (11.7694,11.2291,10.7232,10.3271, 10.3492,10.3707,10.4019,10.4222,10.4518 ,10.4706,10.4894,10.5077,10.5253, 10.5512,10.5758,10.5991,10.6144,10.6291 ,10.6437,10.6575,10.671,10.6842,10.6971 ,10.7094,10.7272,10.7389,10.7501, 10.7609,10.7713,10.7811,10.7907,10.8002 ,10.8094,10.8181,10.8264,10.8346, 10.8424,10.8499,10.8567,10.864,10.8705, 10.8769,10.883,10.8888,10.8942,10.8993, 10.9042,10.9088,10.9151,11.0622,11.4455 ,11.9149,12.4478,12.4428,12.4366, 12.4348,12.4299,12.422,12.4159,12.4117, 12.4109,12.404,12.3937,12.3862,12.3805, 12.3763,12.3733,12.3681,12.3574,12.3515 ,12.3454,12.3392,12.3337,12.3271, 12.3211,12.3117,12.305,12.2986,12.2915, 12.2842,12.2799,12.2682,12.2592,12.2515 ,12.2405,12.2289,12.2208,12.2127, 12.2044,12.1957,12.1876,12.1789,12.1701 ,12.161,12.1518,12.1425,12.1322,12.1227 ,12.1122,11.7694)
ORBIT_NUMBER = 5357
ORBITAL_ECCENTRICITY = 0.571
ORBITAL_INCLINATION = 86.73
ORBITAL_SEMIMAJOR_AXIS = 8682.94
PERIAPSIS_ALTITUDE = 341.79
PERIAPSIS_ARGUMENT_ANGLE = 135.86
PERIAPSIS_TIME = 2008-03-04T07:25:04.000Z
SPACECRAFT_ORIENTATION = (0.0,-1.0,0.0)
^MEX_ORIENTATION_DESC = "MEX_ORIENTATION_DESC.TXT"
SPACECRAFT_POINTING_MODE = ACROSSTRACK
^MEX_POINTING_DESC = "MEX_POINTING_DESC.TXT"
RIGHT_ASCENSION = -1e+32
DECLINATION = -1e+32
OFFSET_ANGLE = 0.15
SPACECRAFT_SOLAR_DISTANCE = 2.45666e+08
TARGET_NAME = MARS
/* CAMERA DATA ELEMENTS */
DETECTOR_TEMPERATURE = 17.9627
FOCAL_PLANE_TEMPERATURE = 8.3794
INST_CMPRS_NAME = "DISCRETE COSINE TRANSFORMATION (DCT)"
INST_CMPRS_RATIO = 10.9103
INST_CMPRS_QUALITY = 0
INST_CMPRS_QUANTZ_TBL_ID = 0
INSTRUMENT_TEMPERATURE = 11.0301
LENS_TEMPERATURE = 7.3599
MACROPIXEL_SIZE = 4
MISSING_FRAMES = 0
PIXEL_SUBSAMPLING_FLAG = N
SIGNAL_CHAIN_ID = 2
/* RADIOMETRIC DATA ELEMENTS */
BANDWIDTH = 76.0
CENTER_FILTER_WAVELENGTH = 444.0
RADIANCE_OFFSET = 0.640281
RADIANCE_SCALING_FACTOR = 0.00151393
REFLECTANCE_SCALING_FACTOR = 9.38755e-05
MEX:REFLECTANCE_OFFSET = 0.0397025
/* IMAGE OBJECT DEFINITIONS */
OBJECT = IMAGE
  INTERCHANGE_FORMAT = BINARY
  LINES = 17481
  LINE_SAMPLES = 1850
  SAMPLE_TYPE = UNSIGNED_INTEGER
  SAMPLE_BITS = 8
  BANDS = 1
  BAND_STORAGE_TYPE = BAND_SEQUENTIAL
  MAXIMUM = 255
  MEAN = 124.237
  MINIMUM = 1
  STANDARD_DEVIATION = 24.6928
END_OBJECT = IMAGE
/* MAP OBJECT DEFINITIONS */
OBJECT = IMAGE_MAP_PROJECTION
  ^DATA_SET_MAP_PROJECTION_CATALOG= "DSMAP.CAT"
  A_AXIS_RADIUS = 3396.0
  B_AXIS_RADIUS = 3396.0
  C_AXIS_RADIUS = 3396.0
  CENTER_LATITUDE = 0.0
  CENTER_LONGITUDE = 12.0
  COORDINATE_SYSTEM_NAME = PLANETOGRAPHIC
  COORDINATE_SYSTEM_TYPE = "BODY-FIXED ROTATING"
  EASTERNMOST_LONGITUDE = 12.4478
  FIRST_STANDARD_PARALLEL = "N/A"
  LINE_FIRST_PIXEL = 1
  LINE_LAST_PIXEL = 17481
  LINE_PROJECTION_OFFSET = 55783.125
  MAP_PROJECTION_ROTATION = 0.0
  MAP_PROJECTION_TYPE = SINUSOIDAL
  MAP_RESOLUTION = 1185.42760773333
  MAP_SCALE = 0.05
  MAXIMUM_LATITUDE = 47.0339
  MINIMUM_LATITUDE = 32.3181
  POSITIVE_LONGITUDE_DIRECTION = EAST
  REFERENCE_LATITUDE = "N/A"
  REFERENCE_LONGITUDE = "N/A"
  SAMPLE_FIRST_PIXEL = 1
  SAMPLE_LAST_PIXEL = 1850
  SAMPLE_PROJECTION_OFFSET = 1369.375
  SECOND_STANDARD_PARALLEL = "N/A"
  WESTERNMOST_LONGITUDE = 10.3271
END_OBJECT = IMAGE_MAP_PROJECTION
/* The JPEG2000 image data file associated with this label. */
OBJECT = COMPRESSED_FILE
  FILE_NAME = "H5357_0000_BL3.JP2"
  RECORD_TYPE = UNDEFINED
  FILE_RECORDS = UNK
  ENCODING_TYPE = "JP2"
  INTERCHANGE_FORMAT = BINARY
  UNCOMPRESSED_FILE_NAME = "H5357_0000_BL3.IMG"
  REQUIRED_STORAGE_BYTES = "32360200"
  ^DESCRIPTION = "JP2INFO.TXT"
END_OBJECT = COMPRESSED_FILE
END
